Workbook
Name Biblioteca_1: '1. Plano anual atividades'!$C$121
Name Biblioteca_2: '1. Plano anual atividades'!$C$122
Name Biblioteca_3: '1. Plano anual atividades'!$C$123
Name Biblioteca_4: '1. Plano anual atividades'!$C$124
Name Biblioteca_5: '1. Plano anual atividades'!$C$125
Name Biblioteca_6: '1. Plano anual atividades'!$C$126
Name Biblioteca_7: '1. Plano anual atividades'!$C$130

Sheet 1. Plano anual atividades
B2: Biblioteca escolar
B3: Plano anual de atividades
B4: Agrupamento/ Escola não agrupada
B5: Ano letivo
B7: Domínio A - Currículo, literacias e aprendizagens
F8: Responsáveis / Dinamizadores | I8: Projeto Educativo | U8: Escolas
B9: Objetivos | C9: Atividades | D9: PM | E9: AcBE | G9: Público-alvo | H9: Calendarização | I9: 1 | J9: 2 | K9: 3 | L9: 4 | M9: 5 | N9: 6 | O9: 7 | P9: 8 | Q9: 9 | R9: 10 | S9: Recursos | T9: Orçamento | U9: 1 | V9: 2 | W9: 3 | X9: 4 | Y9: 5 | Z9: 6 | AA9: 7 | AB9: 8 | AC9: 9 | AD9: 10
B31: Nº de atividades planificadas | C31: =COUNTA(C10:C30) -> 0 | T31: Nº de atividades planificadas por escola | U31: =COUNTIF(U10:U30, "■") -> 0 | V31: =COUNTIF(V10:V30, "■") -> 0 | W31: =COUNTIF(W10:W30, "■") -> 0 | X31: =COUNTIF(X10:X30, "■") -> 0 | Y31: =COUNTIF(Y10:Y30, "■") -> 0 | Z31: =COUNTIF(Z10:Z30, "■") -> 0 | AA31: =COUNTIF(AA10:AA30, "■") -> 0 | AB31: =COUNTIF(AB10:AB30, "■") -> 0 | ... AD31: =COUNTIF(AD10:AD30, "■") -> 0
B32: Observações
B34: Domínio B - Leitura e literacia
F35: Responsáveis / Dinamizadores | I35: Projeto Educativo | U35: Escolas
B36: Objetivos | C36: Atividades | D36: PM | E36: AcBE | G36: Público-alvo | H36: Calendarização | I36: 1 | J36: 2 | K36: 3 | L36: 4 | M36: 5 | N36: 6 | O36: 7 | P36: 8 | Q36: 9 | R36: 10 | S36: Recursos | T36: Orçamento | U36: 1 | V36: 2 | W36: 3 | X36: 4 | Y36: 5 | Z36: 6 | AA36: 7 | AB36: 8 | AC36: 9 | AD36: 10
B58: Nº de atividades planificadas | C58: =COUNTA(C37:C57) -> 0 | T58: Nº de atividades planificadas por escola | U58: =COUNTIF(U37:U57, "■") -> 0 | V58: =COUNTIF(V37:V57, "■") -> 0 | W58: =COUNTIF(W37:W57, "■") -> 0 | X58: =COUNTIF(X37:X57, "■") -> 0 | Y58: =COUNTIF(Y37:Y57, "■") -> 0 | Z58: =COUNTIF(Z37:Z57, "■") -> 0 | AA58: =COUNTIF(AA37:AA57, "■") -> 0 | AB58: =COUNTIF(AB37:AB57, "■") -> 0 | ... AD58: =COUNTIF(AD37:AD57, "■") -> 0
B59: Observações
B61: Domínio C - Projetos e parcerias
F62: Responsáveis / Dinamizadores | I62: Projeto Educativo | U62: Escolas
B63: Objetivos | C63: Atividades | D63: PM | E63: AcBE | G63: Público-alvo | H63: Calendarização | I63: 1 | J63: 2 | K63: 3 | L63: 4 | M63: 5 | N63: 6 | O63: 7 | P63: 8 | Q63: 9 | R63: 10 | S63: Recursos | T63: Orçamento | U63: 1 | V63: 2 | W63: 3 | X63: 4 | Y63: 5 | Z63: 6 | AA63: 7 | AB63: 8 | AC63: 9 | AD63: 10
B85: Nº de atividades planificadas | C85: =COUNTA(C64:C84) -> 0 | T85: Nº de atividades planificadas por escola | U85: =COUNTIF(U64:U84, "■") -> 0 | V85: =COUNTIF(V64:V84, "■") -> 0 | W85: =COUNTIF(W64:W84, "■") -> 0 | X85: =COUNTIF(X64:X84, "■") -> 0 | Y85: =COUNTIF(Y64:Y84, "■") -> 0 | Z85: =COUNTIF(Z64:Z84, "■") -> 0 | AA85: =COUNTIF(AA64:AA84, "■") -> 0 | AB85: =COUNTIF(AB64:AB84, "■") -> 0 | ... AD85: =COUNTIF(AD64:AD84, "■") -> 0
B86: Observações
B88: Domínio D - Gestão da biblioteca escolar
F89: Responsáveis / Dinamizadores | I89: Projeto Educativo | U89: Escolas
B90: Objetivos | C90: Atividades | D90: PM | E90: AcBE | G90: Público-alvo | H90: Calendarização | I90: 1 | J90: 2 | K90: 3 | L90: 4 | M90: 5 | N90: 6 | O90: 7 | P90: 8 | Q90: 9 | R90: 10 | S90: Recursos | T90: Orçamento | U90: 1 | V90: 2 | W90: 3 | X90: 4 | Y90: 5 | Z90: 6 | AA90: 7 | AB90: 8 | AC90: 9 | AD90: 10
B112: Nº de atividades planificadas | C112: =COUNTA(C91:C111) -> 0 | T112: Nº de atividades planificadas por escola | U112: =COUNTIF(U91:U111, "■") -> 0 | V112: =COUNTIF(V91:V111, "■") -> 0 | W112: =COUNTIF(W91:W111, "■") -> 0 | X112: =COUNTIF(X91:X111, "■") -> 0 | Y112: =COUNTIF(Y91:Y111, "■") -> 0 | Z112: =COUNTIF(Z91:Z111, "■") -> 0 | AA112: =COUNTIF(AA91:AA111, "■") -> 0 | AB112: =COUNTIF(AB91:AB111, "■") -> 0 | ... AD112: =COUNTIF(AD91:AD111, "■") -> 0
B113: Observações
B115: Total de atividades planificadas | C115: =SUM(C31,C58,C85,C112) -> 0 | T115: Nº de atividades planificadas por escola | U115: =SUM(U31,U58,U85,U112) -> 0 | V115: =SUM(V31,V58,V85,V112) -> 0 | W115: =SUM(W31,W58,W85,W112) -> 0 | X115: =SUM(X31,X58,X85,X112) -> 0 | Y115: =SUM(Y31,Y58,Y85,Y112) -> 0 | Z115: =SUM(Z31,Z58,Z85,Z112) -> 0 | AA115: =SUM(AA31,AA58,AA85,AA112) -> 0 | AB115: =SUM(AB31,AB58,AB85,AB112) -> 0 | ... AD115: =SUM(AD31,AD58,AD85,AD112) -> 0
B117: Observações:
B118: PM - Plano de melhoria; AcBE - Referencial Aprender com a biblioteca escolar
B120: Escola: | C120: Nome | G120: Tipo de instalação
B121: 1 | AF121: Biblioteca escolar
B122: 2 | AF122: Ponto de biblioteca
B123: 3 | AF123: Estação de livros
B124: 4 | AF124: A aguardar intervenção
B125: 5
B126: 6
B127: 7
B128: 8
B129: 9
B130: 10
B132: Projeto Educativo
B133: 1
...

Sheet 2. Monitorização
B2: Biblioteca escolar
B3: Recolha de evidências e indicadores de sucesso
B5: Domínio A - Currículo, literacias e aprendizagens
E6: Projeto Educativo | O6: N.º total | Q6: N.º de participações | R6: N.º de alunos envolvidos | T6: N.º participações de alunos | V6: N.º de docentes envolvidos | X6: N.º participações de docentes | AC6: Área de literacia | AF6: Área curricular e extracurricular | AM6: Alunos envolvidos | AR6: Docentes envolvidos | AW6: Nível de impacto | BA6: Projetos | BB6: Propostas RBE | BC6: Propostas de outras instituições nacionais ou internacionais | BD6: Propostas locais ou regionais
B7: Atividades planificadas | C7: Executada | D7: PM | E7: 1 | F7: 2 | G7: 3 | H7: 4 | I7: 5 | J7: 6 | K7: 7 | L7: 8 | M7: 9 | N7: 10 | O7: Turmas | P7: Aulas/ sessões | Q7: Turmas | R7: Individual | S7: Em turma | T7: Individual | U7: Em turma | V7: Individual | W7: Com turma | X7: Individual | Y7: Com turma | Z7: N.º de Pais e EE envolvidos | AA7: N.º de outros envolvidos | AB7: AcBE | AC7: L | AD7: I | AE7: M | AF7: L | AG7: CSH | AH7: MCE | AI7: ET | AJ7: ACT | AK7: ALF | AL7: Outras | AM7: Pré-Escolar | AN7: 1.º CEB | AO7: 2.º CEB | AP7: 3.º CEB | AQ7: Ensino Secundário | AR7: Pré-Escolar | AS7: 1.º CEB | AT7: 2.º CEB | AU7: 3.º CEB | AV7: Ensino Secundário | AW7: CC | AX7: AV | AY7: AS | AZ7: SCP | BE7: 7D | BF7: N.º alunos | BG7: aler+ | BH7: N.º alunos | BI7: ECC | BJ7: N.º alunos | BK7: CP | BL7: N.º alunos | BM7: CR | BN7: N.º alunos | BO7: CC | BP7: N.º alunos | BQ7: DIS | BR7: N.º alunos | BS7: DMLP | BT7: N.º alunos | BU7: ITEC | BV7: N.º alunos | BW7: JR | BX7: N.º alunos | BY7: JC | BZ7: N.º alunos | CA7: LECBE | CB7: N.º alunos | CC7: LFE | CD7: N.º alunos | CE7: L | CF7: N.º alunos | CG7: M | CH7: N.º alunos | CI7: MIBE | CJ7: N.º alunos | CK7: MV | CL7: N.º alunos | CM7: NGL | CN7: N.º alunos | CO7: P | CP7: N.º alunos | CQ7: PE | CR7: N.º alunos | CS7: RO | CT7: N.º alunos | CU7: SL | CV7: N.º alunos | CW7: SAI | CX7: N.º alunos | CY7: TJPL | CZ7: N.º alunos | DA7: VL | DB7: N.º alunos | DC7: O | DD7: N.º alunos | DF7: PNA | DG7: N.º alunos | DH7: PNC | DI7: N.º alunos | DJ7: PNFF | DK7: N.º alunos | DL7: O | DM7: N.º alunos | DO7: HCBE | DP7: N.º alunos | DQ7: JE | DR7: N.º alunos | DS7: RE | DT7: N.º alunos | DU7: TVE | DV7: N.º alunos | DW7: O | DX7: N.º alunos
B8: ='1. Plano anual atividades'!C10 -> 0 | D8: ='1. Plano anual atividades'!D10 -> 0 | E8: ='1. Plano anual atividades'!I10 -> 0 | F8: ='1. Plano anual atividades'!J10 -> 0 | G8: ='1. Plano anual atividades'!K10 -> 0 | H8: ='1. Plano anual atividades'!L10 -> 0 | I8: ='1. Plano anual atividades'!M10 -> 0 | J8: ='1. Plano anual atividades'!N10 -> 0 | K8: ='1. Plano anual atividades'!O10 -> 0 | L8: ='1. Plano anual atividades'!P10 -> 0 | ... N8: ='1. Plano anual atividades'!R10 -> 0 | Q8: =O8*P8 -> 0 | T8: =P8*R8 -> 0 | U8: =P8*S8 -> 0 | X8: =P8*V8 -> 0 | Y8: =P8*W8 -> 0 | AB8: ='1. Plano anual atividades'!E10 -> 0 | BE8: =IF($BB8="7 dias com os media", "■",0) -> 0 | BF8: =IF(BE8="■", $R8+$S8) -> FALSE | BG8: =IF($BB8="aLer mais e melhor", "■",0) -> 0 | BH8: =IF(BG8="■", $R8+$S8) -> FALSE | BI8: =IF($BB8="Campeonato de Escrita e Ciência Criativa", "■",0) -> 0 | BJ8: =IF(BI8="■", $R8+$S8) -> FALSE | BK8: =IF($BB8="Cientificamente provável", "■",0) -> 0 | BL8: =IF(BK8="■", $R8+$S8) -> FALSE | BM8: =IF($BB8="Clássicos em rede", "■",0) -> 0 | BN8: =IF(BM8="■", $R8+$S8) -> FALSE | BO8: =IF($BB8="Conto Contigo", "■",0) -> 0 | BP8: =IF(BO8="■", $R8+$S8) -> FALSE | BQ8: =IF($BB8="Dia da internet Mais Segura", "■",0) -> 0 | BR8: =IF(BQ8="■", $R8+$S8) -> FALSE | BS8: =IF($BB8="Dia Mundial da Língua Portuguesa", "■",0) -> 0 | BT8: =IF(BS8="■", $R8+$S8) -> FALSE | BU8: =IF($BB8="Isto também é comigo", "■",0) -> 0 | BV8: =IF(BU8="■", $R8+$S8) -> FALSE | BW8: =IF($BB8="Jornalistas em rede", "■",0) -> 0 | BX8: =IF(BW8="■", $R8+$S8) -> FALSE | BY8: =IF($BB8="Juntos a criar", "■",0) -> 0 | BZ8: =IF(BY8="■", $R8+$S8) -> FALSE | CA8: =IF($BB8="Ler eescrever mais com a BE", "■",0) -> 0 | CB8: =IF(CA8="■", $R8+$S8) -> FALSE | CC8: =IF($BB8="Ler fora da escola", "■",0) -> 0 | CD8: =IF(CC8="■", $R8+$S8) -> FALSE | CE8: =IF($BB8="Lidera", "■",0) -> 0 | CF8: =IF(CE8="■", $R8+$S8) -> FALSE | CG8: =IF($BB8="Media@ção", "■",0) -> 0 | CH8: =IF(CG8="■", $R8+$S8) -> FALSE | CI8: =IF($BB8="Mês Internacional da Biblioteca Escolar", "■",0) -> 0 | CJ8: =IF(CI8="■", $R8+$S8) -> FALSE | CK8: =IF($BB8="Miúdos a votos", "■",0) -> 0 | CL8: =IF(CK8="■", $R8+$S8) -> FALSE | CM8: =IF($BB8="Newton gostava de ler", "■",0) -> 0 | CN8: =IF(CM8="■", $R8+$S8) -> FALSE | CO8: =IF($BB8="Proliteracias", "■",0) -> 0 | CP8: =IF(CO8="■", $R8+$S8) -> FALSE | CQ8: =IF($BB8="PÚBLICO na Escola", "■",0) -> 0 | CR8: =IF(CQ8="■", $R8+$S8) -> FALSE | CS8: =IF($BB8="READ ON Portugal", "■",0) -> 0 | CT8: =IF(CS8="■", $R8+$S8) -> FALSE | CU8: =IF($BB8="Semana da leitura", "■",0) -> 0 | CV8: =IF(CU8="■", $R8+$S8) -> FALSE | CW8: =IF($BB8="Supercharged by IA", "■",0) -> 0 | CX8: =IF(CW8="■", $R8+$S8) -> FALSE | CY8: =IF($BB8="Todos Juntos Podemos Ler", "■",0) -> 0 | CZ8: =IF(CY8="■", $R8+$S8) -> FALSE | DA8: =IF($BB8="Voluntários de leitura", "■",0) -> 0 | DB8: =IF(DA8="■", $R8+$S8) -> FALSE | DC8: =IF($BB8="Outra(s)", "■",0) -> 0 | DD8: =IF(DC8="■", $R8+$S8) -> FALSE | DF8: =IF($BC8="Plano Nacional das Artes", "■",0) -> 0 | DG8: =IF(DF8="■", $R8+$S8) -> FALSE | DH8: =IF($BC8="Plano Nacional de Cinema", "■",0) -> 0 | DI8: =IF(DH8="■", $R8+$S8) -> FALSE | DJ8: =IF($BC8="Plano Nacional de Formação Financeira", "■",0) -> 0 | DK8: =IF(DJ8="■", $R8+$S8) -> FALSE | DL8: =IF($BC8="Outra(s)", "■",0) -> 0 | DM8: =IF(DL8="■", $R8+$S8) -> FALSE | DO8: =IF($BD8="Histórias com Ciência na Biblioteca Escolar", "■",0) -> 0 | DP8: =IF(DO8="■", $R8+$S8) -> FALSE | DQ8: =IF($BD8="Jornal escolar", "■",0) -> 0 | DR8: =IF(DQ8="■", $R8+$S8) -> FALSE | DS8: =IF($BD8="Rádio escolar", "■",0) -> 0 | DT8: =IF(DS8="■", $R8+$S8) -> FALSE | DU8: =IF($BD8="TV escolar", "■",0) -> 0 | DV8: =IF(DU8="■", $R8+$S8) -> FALSE | DW8: =IF($BD8="Outra(s)", "■",0) -> 0 | DX8: =IF(DW8="■", $R8+$S8) -> FALSE
B9: ='1. Plano anual atividades'!C11 -> 0 | D9: ='1. Plano anual atividades'!D11 -> 0 | E9: ='1. Plano anual atividades'!I11 -> 0 | F9: ='1. Plano anual atividades'!J11 -> 0 | G9: ='1. Plano anual atividades'!K11 -> 0 | H9: ='1. Plano anual atividades'!L11 -> 0 | I9: ='1. Plano anual atividades'!M11 -> 0 | J9: ='1. Plano anual atividades'!N11 -> 0 | K9: ='1. Plano anual atividades'!O11 -> 0 | L9: ='1. Plano anual atividades'!P11 -> 0 | ... N9: ='1. Plano anual atividades'!R11 -> 0 | Q9: =O9*P9 -> 0 | T9: =P9*R9 -> 0 | U9: =P9*S9 -> 0 | X9: =P9*V9 -> 0 | Y9: =P9*W9 -> 0 | AB9: ='1. Plano anual atividades'!E11 -> 0 | BE9: =IF($BB9="7 dias com os media", "■",0) -> 0 | BF9: =IF(BE9="■", $R9+$S9) -> FALSE | BG9: =IF($BB9="aLer mais e melhor", "■",0) -> 0 | BH9: =IF(BG9="■", $R9+$S9) -> FALSE | BI9: =IF($BB9="Campeonato de Escrita e Ciência Criativa", "■",0) -> 0 | BJ9: =IF(BI9="■", $R9+$S9) -> FALSE | BK9: =IF($BB9="Cientificamente provável", "■",0) -> 0 | BL9: =IF(BK9="■", $R9+$S9) -> FALSE | BM9: =IF($BB9="Clássicos em rede", "■",0) -> 0 | BN9: =IF(BM9="■", $R9+$S9) -> FALSE | BO9: =IF($BB9="Conto Contigo", "■",0) -> 0 | BP9: =IF(BO9="■", $R9+$S9) -> FALSE | BQ9: =IF($BB9="Dia da internet Mais Segura", "■",0) -> 0 | BR9: =IF(BQ9="■", $R9+$S9) -> FALSE | BS9: =IF($BB9="Dia Mundial da Língua Portuguesa", "■",0) -> 0 | BT9: =IF(BS9="■", $R9+$S9) -> FALSE | BU9: =IF($BB9="Isto também é comigo", "■",0) -> 0 | BV9: =IF(BU9="■", $R9+$S9) -> FALSE | BW9: =IF($BB9="Jornalistas em rede", "■",0) -> 0 | BX9: =IF(BW9="■", $R9+$S9) -> FALSE | BY9: =IF($BB9="Juntos a criar", "■",0) -> 0 | BZ9: =IF(BY9="■", $R9+$S9) -> FALSE | CA9: =IF($BB9="Ler eescrever mais com a BE", "■",0) -> 0 | CB9: =IF(CA9="■", $R9+$S9) -> FALSE | CC9: =IF($BB9="Ler fora da escola", "■",0) -> 0 | CD9: =IF(CC9="■", $R9+$S9) -> FALSE | CE9: =IF($BB9="Lidera", "■",0) -> 0 | CF9: =IF(CE9="■", $R9+$S9) -> FALSE | CG9: =IF($BB9="Media@ção", "■",0) -> 0 | CH9: =IF(CG9="■", $R9+$S9) -> FALSE | CI9: =IF($BB9="Mês Internacional da Biblioteca Escolar", "■",0) -> 0 | CJ9: =IF(CI9="■", $R9+$S9) -> FALSE | CK9: =IF($BB9="Miúdos a votos", "■",0) -> 0 | CL9: =IF(CK9="■", $R9+$S9) -> FALSE | CM9: =IF($BB9="Newton gostava de ler", "■",0) -> 0 | CN9: =IF(CM9="■", $R9+$S9) -> FALSE | CO9: =IF($BB9="Proliteracias", "■",0) -> 0 | CP9: =IF(CO9="■", $R9+$S9) -> FALSE | CQ9: =IF($BB9="PÚBLICO na Escola", "■",0) -> 0 | CR9: =IF(CQ9="■", $R9+$S9) -> FALSE | CS9: =IF($BB9="READ ON Portugal", "■",0) -> 0 | CT9: =IF(CS9="■", $R9+$S9) -> FALSE | CU9: =IF($BB9="Semana da leitura", "■",0) -> 0 | CV9: =IF(CU9="■", $R9+$S9) -> FALSE | CW9: =IF($BB9="Supercharged by IA", "■",0) -> 0 | CX9: =IF(CW9="■", $R9+$S9) -> FALSE | CY9: =IF($BB9="Todos Juntos Podemos Ler", "■",0) -> 0 | CZ9: =IF(CY9="■", $R9+$S9) -> FALSE | DA9: =IF($BB9="Voluntários de leitura", "■",0) -> 0 | DB9: =IF(DA9="■", $R9+$S9) -> FALSE | DC9: =IF($BB9="Outra(s)", "■",0) -> 0 | DD9: =IF(DC9="■", $R9+$S9) -> FALSE | DF9: =IF($BC9="Plano Nacional das Artes", "■",0) -> 0 | DG9: =IF(DF9="■", $R9+$S9) -> FALSE | DH9: =IF($BC9="Plano Nacional de Cinema", "■",0) -> 0 | DI9: =IF(DH9="■", $R9+$S9) -> FALSE | DJ9: =IF($BC9="Plano Nacional de Formação Financeira", "■",0) -> 0 | DK9: =IF(DJ9="■", $R9+$S9) -> FALSE | DL9: =IF($BC9="Outra(s)", "■",0) -> 0 | DM9: =IF(DL9="■", $R9+$S9) -> FALSE | DO9: =IF($BD9="Histórias com Ciência na Biblioteca Escolar", "■",0) -> 0 | DP9: =IF(DO9="■", $R9+$S9) -> FALSE | DQ9: =IF($BD9="Jornal escolar", "■",0) -> 0 | DR9: =IF(DQ9="■", $R9+$S9) -> FALSE | DS9: =IF($BD9="Rádio escolar", "■",0) -> 0 | DT9: =IF(DS9="■", $R9+$S9) -> FALSE | DU9: =IF($BD9="TV escolar", "■",0) -> 0 | DV9: =IF(DU9="■", $R9+$S9) -> FALSE | DW9: =IF($BD9="Outra(s)", "■",0) -> 0 | DX9: =IF(DW9="■", $R9+$S9) -> FALSE
B10: ='1. Plano anual atividades'!C12 -> 0 | D10: ='1. Plano anual atividades'!D12 -> 0 | E10: ='1. Plano anual atividades'!I12 -> 0 | F10: ='1. Plano anual atividades'!J12 -> 0 | G10: ='1. Plano anual atividades'!K12 -> 0 | H10: ='1. Plano anual atividades'!L12 -> 0 | I10: ='1. Plano anual atividades'!M12 -> 0 | J10: ='1. Plano anual atividades'!N12 -> 0 | K10: ='1. Plano anual atividades'!O12 -> 0 | L10: ='1. Plano anual atividades'!P12 -> 0 | ... N10: ='1. Plano anual atividades'!R12 -> 0 | Q10: =O10*P10 -> 0 | T10: =P10*R10 -> 0 | U10: =P10*S10 -> 0 | X10: =P10*V10 -> 0 | Y10: =P10*W10 -> 0 | AB10: ='1. Plano anual atividades'!E12 -> 0 | BE10: =IF($BB10="7 dias com os media", "■",0) -> 0 | BF10: =IF(BE10="■", $R10+$S10) -> FALSE | BG10: =IF($BB10="aLer mais e melhor", "■",0) -> 0 | BH10: =IF(BG10="■", $R10+$S10) -> FALSE | BI10: =IF($BB10="Campeonato de Escrita e Ciência Criativa", "■",0) -> 0 | BJ10: =IF(BI10="■", $R10+$S10) -> FALSE | BK10: =IF($BB10="Cientificamente provável", "■",0) -> 0 | BL10: =IF(BK10="■", $R10+$S10) -> FALSE | BM10: =IF($BB10="Clássicos em rede", "■",0) -> 0 | BN10: =IF(BM10="■", $R10+$S10) -> FALSE | BO10: =IF($BB10="Conto Contigo", "■",0) -> 0 | BP10: =IF(BO10="■", $R10+$S10) -> FALSE | BQ10: =IF($BB10="Dia da internet Mais Segura", "■",0) -> 0 | BR10: =IF(BQ10="■", $R10+$S10) -> FALSE | BS10: =IF($BB10="Dia Mundial da Língua Portuguesa", "■",0) -> 0 | BT10: =IF(BS10="■", $R10+$S10) -> FALSE | BU10: =IF($BB10="Isto também é comigo", "■",0) -> 0 | BV10: =IF(BU10="■", $R10+$S10) -> FALSE | BW10: =IF($BB10="Jornalistas em rede", "■",0) -> 0 | BX10: =IF(BW10="■", $R10+$S10) -> FALSE | BY10: =IF($BB10="Juntos a criar", "■",0) -> 0 | BZ10: =IF(BY10="■", $R10+$S10) -> FALSE | CA10: =IF($BB10="Ler eescrever mais com a BE", "■",0) -> 0 | CB10: =IF(CA10="■", $R10+$S10) -> FALSE | CC10: =IF($BB10="Ler fora da escola", "■",0) -> 0 | CD10: =IF(CC10="■", $R10+$S10) -> FALSE | CE10: =IF($BB10="Lidera", "■",0) -> 0 | CF10: =IF(CE10="■", $R10+$S10) -> FALSE | CG10: =IF($BB10="Media@ção", "■",0) -> 0 | CH10: =IF(CG10="■", $R10+$S10) -> FALSE | CI10: =IF($BB10="Mês Internacional da Biblioteca Escolar", "■",0) -> 0 | CJ10: =IF(CI10="■", $R10+$S10) -> FALSE | CK10: =IF($BB10="Miúdos a votos", "■",0) -> 0 | CL10: =IF(CK10="■", $R10+$S10) -> FALSE | CM10: =IF($BB10="Newton gostava de ler", "■",0) -> 0 | CN10: =IF(CM10="■", $R10+$S10) -> FALSE | CO10: =IF($BB10="Proliteracias", "■",0) -> 0 | CP10: =IF(CO10="■", $R10+$S10) -> FALSE | CQ10: =IF($BB10="PÚBLICO na Escola", "■",0) -> 0 | CR10: =IF(CQ10="■", $R10+$S10) -> FALSE | CS10: =IF($BB10="READ ON Portugal", "■",0) -> 0 | CT10: =IF(CS10="■", $R10+$S10) -> FALSE | CU10: =IF($BB10="Semana da leitura", "■",0) -> 0 | CV10: =IF(CU10="■", $R10+$S10) -> FALSE | CW10: =IF($BB10="Supercharged by IA", "■",0) -> 0 | CX10: =IF(CW10="■", $R10+$S10) -> FALSE | CY10: =IF($BB10="Todos Juntos Podemos Ler", "■",0) -> 0 | CZ10: =IF(CY10="■", $R10+$S10) -> FALSE | DA10: =IF($BB10="Voluntários de leitura", "■",0) -> 0 | DB10: =IF(DA10="■", $R10+$S10) -> FALSE | DC10: =IF($BB10="Outra(s)", "■",0) -> 0 | DD10: =IF(DC10="■", $R10+$S10) -> FALSE | DF10: =IF($BC10="Plano Nacional das Artes", "■",0) -> 0 | DG10: =IF(DF10="■", $R10+$S10) -> FALSE | DH10: =IF($BC10="Plano Nacional de Cinema", "■",0) -> 0 | DI10: =IF(DH10="■", $R10+$S10) -> FALSE | DJ10: =IF($BC10="Plano Nacional de Formação Financeira", "■",0) -> 0 | DK10: =IF(DJ10="■", $R10+$S10) -> FALSE | DL10: =IF($BC10="Outra(s)", "■",0) -> 0 | DM10: =IF(DL10="■", $R10+$S10) -> FALSE | DO10: =IF($BD10="Histórias com Ciência na Biblioteca Escolar", "■",0) -> 0 | DP10: =IF(DO10="■", $R10+$S10) -> FALSE | DQ10: =IF($BD10="Jornal escolar", "■",0) -> 0 | DR10: =IF(DQ10="■", $R10+$S10) -> FALSE | DS10: =IF($BD10="Rádio escolar", "■",0) -> 0 | DT10: =IF(DS10="■", $R10+$S10) -> FALSE | DU10: =IF($BD10="TV escolar", "■",0) -> 0 | DV10: =IF(DU10="■", $R10+$S10) -> FALSE | DW10: =IF($BD10="Outra(s)", "■",0) -> 0 | DX10: =IF(DW10="■", $R10+$S10) -> FALSE
B11: ='1. Plano anual atividades'!C13 -> 0 | D11: ='1. Plano anual atividades'!D13 -> 0 | E11: ='1. Plano anual atividades'!I13 -> 0 | F11: ='1. Plano anual atividades'!J13 -> 0 | G11: ='1. Plano anual atividades'!K13 -> 0 | H11: ='1. Plano anual atividades'!L13 -> 0 | I11: ='1. Plano anual atividades'!M13 -> 0 | J11: ='1. Plano anual atividades'!N13 -> 0 | K11: ='1. Plano anual atividades'!O13 -> 0 | L11: ='1. Plano anual atividades'!P13 -> 0 | ... N11: ='1. Plano anual atividades'!R13 -> 0 | Q11: =O11*P11 -> 0 | T11: =P11*R11 -> 0 | U11: =P11*S11 -> 0 | X11: =P11*V11 -> 0 | Y11: =P11*W11 -> 0 | AB11: ='1. Plano anual atividades'!E13 -> 0 | BE11: =IF($BB11="7 dias com os media", "■",0) -> 0 | BF11: =IF(BE11="■", $R11+$S11) -> FALSE | BG11: =IF($BB11="aLer mais e melhor", "■",0) -> 0 | BH11: =IF(BG11="■", $R11+$S11) -> FALSE | BI11: =IF($BB11="Campeonato de Escrita e Ciência Criativa", "■",0) -> 0 | BJ11: =IF(BI11="■", $R11+$S11) -> FALSE | BK11: =IF($BB11="Cientificamente provável", "■",0) -> 0 | BL11: =IF(BK11="■", $R11+$S11) -> FALSE | BM11: =IF($BB11="Clássicos em rede", "■",0) -> 0 | BN11: =IF(BM11="■", $R11+$S11) -> FALSE | BO11: =IF($BB11="Conto Contigo", "■",0) -> 0 | BP11: =IF(BO11="■", $R11+$S11) -> FALSE | BQ11: =IF($BB11="Dia da internet Mais Segura", "■",0) -> 0 | BR11: =IF(BQ11="■", $R11+$S11) -> FALSE | BS11: =IF($BB11="Dia Mundial da Língua Portuguesa", "■",0) -> 0 | BT11: =IF(BS11="■", $R11+$S11) -> FALSE | BU11: =IF($BB11="Isto também é comigo", "■",0) -> 0 | BV11: =IF(BU11="■", $R11+$S11) -> FALSE | BW11: =IF($BB11="Jornalistas em rede", "■",0) -> 0 | BX11: =IF(BW11="■", $R11+$S11) -> FALSE | BY11: =IF($BB11="Juntos a criar", "■",0) -> 0 | BZ11: =IF(BY11="■", $R11+$S11) -> FALSE | CA11: =IF($BB11="Ler eescrever mais com a BE", "■",0) -> 0 | CB11: =IF(CA11="■", $R11+$S11) -> FALSE | CC11: =IF($BB11="Ler fora da escola", "■",0) -> 0 | CD11: =IF(CC11="■", $R11+$S11) -> FALSE | CE11: =IF($BB11="Lidera", "■",0) -> 0 | CF11: =IF(CE11="■", $R11+$S11) -> FALSE | CG11: =IF($BB11="Media@ção", "■",0) -> 0 | CH11: =IF(CG11="■", $R11+$S11) -> FALSE | CI11: =IF($BB11="Mês Internacional da Biblioteca Escolar", "■",0) -> 0 | CJ11: =IF(CI11="■", $R11+$S11) -> FALSE | CK11: =IF($BB11="Miúdos a votos", "■",0) -> 0 | CL11: =IF(CK11="■", $R11+$S11) -> FALSE | CM11: =IF($BB11="Newton gostava de ler", "■",0) -> 0 | CN11: =IF(CM11="■", $R11+$S11) -> FALSE | CO11: =IF($BB11="Proliteracias", "■",0) -> 0 | CP11: =IF(CO11="■", $R11+$S11) -> FALSE | CQ11: =IF($BB11="PÚBLICO na Escola", "■",0) -> 0 | CR11: =IF(CQ11="■", $R11+$S11) -> FALSE | CS11: =IF($BB11="READ ON Portugal", "■",0) -> 0 | CT11: =IF(CS11="■", $R11+$S11) -> FALSE | CU11: =IF($BB11="Semana da leitura", "■",0) -> 0 | CV11: =IF(CU11="■", $R11+$S11) -> FALSE | CW11: =IF($BB11="Supercharged by IA", "■",0) -> 0 | CX11: =IF(CW11="■", $R11+$S11) -> FALSE | CY11: =IF($BB11="Todos Juntos Podemos Ler", "■",0) -> 0 | CZ11: =IF(CY11="■", $R11+$S11) -> FALSE | DA11: =IF($BB11="Voluntários de leitura", "■",0) -> 0 | DB11: =IF(DA11="■", $R11+$S11) -> FALSE | DC11: =IF($BB11="Outra(s)", "■",0) -> 0 | DD11: =IF(DC11="■", $R11+$S11) -> FALSE | DF11: =IF($BC11="Plano Nacional das Artes", "■",0) -> 0 | DG11: =IF(DF11="■", $R11+$S11) -> FALSE | DH11: =IF($BC11="Plano Nacional de Cinema", "■",0) -> 0 | DI11: =IF(DH11="■", $R11+$S11) -> FALSE | DJ11: =IF($BC11="Plano Nacional de Formação Financeira", "■",0) -> 0 | DK11: =IF(DJ11="■", $R11+$S11) -> FALSE | DL11: =IF($BC11="Outra(s)", "■",0) -> 0 | DM11: =IF(DL11="■", $R11+$S11) -> FALSE | DO11: =IF($BD11="Histórias com Ciência na Biblioteca Escolar", "■",0) -> 0 | DP11: =IF(DO11="■", $R11+$S11) -> FALSE | DQ11: =IF($BD11="Jornal escolar", "■",0) -> 0 | DR11: =IF(DQ11="■", $R11+$S11) -> FALSE | DS11: =IF($BD11="Rádio escolar", "■",0) -> 0 | DT11: =IF(DS11="■", $R11+$S11) -> FALSE | DU11: =IF($BD11="TV escolar", "■",0) -> 0 | DV11: =IF(DU11="■", $R11+$S11) -> FALSE | DW11: =IF($BD11="Outra(s)", "■",0) -> 0 | DX11: =IF(DW11="■", $R11+$S11) -> FALSE
B12: ='1. Plano anual atividades'!C14 -> 0 | D12: ='1. Plano anual atividades'!D14 -> 0 | E12: ='1. Plano anual atividades'!I14 -> 0 | F12: ='1. Plano anual atividades'!J14 -> 0 | G12: ='1. Plano anual atividades'!K14 -> 0 | H12: ='1. Plano anual atividades'!L14 -> 0 | I12: ='1. Plano anual atividades'!M14 -> 0 | J12: ='1. Plano anual atividades'!N14 -> 0 | K12: ='1. Plano anual atividades'!O14 -> 0 | L12: ='1. Plano anual atividades'!P14 -> 0 | ... N12: ='1. Plano anual atividades'!R14 -> 0 | Q12: =O12*P12 -> 0 | T12: =P12*R12 -> 0 | U12: =P12*S12 -> 0 | X12: =P12*V12 -> 0 | Y12: =P12*W12 -> 0 | AB12: ='1. Plano anual atividades'!E14 -> 0 | BE12: =IF($BB12="7 dias com os media", "■",0) -> 0 | BF12: =IF(BE12="■", $R12+$S12) -> FALSE | BG12: =IF($BB12="aLer mais e melhor", "■",0) -> 0 | BH12: =IF(BG12="■", $R12+$S12) -> FALSE | BI12: =IF($BB12="Campeonato de Escrita e Ciência Criativa", "■",0) -> 0 | BJ12: =IF(BI12="■", $R12+$S12) -> FALSE | BK12: =IF($BB12="Cientificamente provável", "■",0) -> 0 | BL12: =IF(BK12="■", $R12+$S12) -> FALSE | BM12: =IF($BB12="Clássicos em rede", "■",0) -> 0 | BN12: =IF(BM12="■", $R12+$S12) -> FALSE | BO12: =IF($BB12="Conto Contigo", "■",0) -> 0 | BP12: =IF(BO12="■", $R12+$S12) -> FALSE | BQ12: =IF($BB12="Dia da internet Mais Segura", "■",0) -> 0 | BR12: =IF(BQ12="■", $R12+$S12) -> FALSE | BS12: =IF($BB12="Dia Mundial da Língua Portuguesa", "■",0) -> 0 | BT12: =IF(BS12="■", $R12+$S12) -> FALSE | BU12: =IF($BB12="Isto também é comigo", "■",0) -> 0 | BV12: =IF(BU12="■", $R12+$S12) -> FALSE | BW12: =IF($BB12="Jornalistas em rede", "■",0) -> 0 | BX12: =IF(BW12="■", $R12+$S12) -> FALSE | BY12: =IF($BB12="Juntos a criar", "■",0) -> 0 | BZ12: =IF(BY12="■", $R12+$S12) -> FALSE | CA12: =IF($BB12="Ler eescrever mais com a BE", "■",0) -> 0 | CB12: =IF(CA12="■", $R12+$S12) -> FALSE | CC12: =IF($BB12="Ler fora da escola", "■",0) -> 0 | CD12: =IF(CC12="■", $R12+$S12) -> FALSE | CE12: =IF($BB12="Lidera", "■",0) -> 0 | CF12: =IF(CE12="■", $R12+$S12) -> FALSE | CG12: =IF($BB12="Media@ção", "■",0) -> 0 | CH12: =IF(CG12="■", $R12+$S12) -> FALSE | CI12: =IF($BB12="Mês Internacional da Biblioteca Escolar", "■",0) -> 0 | CJ12: =IF(CI12="■", $R12+$S12) -> FALSE | CK12: =IF($BB12="Miúdos a votos", "■",0) -> 0 | CL12: =IF(CK12="■", $R12+$S12) -> FALSE | CM12: =IF($BB12="Newton gostava de ler", "■",0) -> 0 | CN12: =IF(CM12="■", $R12+$S12) -> FALSE | CO12: =IF($BB12="Proliteracias", "■",0) -> 0 | CP12: =IF(CO12="■", $R12+$S12) -> FALSE | CQ12: =IF($BB12="PÚBLICO na Escola", "■",0) -> 0 | CR12: =IF(CQ12="■", $R12+$S12) -> FALSE | CS12: =IF($BB12="READ ON Portugal", "■",0) -> 0 | CT12: =IF(CS12="■", $R12+$S12) -> FALSE | CU12: =IF($BB12="Semana da leitura", "■",0) -> 0 | CV12: =IF(CU12="■", $R12+$S12) -> FALSE | CW12: =IF($BB12="Supercharged by IA", "■",0) -> 0 | CX12: =IF(CW12="■", $R12+$S12) -> FALSE | CY12: =IF($BB12="Todos Juntos Podemos Ler", "■",0) -> 0 | CZ12: =IF(CY12="■", $R12+$S12) -> FALSE | DA12: =IF($BB12="Voluntários de leitura", "■",0) -> 0 | DB12: =IF(DA12="■", $R12+$S12) -> FALSE | DC12: =IF($BB12="Outra(s)", "■",0) -> 0 | DD12: =IF(DC12="■", $R12+$S12) -> FALSE | DF12: =IF($BC12="Plano Nacional das Artes", "■",0) -> 0 | DG12: =IF(DF12="■", $R12+$S12) -> FALSE | DH12: =IF($BC12="Plano Nacional de Cinema", "■",0) -> 0 | DI12: =IF(DH12="■", $R12+$S12) -> FALSE | DJ12: =IF($BC12="Plano Nacional de Formação Financeira", "■",0) -> 0 | DK12: =IF(DJ12="■", $R12+$S12) -> FALSE | DL12: =IF($BC12="Outra(s)", "■",0) -> 0 | DM12: =IF(DL12="■", $R12+$S12) -> FALSE | DO12: =IF($BD12="Histórias com Ciência na Biblioteca Escolar", "■",0) -> 0 | DP12: =IF(DO12="■", $R12+$S12) -> FALSE | DQ12: =IF($BD12="Jornal escolar", "■",0) -> 0 | DR12: =IF(DQ12="■", $R12+$S12) -> FALSE | DS12: =IF($BD12="Rádio escolar", "■",0) -> 0 | DT12: =IF(DS12="■", $R12+$S12) -> FALSE | DU12: =IF($BD12="TV escolar", "■",0) -> 0 | DV12: =IF(DU12="■", $R12+$S12) -> FALSE | DW12: =IF($BD12="Outra(s)", "■",0) -> 0 | DX12: =IF(DW12="■", $R12+$S12) -> FALSE
B13: ='1. Plano anual atividades'!C15 -> 0 | D13: ='1. Plano anual atividades'!D15 -> 0 | E13: ='1. Plano anual atividades'!I15 -> 0 | F13: ='1. Plano anual atividades'!J15 -> 0 | G13: ='1. Plano anual atividades'!K15 -> 0 | H13: ='1. Plano anual atividades'!L15 -> 0 | I13: ='1. Plano anual atividades'!M15 -> 0 | J13: ='1. Plano anual atividades'!N15 -> 0 | K13: ='1. Plano anual atividades'!O15 -> 0 | L13: ='1. Plano anual atividades'!P15 -> 0 | ... N13: ='1. Plano anual atividades'!R15 -> 0 | Q13: =O13*P13 -> 0 | T13: =P13*R13 -> 0 | U13: =P13*S13 -> 0 | X13: =P13*V13 -> 0 | Y13: =P13*W13 -> 0 | AB13: ='1. Plano anual atividades'!E15 -> 0 | BE13: =IF($BB13="7 dias com os media", "■",0) -> 0 | BF13: =IF(BE13="■", $R13+$S13) -> FALSE | BG13: =IF($BB13="aLer mais e melhor", "■",0) -> 0 | BH13: =IF(BG13="■", $R13+$S13) -> FALSE | BI13: =IF($BB13="Campeonato de Escrita e Ciência Criativa", "■",0) -> 0 | BJ13: =IF(BI13="■", $R13+$S13) -> FALSE | BK13: =IF($BB13="Cientificamente provável", "■",0) -> 0 | BL13: =IF(BK13="■", $R13+$S13) -> FALSE | BM13: =IF($BB13="Clássicos em rede", "■",0) -> 0 | BN13: =IF(BM13="■", $R13+$S13) -> FALSE | BO13: =IF($BB13="Conto Contigo", "■",0) -> 0 | BP13: =IF(BO13="■", $R13+$S13) -> FALSE | BQ13: =IF($BB13="Dia da internet Mais Segura", "■",0) -> 0 | BR13: =IF(BQ13="■", $R13+$S13) -> FALSE | BS13: =IF($BB13="Dia Mundial da Língua Portuguesa", "■",0) -> 0 | BT13: =IF(BS13="■", $R13+$S13) -> FALSE | BU13: =IF($BB13="Isto também é comigo", "■",0) -> 0 | BV13: =IF(BU13="■", $R13+$S13) -> FALSE | BW13: =IF($BB13="Jornalistas em rede", "■",0) -> 0 | BX13: =IF(BW13="■", $R13+$S13) -> FALSE | BY13: =IF($BB13="Juntos a criar", "■",0) -> 0 | BZ13: =IF(BY13="■", $R13+$S13) -> FALSE | CA13: =IF($BB13="Ler eescrever mais com a BE", "■",0) -> 0 | CB13: =IF(CA13="■", $R13+$S13) -> FALSE | CC13: =IF($BB13="Ler fora da escola", "■",0) -> 0 | CD13: =IF(CC13="■", $R13+$S13) -> FALSE | CE13: =IF($BB13="Lidera", "■",0) -> 0 | CF13: =IF(CE13="■", $R13+$S13) -> FALSE | CG13: =IF($BB13="Media@ção", "■",0) -> 0 | CH13: =IF(CG13="■", $R13+$S13) -> FALSE | CI13: =IF($BB13="Mês Internacional da Biblioteca Escolar", "■",0) -> 0 | CJ13: =IF(CI13="■", $R13+$S13) -> FALSE | CK13: =IF($BB13="Miúdos a votos", "■",0) -> 0 | CL13: =IF(CK13="■", $R13+$S13) -> FALSE | CM13: =IF($BB13="Newton gostava de ler", "■",0) -> 0 | CN13: =IF(CM13="■", $R13+$S13) -> FALSE | CO13: =IF($BB13="Proliteracias", "■",0) -> 0 | CP13: =IF(CO13="■", $R13+$S13) -> FALSE | CQ13: =IF($BB13="PÚBLICO na Escola", "■",0) -> 0 | CR13: =IF(CQ13="■", $R13+$S13) -> FALSE | CS13: =IF($BB13="READ ON Portugal", "■",0) -> 0 | CT13: =IF(CS13="■", $R13+$S13) -> FALSE | CU13: =IF($BB13="Semana da leitura", "■",0) -> 0 | CV13: =IF(CU13="■", $R13+$S13) -> FALSE | CW13: =IF($BB13="Supercharged by IA", "■",0) -> 0 | CX13: =IF(CW13="■", $R13+$S13) -> FALSE | CY13: =IF($BB13="Todos Juntos Podemos Ler", "■",0) -> 0 | CZ13: =IF(CY13="■", $R13+$S13) -> FALSE | DA13: =IF($BB13="Voluntários de leitura", "■",0) -> 0 | DB13: =IF(DA13="■", $R13+$S13) -> FALSE | DC13: =IF($BB13="Outra(s)", "■",0) -> 0 | DD13: =IF(DC13="■", $R13+$S13) -> FALSE | DF13: =IF($BC13="Plano Nacional das Artes", "■",0) -> 0 | DG13: =IF(DF13="■", $R13+$S13) -> FALSE | DH13: =IF($BC13="Plano Nacional de Cinema", "■",0) -> 0 | DI13: =IF(DH13="■", $R13+$S13) -> FALSE | DJ13: =IF($BC13="Plano Nacional de Formação Financeira", "■",0) -> 0 | DK13: =IF(DJ13="■", $R13+$S13) -> FALSE | DL13: =IF($BC13="Outra(s)", "■",0) -> 0 | DM13: =IF(DL13="■", $R13+$S13) -> FALSE | DO13: =IF($BD13="Histórias com Ciência na Biblioteca Escolar", "■",0) -> 0 | DP13: =IF(DO13="■", $R13+$S13) -> FALSE | DQ13: =IF($BD13="Jornal escolar", "■",0) -> 0 | DR13: =IF(DQ13="■", $R13+$S13) -> FALSE | DS13: =IF($BD13="Rádio escolar", "■",0) -> 0 | DT13: =IF(DS13="■", $R13+$S13) -> FALSE | DU13: =IF($BD13="TV escolar", "■",0) -> 0 | DV13: =IF(DU13="■", $R13+$S13) -> FALSE | DW13: =IF($BD13="Outra(s)", "■",0) -> 0 | DX13: =IF(DW13="■", $R13+$S13) -> FALSE
B14: ='1. Plano anual atividades'!C16 -> 0 | D14: ='1. Plano anual atividades'!D16 -> 0 | E14: ='1. Plano anual atividades'!I16 -> 0 | F14: ='1. Plano anual atividades'!J16 -> 0 | G14: ='1. Plano anual atividades'!K16 -> 0 | H14: ='1. Plano anual atividades'!L16 -> 0 | I14: ='1. Plano anual atividades'!M16 -> 0 | J14: ='1. Plano anual atividades'!N16 -> 0 | K14: ='1. Plano anual atividades'!O16 -> 0 | L14: ='1. Plano anual atividades'!P16 -> 0 | ... N14: ='1. Plano anual atividades'!R16 -> 0 | Q14: =O14*P14 -> 0 | T14: =P14*R14 -> 0 | U14: =P14*S14 -> 0 | X14: =P14*V14 -> 0 | Y14: =P14*W14 -> 0 | AB14: ='1. Plano anual atividades'!E16 -> 0 | BE14: =IF($BB14="7 dias com os media", "■",0) -> 0 | BF14: =IF(BE14="■", $R14+$S14) -> FALSE | BG14: =IF($BB14="aLer mais e melhor", "■",0) -> 0 | BH14: =IF(BG14="■", $R14+$S14) -> FALSE | BI14: =IF($BB14="Campeonato de Escrita e Ciência Criativa", "■",0) -> 0 | BJ14: =IF(BI14="■", $R14+$S14) -> FALSE | BK14: =IF($BB14="Cientificamente provável", "■",0) -> 0 | BL14: =IF(BK14="■", $R14+$S14) -> FALSE | BM14: =IF($BB14="Clássicos em rede", "■",0) -> 0 | BN14: =IF(BM14="■", $R14+$S14) -> FALSE | BO14: =IF($BB14="Conto Contigo", "■",0) -> 0 | BP14: =IF(BO14="■", $R14+$S14) -> FALSE | BQ14: =IF($BB14="Dia da internet Mais Segura", "■",0) -> 0 | BR14: =IF(BQ14="■", $R14+$S14) -> FALSE | BS14: =IF($BB14="Dia Mundial da Língua Portuguesa", "■",0) -> 0 | BT14: =IF(BS14="■", $R14+$S14) -> FALSE | BU14: =IF($BB14="Isto também é comigo", "■",0) -> 0 | BV14: =IF(BU14="■", $R14+$S14) -> FALSE | BW14: =IF($BB14="Jornalistas em rede", "■",0) -> 0 | BX14: =IF(BW14="■", $R14+$S14) -> FALSE | BY14: =IF($BB14="Juntos a criar", "■",0) -> 0 | BZ14: =IF(BY14="■", $R14+$S14) -> FALSE | CA14: =IF($BB14="Ler eescrever mais com a BE", "■",0) -> 0 | CB14: =IF(CA14="■", $R14+$S14) -> FALSE | CC14: =IF($BB14="Ler fora da escola", "■",0) -> 0 | CD14: =IF(CC14="■", $R14+$S14) -> FALSE | CE14: =IF($BB14="Lidera", "■",0) -> 0 | CF14: =IF(CE14="■", $R14+$S14) -> FALSE | CG14: =IF($BB14="Media@ção", "■",0) -> 0 | CH14: =IF(CG14="■", $R14+$S14) -> FALSE | CI14: =IF($BB14="Mês Internacional da Biblioteca Escolar", "■",0) -> 0 | CJ14: =IF(CI14="■", $R14+$S14) -> FALSE | CK14: =IF($BB14="Miúdos a votos", "■",0) -> 0 | CL14: =IF(CK14="■", $R14+$S14) -> FALSE | CM14: =IF($BB14="Newton gostava de ler", "■",0) -> 0 | CN14: =IF(CM14="■", $R14+$S14) -> FALSE | CO14: =IF($BB14="Proliteracias", "■",0) -> 0 | CP14: =IF(CO14="■", $R14+$S14) -> FALSE | CQ14: =IF($BB14="PÚBLICO na Escola", "■",0) -> 0 | CR14: =IF(CQ14="■", $R14+$S14) -> FALSE | CS14: =IF($BB14="READ ON Portugal", "■",0) -> 0 | CT14: =IF(CS14="■", $R14+$S14) -> FALSE | CU14: =IF($BB14="Semana da leitura", "■",0) -> 0 | CV14: =IF(CU14="■", $R14+$S14) -> FALSE | CW14: =IF($BB14="Supercharged by IA", "■",0) -> 0 | CX14: =IF(CW14="■", $R14+$S14) -> FALSE | CY14: =IF($BB14="Todos Juntos Podemos Ler", "■",0) -> 0 | CZ14: =IF(CY14="■", $R14+$S14) -> FALSE | DA14: =IF($BB14="Voluntários de leitura", "■",0) -> 0 | DB14: =IF(DA14="■", $R14+$S14) -> FALSE | DC14: =IF($BB14="Outra(s)", "■",0) -> 0 | DD14: =IF(DC14="■", $R14+$S14) -> FALSE | DF14: =IF($BC14="Plano Nacional das Artes", "■",0) -> 0 | DG14: =IF(DF14="■", $R14+$S14) -> FALSE | DH14: =IF($BC14="Plano Nacional de Cinema", "■",0) -> 0 | DI14: =IF(DH14="■", $R14+$S14) -> FALSE | DJ14: =IF($BC14="Plano Nacional de Formação Financeira", "■",0) -> 0 | DK14: =IF(DJ14="■", $R14+$S14) -> FALSE | DL14: =IF($BC14="Outra(s)", "■",0) -> 0 | DM14: =IF(DL14="■", $R14+$S14) -> FALSE | DO14: =IF($BD14="Histórias com Ciência na Biblioteca Escolar", "■",0) -> 0 | DP14: =IF(DO14="■", $R14+$S14) -> FALSE | DQ14: =IF($BD14="Jornal escolar", "■",0) -> 0 | DR14: =IF(DQ14="■", $R14+$S14) -> FALSE | DS14: =IF($BD14="Rádio escolar", "■",0) -> 0 | DT14: =IF(DS14="■", $R14+$S14) -> FALSE | DU14: =IF($BD14="TV escolar", "■",0) -> 0 | DV14: =IF(DU14="■", $R14+$S14) -> FALSE | DW14: =IF($BD14="Outra(s)", "■",0) -> 0 | DX14: =IF(DW14="■", $R14+$S14) -> FALSE
B15: ='1. Plano anual atividades'!C17 -> 0 | D15: ='1. Plano anual atividades'!D17 -> 0 | E15: ='1. Plano anual atividades'!I17 -> 0 | F15: ='1. Plano anual atividades'!J17 -> 0 | G15: ='1. Plano anual atividades'!K17 -> 0 | H15: ='1. Plano anual atividades'!L17 -> 0 | I15: ='1. Plano anual atividades'!M17 -> 0 | J15: ='1. Plano anual atividades'!N17 -> 0 | K15: ='1. Plano anual atividades'!O17 -> 0 | L15: ='1. Plano anual atividades'!P17 -> 0 | ... N15: ='1. Plano anual atividades'!R17 -> 0 | Q15: =O15*P15 -> 0 | T15: =P15*R15 -> 0 | U15: =P15*S15 -> 0 | X15: =P15*V15 -> 0 | Y15: =P15*W15 -> 0 | AB15: ='1. Plano anual atividades'!E17 -> 0 | BE15: =IF($BB15="7 dias com os media", "■",0) -> 0 | BF15: =IF(BE15="■", $R15+$S15) -> FALSE | BG15: =IF($BB15="aLer mais e melhor", "■",0) -> 0 | BH15: =IF(BG15="■", $R15+$S15) -> FALSE | BI15: =IF($BB15="Campeonato de Escrita e Ciência Criativa", "■",0) -> 0 | BJ15: =IF(BI15="■", $R15+$S15) -> FALSE | BK15: =IF($BB15="Cientificamente provável", "■",0) -> 0 | BL15: =IF(BK15="■", $R15+$S15) -> FALSE | BM15: =IF($BB15="Clássicos em rede", "■",0) -> 0 | BN15: =IF(BM15="■", $R15+$S15) -> FALSE | BO15: =IF($BB15="Conto Contigo", "■",0) -> 0 | BP15: =IF(BO15="■", $R15+$S15) -> FALSE | BQ15: =IF($BB15="Dia da internet Mais Segura", "■",0) -> 0 | BR15: =IF(BQ15="■", $R15+$S15) -> FALSE | BS15: =IF($BB15="Dia Mundial da Língua Portuguesa", "■",0) -> 0 | BT15: =IF(BS15="■", $R15+$S15) -> FALSE | BU15: =IF($BB15="Isto também é comigo", "■",0) -> 0 | BV15: =IF(BU15="■", $R15+$S15) -> FALSE | BW15: =IF($BB15="Jornalistas em rede", "■",0) -> 0 | BX15: =IF(BW15="■", $R15+$S15) -> FALSE | BY15: =IF($BB15="Juntos a criar", "■",0) -> 0 | BZ15: =IF(BY15="■", $R15+$S15) -> FALSE | CA15: =IF($BB15="Ler eescrever mais com a BE", "■",0) -> 0 | CB15: =IF(CA15="■", $R15+$S15) -> FALSE | CC15: =IF($BB15="Ler fora da escola", "■",0) -> 0 | CD15: =IF(CC15="■", $R15+$S15) -> FALSE | CE15: =IF($BB15="Lidera", "■",0) -> 0 | CF15: =IF(CE15="■", $R15+$S15) -> FALSE | CG15: =IF($BB15="Media@ção", "■",0) -> 0 | CH15: =IF(CG15="■", $R15+$S15) -> FALSE | CI15: =IF($BB15="Mês Internacional da Biblioteca Escolar", "■",0) -> 0 | CJ15: =IF(CI15="■", $R15+$S15) -> FALSE | CK15: =IF($BB15="Miúdos a votos", "■",0) -> 0 | CL15: =IF(CK15="■", $R15+$S15) -> FALSE | CM15: =IF($BB15="Newton gostava de ler", "■",0) -> 0 | CN15: =IF(CM15="■", $R15+$S15) -> FALSE | CO15: =IF($BB15="Proliteracias", "■",0) -> 0 | CP15: =IF(CO15="■", $R15+$S15) -> FALSE | CQ15: =IF($BB15="PÚBLICO na Escola", "■",0) -> 0 | CR15: =IF(CQ15="■", $R15+$S15) -> FALSE | CS15: =IF($BB15="READ ON Portugal", "■",0) -> 0 | CT15: =IF(CS15="■", $R15+$S15) -> FALSE | CU15: =IF($BB15="Semana da leitura", "■",0) -> 0 | CV15: =IF(CU15="■", $R15+$S15) -> FALSE | CW15: =IF($BB15="Supercharged by IA", "■",0) -> 0 | CX15: =IF(CW15="■", $R15+$S15) -> FALSE | CY15: =IF($BB15="Todos Juntos Podemos Ler", "■",0) -> 0 | CZ15: =IF(CY15="■", $R15+$S15) -> FALSE | DA15: =IF($BB15="Voluntários de leitura", "■",0) -> 0 | DB15: =IF(DA15="■", $R15+$S15) -> FALSE | DC15: =IF($BB15="Outra(s)", "■",0) -> 0 | DD15: =IF(DC15="■", $R15+$S15) -> FALSE | DF15: =IF($BC15="Plano Nacional das Artes", "■",0) -> 0 | DG15: =IF(DF15="■", $R15+$S15) -> FALSE | DH15: =IF($BC15="Plano Nacional de Cinema", "■",0) -> 0 | DI15: =IF(DH15="■", $R15+$S15) -> FALSE | DJ15: =IF($BC15="Plano Nacional de Formação Financeira", "■",0) -> 0 | DK15: =IF(DJ15="■", $R15+$S15) -> FALSE | DL15: =IF($BC15="Outra(s)", "■",0) -> 0 | DM15: =IF(DL15="■", $R15+$S15) -> FALSE | DO15: =IF($BD15="Histórias com Ciência na Biblioteca Escolar", "■",0) -> 0 | DP15: =IF(DO15="■", $R15+$S15) -> FALSE | DQ15: =IF($BD15="Jornal escolar", "■",0) -> 0 | DR15: =IF(DQ15="■", $R15+$S15) -> FALSE | DS15: =IF($BD15="Rádio escolar", "■",0) -> 0 | DT15: =IF(DS15="■", $R15+$S15) -> FALSE | DU15: =IF($BD15="TV escolar", "■",0) -> 0 | DV15: =IF(DU15="■", $R15+$S15) -> FALSE | DW15: =IF($BD15="Outra(s)", "■",0) -> 0 | DX15: =IF(DW15="■", $R15+$S15) -> FALSE
B16: ='1. Plano anual atividades'!C18 -> 0 | D16: ='1. Plano anual atividades'!D18 -> 0 | E16: ='1. Plano anual atividades'!I18 -> 0 | F16: ='1. Plano anual atividades'!J18 -> 0 | G16: ='1. Plano anual atividades'!K18 -> 0 | H16: ='1. Plano anual atividades'!L18 -> 0 | I16: ='1. Plano anual atividades'!M18 -> 0 | J16: ='1. Plano anual atividades'!N18 -> 0 | K16: ='1. Plano anual atividades'!O18 -> 0 | L16: ='1. Plano anual atividades'!P18 -> 0 | ... N16: ='1. Plano anual atividades'!R18 -> 0 | Q16: =O16*P16 -> 0 | T16: =P16*R16 -> 0 | U16: =P16*S16 -> 0 | X16: =P16*V16 -> 0 | Y16: =P16*W16 -> 0 | AB16: ='1. Plano anual atividades'!E18 -> 0 | BE16: =IF($BB16="7 dias com os media", "■",0) -> 0 | BF16: =IF(BE16="■", $R16+$S16) -> FALSE | BG16: =IF($BB16="aLer mais e melhor", "■",0) -> 0 | BH16: =IF(BG16="■", $R16+$S16) -> FALSE | BI16: =IF($BB16="Campeonato de Escrita e Ciência Criativa", "■",0) -> 0 | BJ16: =IF(BI16="■", $R16+$S16) -> FALSE | BK16: =IF($BB16="Cientificamente provável", "■",0) -> 0 | BL16: =IF(BK16="■", $R16+$S16) -> FALSE | BM16: =IF($BB16="Clássicos em rede", "■",0) -> 0 | BN16: =IF(BM16="■", $R16+$S16) -> FALSE | BO16: =IF($BB16="Conto Contigo", "■",0) -> 0 | BP16: =IF(BO16="■", $R16+$S16) -> FALSE | BQ16: =IF($BB16="Dia da internet Mais Segura", "■",0) -> 0 | BR16: =IF(BQ16="■", $R16+$S16) -> FALSE | BS16: =IF($BB16="Dia Mundial da Língua Portuguesa", "■",0) -> 0 | BT16: =IF(BS16="■", $R16+$S16) -> FALSE | BU16: =IF($BB16="Isto também é comigo", "■",0) -> 0 | BV16: =IF(BU16="■", $R16+$S16) -> FALSE | BW16: =IF($BB16="Jornalistas em rede", "■",0) -> 0 | BX16: =IF(BW16="■", $R16+$S16) -> FALSE | BY16: =IF($BB16="Juntos a criar", "■",0) -> 0 | BZ16: =IF(BY16="■", $R16+$S16) -> FALSE | CA16: =IF($BB16="Ler eescrever mais com a BE", "■",0) -> 0 | CB16: =IF(CA16="■", $R16+$S16) -> FALSE | CC16: =IF($BB16="Ler fora da escola", "■",0) -> 0 | CD16: =IF(CC16="■", $R16+$S16) -> FALSE | CE16: =IF($BB16="Lidera", "■",0) -> 0 | CF16: =IF(CE16="■", $R16+$S16) -> FALSE | CG16: =IF($BB16="Media@ção", "■",0) -> 0 | CH16: =IF(CG16="■", $R16+$S16) -> FALSE | CI16: =IF($BB16="Mês Internacional da Biblioteca Escolar", "■",0) -> 0 | CJ16: =IF(CI16="■", $R16+$S16) -> FALSE | CK16: =IF($BB16="Miúdos a votos", "■",0) -> 0 | CL16: =IF(CK16="■", $R16+$S16) -> FALSE | CM16: =IF($BB16="Newton gostava de ler", "■",0) -> 0 | CN16: =IF(CM16="■", $R16+$S16) -> FALSE | CO16: =IF($BB16="Proliteracias", "■",0) -> 0 | CP16: =IF(CO16="■", $R16+$S16) -> FALSE | CQ16: =IF($BB16="PÚBLICO na Escola", "■",0) -> 0 | CR16: =IF(CQ16="■", $R16+$S16) -> FALSE | CS16: =IF($BB16="READ ON Portugal", "■",0) -> 0 | CT16: =IF(CS16="■", $R16+$S16) -> FALSE | CU16: =IF($BB16="Semana da leitura", "■",0) -> 0 | CV16: =IF(CU16="■", $R16+$S16) -> FALSE | CW16: =IF($BB16="Supercharged by IA", "■",0) -> 0 | CX16: =IF(CW16="■", $R16+$S16) -> FALSE | CY16: =IF($BB16="Todos Juntos Podemos Ler", "■",0) -> 0 | CZ16: =IF(CY16="■", $R16+$S16) -> FALSE | DA16: =IF($BB16="Voluntários de leitura", "■",0) -> 0 | DB16: =IF(DA16="■", $R16+$S16) -> FALSE | DC16: =IF($BB16="Outra(s)", "■",0) -> 0 | DD16: =IF(DC16="■", $R16+$S16) -> FALSE | DF16: =IF($BC16="Plano Nacional das Artes", "■",0) -> 0 | DG16: =IF(DF16="■", $R16+$S16) -> FALSE | DH16: =IF($BC16="Plano Nacional de Cinema", "■",0) -> 0 | DI16: =IF(DH16="■", $R16+$S16) -> FALSE | DJ16: =IF($BC16="Plano Nacional de Formação Financeira", "■",0) -> 0 | DK16: =IF(DJ16="■", $R16+$S16) -> FALSE | DL16: =IF($BC16="Outra(s)", "■",0) -> 0 | DM16: =IF(DL16="■", $R16+$S16) -> FALSE | DO16: =IF($BD16="Histórias com Ciência na Biblioteca Escolar", "■",0) -> 0 | DP16: =IF(DO16="■", $R16+$S16) -> FALSE | DQ16: =IF($BD16="Jornal escolar", "■",0) -> 0 | DR16: =IF(DQ16="■", $R16+$S16) -> FALSE | DS16: =IF($BD16="Rádio escolar", "■",0) -> 0 | DT16: =IF(DS16="■", $R16+$S16) -> FALSE | DU16: =IF($BD16="TV escolar", "■",0) -> 0 | DV16: =IF(DU16="■", $R16+$S16) -> FALSE | DW16: =IF($BD16="Outra(s)", "■",0) -> 0 | DX16: =IF(DW16="■", $R16+$S16) -> FALSE
B17: ='1. Plano anual atividades'!C19 -> 0 | D17: ='1. Plano anual atividades'!D19 -> 0 | E17: ='1. Plano anual atividades'!I19 -> 0 | F17: ='1. Plano anual atividades'!J19 -> 0 | G17: ='1. Plano anual atividades'!K19 -> 0 | H17: ='1. Plano anual atividades'!L19 -> 0 | I17: ='1. Plano anual atividades'!M19 -> 0 | J17: ='1. Plano anual atividades'!N19 -> 0 | K17: ='1. Plano anual atividades'!O19 -> 0 | L17: ='1. Plano anual atividades'!P19 -> 0 | ... N17: ='1. Plano anual atividades'!R19 -> 0 | Q17: =O17*P17 -> 0 | T17: =P17*R17 -> 0 | U17: =P17*S17 -> 0 | X17: =P17*V17 -> 0 | Y17: =P17*W17 -> 0 | AB17: ='1. Plano anual atividades'!E19 -> 0 | BE17: =IF($BB17="7 dias com os media", "■",0) -> 0 | BF17: =IF(BE17="■", $R17+$S17) -> FALSE | BG17: =IF($BB17="aLer mais e melhor", "■",0) -> 0 | BH17: =IF(BG17="■", $R17+$S17) -> FALSE | BI17: =IF($BB17="Campeonato de Escrita e Ciência Criativa", "■",0) -> 0 | BJ17: =IF(BI17="■", $R17+$S17) -> FALSE | BK17: =IF($BB17="Cientificamente provável", "■",0) -> 0 | BL17: =IF(BK17="■", $R17+$S17) -> FALSE | BM17: =IF($BB17="Clássicos em rede", "■",0) -> 0 | BN17: =IF(BM17="■", $R17+$S17) -> FALSE | BO17: =IF($BB17="Conto Contigo", "■",0) -> 0 | BP17: =IF(BO17="■", $R17+$S17) -> FALSE | BQ17: =IF($BB17="Dia da internet Mais Segura", "■",0) -> 0 | BR17: =IF(BQ17="■", $R17+$S17) -> FALSE | BS17: =IF($BB17="Dia Mundial da Língua Portuguesa", "■",0) -> 0 | BT17: =IF(BS17="■", $R17+$S17) -> FALSE | BU17: =IF($BB17="Isto também é comigo", "■",0) -> 0 | BV17: =IF(BU17="■", $R17+$S17) -> FALSE | BW17: =IF($BB17="Jornalistas em rede", "■",0) -> 0 | BX17: =IF(BW17="■", $R17+$S17) -> FALSE | BY17: =IF($BB17="Juntos a criar", "■",0) -> 0 | BZ17: =IF(BY17="■", $R17+$S17) -> FALSE | CA17: =IF($BB17="Ler eescrever mais com a BE", "■",0) -> 0 | CB17: =IF(CA17="■", $R17+$S17) -> FALSE | CC17: =IF($BB17="Ler fora da escola", "■",0) -> 0 | CD17: =IF(CC17="■", $R17+$S17) -> FALSE | CE17: =IF($BB17="Lidera", "■",0) -> 0 | CF17: =IF(CE17="■", $R17+$S17) -> FALSE | CG17: =IF($BB17="Media@ção", "■",0) -> 0 | CH17: =IF(CG17="■", $R17+$S17) -> FALSE | CI17: =IF($BB17="Mês Internacional da Biblioteca Escolar", "■",0) -> 0 | CJ17: =IF(CI17="■", $R17+$S17) -> FALSE | CK17: =IF($BB17="Miúdos a votos", "■",0) -> 0 | CL17: =IF(CK17="■", $R17+$S17) -> FALSE | CM17: =IF($BB17="Newton gostava de ler", "■",0) -> 0 | CN17: =IF(CM17="■", $R17+$S17) -> FALSE | CO17: =IF($BB17="Proliteracias", "■",0) -> 0 | CP17: =IF(CO17="■", $R17+$S17) -> FALSE | CQ17: =IF($BB17="PÚBLICO na Escola", "■",0) -> 0 | CR17: =IF(CQ17="■", $R17+$S17) -> FALSE | CS17: =IF($BB17="READ ON Portugal", "■",0) -> 0 | CT17: =IF(CS17="■", $R17+$S17) -> FALSE | CU17: =IF($BB17="Semana da leitura", "■",0) -> 0 | CV17: =IF(CU17="■", $R17+$S17) -> FALSE | CW17: =IF($BB17="Supercharged by IA", "■",0) -> 0 | CX17: =IF(CW17="■", $R17+$S17) -> FALSE | CY17: =IF($BB17="Todos Juntos Podemos Ler", "■",0) -> 0 | CZ17: =IF(CY17="■", $R17+$S17) -> FALSE | DA17: =IF($BB17="Voluntários de leitura", "■",0) -> 0 | DB17: =IF(DA17="■", $R17+$S17) -> FALSE | DC17: =IF($BB17="Outra(s)", "■",0) -> 0 | DD17: =IF(DC17="■", $R17+$S17) -> FALSE | DF17: =IF($BC17="Plano Nacional das Artes", "■",0) -> 0 | DG17: =IF(DF17="■", $R17+$S17) -> FALSE | DH17: =IF($BC17="Plano Nacional de Cinema", "■",0) -> 0 | DI17: =IF(DH17="■", $R17+$S17) -> FALSE | DJ17: =IF($BC17="Plano Nacional de Formação Financeira", "■",0) -> 0 | DK17: =IF(DJ17="■", $R17+$S17) -> FALSE | DL17: =IF($BC17="Outra(s)", "■",0) -> 0 | DM17: =IF(DL17="■", $R17+$S17) -> FALSE | DO17: =IF($BD17="Histórias com Ciência na Biblioteca Escolar", "■",0) -> 0 | DP17: =IF(DO17="■", $R17+$S17) -> FALSE | DQ17: =IF($BD17="Jornal escolar", "■",0) -> 0 | DR17: =IF(DQ17="■", $R17+$S17) -> FALSE | DS17: =IF($BD17="Rádio escolar", "■",0) -> 0 | DT17: =IF(DS17="■", $R17+$S17) -> FALSE | DU17: =IF($BD17="TV escolar", "■",0) -> 0 | DV17: =IF(DU17="■", $R17+$S17) -> FALSE | DW17: =IF($BD17="Outra(s)", "■",0) -> 0 | DX17: =IF(DW17="■", $R17+$S17) -> FALSE
B18: ='1. Plano anual atividades'!C20 -> 0 | D18: ='1. Plano anual atividades'!D20 -> 0 | E18: ='1. Plano anual atividades'!I20 -> 0 | F18: ='1. Plano anual atividades'!J20 -> 0 | G18: ='1. Plano anual atividades'!K20 -> 0 | H18: ='1. Plano anual atividades'!L20 -> 0 | I18: ='1. Plano anual atividades'!M20 -> 0 | J18: ='1. Plano anual atividades'!N20 -> 0 | K18: ='1. Plano anual atividades'!O20 -> 0 | L18: ='1. Plano anual atividades'!P20 -> 0 | ... N18: ='1. Plano anual atividades'!R20 -> 0 | Q18: =O18*P18 -> 0 | T18: =P18*R18 -> 0 | U18: =P18*S18 -> 0 | X18: =P18*V18 -> 0 | Y18: =P18*W18 -> 0 | AB18: ='1. Plano anual atividades'!E20 -> 0 | BE18: =IF($BB18="7 dias com os media", "■",0) -> 0 | BF18: =IF(BE18="■", $R18+$S18) -> FALSE | BG18: =IF($BB18="aLer mais e melhor", "■",0) -> 0 | BH18: =IF(BG18="■", $R18+$S18) -> FALSE | BI18: =IF($BB18="Campeonato de Escrita e Ciência Criativa", "■",0) -> 0 | BJ18: =IF(BI18="■", $R18+$S18) -> FALSE | BK18: =IF($BB18="Cientificamente provável", "■",0) -> 0 | BL18: =IF(BK18="■", $R18+$S18) -> FALSE | BM18: =IF($BB18="Clássicos em rede", "■",0) -> 0 | BN18: =IF(BM18="■", $R18+$S18) -> FALSE | BO18: =IF($BB18="Conto Contigo", "■",0) -> 0 | BP18: =IF(BO18="■", $R18+$S18) -> FALSE | BQ18: =IF($BB18="Dia da internet Mais Segura", "■",0) -> 0 | BR18: =IF(BQ18="■", $R18+$S18) -> FALSE | BS18: =IF($BB18="Dia Mundial da Língua Portuguesa", "■",0) -> 0 | BT18: =IF(BS18="■", $R18+$S18) -> FALSE | BU18: =IF($BB18="Isto também é comigo", "■",0) -> 0 | BV18: =IF(BU18="■", $R18+$S18) -> FALSE | BW18: =IF($BB18="Jornalistas em rede", "■",0) -> 0 | BX18: =IF(BW18="■", $R18+$S18) -> FALSE | BY18: =IF($BB18="Juntos a criar", "■",0) -> 0 | BZ18: =IF(BY18="■", $R18+$S18) -> FALSE | CA18: =IF($BB18="Ler eescrever mais com a BE", "■",0) -> 0 | CB18: =IF(CA18="■", $R18+$S18) -> FALSE | CC18: =IF($BB18="Ler fora da escola", "■",0) -> 0 | CD18: =IF(CC18="■", $R18+$S18) -> FALSE | CE18: =IF($BB18="Lidera", "■",0) -> 0 | CF18: =IF(CE18="■", $R18+$S18) -> FALSE | CG18: =IF($BB18="Media@ção", "■",0) -> 0 | CH18: =IF(CG18="■", $R18+$S18) -> FALSE | CI18: =IF($BB18="Mês Internacional da Biblioteca Escolar", "■",0) -> 0 | CJ18: =IF(CI18="■", $R18+$S18) -> FALSE | CK18: =IF($BB18="Miúdos a votos", "■",0) -> 0 | CL18: =IF(CK18="■", $R18+$S18) -> FALSE | CM18: =IF($BB18="Newton gostava de ler", "■",0) -> 0 | CN18: =IF(CM18="■", $R18+$S18) -> FALSE | CO18: =IF($BB18="Proliteracias", "■",0) -> 0 | CP18: =IF(CO18="■", $R18+$S18) -> FALSE | CQ18: =IF($BB18="PÚBLICO na Escola", "■",0) -> 0 | CR18: =IF(CQ18="■", $R18+$S18) -> FALSE | CS18: =IF($BB18="READ ON Portugal", "■",0) -> 0 | CT18: =IF(CS18="■", $R18+$S18) -> FALSE | CU18: =IF($BB18="Semana da leitura", "■",0) -> 0 | CV18: =IF(CU18="■", $R18+$S18) -> FALSE | CW18: =IF($BB18="Supercharged by IA", "■",0) -> 0 | CX18: =IF(CW18="■", $R18+$S18) -> FALSE | CY18: =IF($BB18="Todos Juntos Podemos Ler", "■",0) -> 0 | CZ18: =IF(CY18="■", $R18+$S18) -> FALSE | DA18: =IF($BB18="Voluntários de leitura", "■",0) -> 0 | DB18: =IF(DA18="■", $R18+$S18) -> FALSE | DC18: =IF($BB18="Outra(s)", "■",0) -> 0 | DD18: =IF(DC18="■", $R18+$S18) -> FALSE | DF18: =IF($BC18="Plano Nacional das Artes", "■",0) -> 0 | DG18: =IF(DF18="■", $R18+$S18) -> FALSE | DH18: =IF($BC18="Plano Nacional de Cinema", "■",0) -> 0 | DI18: =IF(DH18="■", $R18+$S18) -> FALSE | DJ18: =IF($BC18="Plano Nacional de Formação Financeira", "■",0) -> 0 | DK18: =IF(DJ18="■", $R18+$S18) -> FALSE | DL18: =IF($BC18="Outra(s)", "■",0) -> 0 | DM18: =IF(DL18="■", $R18+$S18) -> FALSE | DO18: =IF($BD18="Histórias com Ciência na Biblioteca Escolar", "■",0) -> 0 | DP18: =IF(DO18="■", $R18+$S18) -> FALSE | DQ18: =IF($BD18="Jornal escolar", "■",0) -> 0 | DR18: =IF(DQ18="■", $R18+$S18) -> FALSE | DS18: =IF($BD18="Rádio escolar", "■",0) -> 0 | DT18: =IF(DS18="■", $R18+$S18) -> FALSE | DU18: =IF($BD18="TV escolar", "■",0) -> 0 | DV18: =IF(DU18="■", $R18+$S18) -> FALSE | DW18: =IF($BD18="Outra(s)", "■",0) -> 0 | DX18: =IF(DW18="■", $R18+$S18) -> FALSE
B19: ='1. Plano anual atividades'!C21 -> 0 | D19: ='1. Plano anual atividades'!D21 -> 0 | E19: ='1. Plano anual atividades'!I21 -> 0 | F19: ='1. Plano anual atividades'!J21 -> 0 | G19: ='1. Plano anual atividades'!K21 -> 0 | H19: ='1. Plano anual atividades'!L21 -> 0 | I19: ='1. Plano anual atividades'!M21 -> 0 | J19: ='1. Plano anual atividades'!N21 -> 0 | K19: ='1. Plano anual atividades'!O21 -> 0 | L19: ='1. Plano anual atividades'!P21 -> 0 | ... N19: ='1. Plano anual atividades'!R21 -> 0 | Q19: =O19*P19 -> 0 | T19: =P19*R19 -> 0 | U19: =P19*S19 -> 0 | X19: =P19*V19 -> 0 | Y19: =P19*W19 -> 0 | AB19: ='1. Plano anual atividades'!E21 -> 0 | BE19: =IF($BB19="7 dias com os media", "■",0) -> 0 | BF19: =IF(BE19="■", $R19+$S19) -> FALSE | BG19: =IF($BB19="aLer mais e melhor", "■",0) -> 0 | BH19: =IF(BG19="■", $R19+$S19) -> FALSE | BI19: =IF($BB19="Campeonato de Escrita e Ciência Criativa", "■",0) -> 0 | BJ19: =IF(BI19="■", $R19+$S19) -> FALSE | BK19: =IF($BB19="Cientificamente provável", "■",0) -> 0 | BL19: =IF(BK19="■", $R19+$S19) -> FALSE | BM19: =IF($BB19="Clássicos em rede", "■",0) -> 0 | BN19: =IF(BM19="■", $R19+$S19) -> FALSE | BO19: =IF($BB19="Conto Contigo", "■",0) -> 0 | BP19: =IF(BO19="■", $R19+$S19) -> FALSE | BQ19: =IF($BB19="Dia da internet Mais Segura", "■",0) -> 0 | BR19: =IF(BQ19="■", $R19+$S19) -> FALSE | BS19: =IF($BB19="Dia Mundial da Língua Portuguesa", "■",0) -> 0 | BT19: =IF(BS19="■", $R19+$S19) -> FALSE | BU19: =IF($BB19="Isto também é comigo", "■",0) -> 0 | BV19: =IF(BU19="■", $R19+$S19) -> FALSE | BW19: =IF($BB19="Jornalistas em rede", "■",0) -> 0 | BX19: =IF(BW19="■", $R19+$S19) -> FALSE | BY19: =IF($BB19="Juntos a criar", "■",0) -> 0 | BZ19: =IF(BY19="■", $R19+$S19) -> FALSE | CA19: =IF($BB19="Ler eescrever mais com a BE", "■",0) -> 0 | CB19: =IF(CA19="■", $R19+$S19) -> FALSE | CC19: =IF($BB19="Ler fora da escola", "■",0) -> 0 | CD19: =IF(CC19="■", $R19+$S19) -> FALSE | CE19: =IF($BB19="Lidera", "■",0) -> 0 | CF19: =IF(CE19="■", $R19+$S19) -> FALSE | CG19: =IF($BB19="Media@ção", "■",0) -> 0 | CH19: =IF(CG19="■", $R19+$S19) -> FALSE | CI19: =IF($BB19="Mês Internacional da Biblioteca Escolar", "■",0) -> 0 | CJ19: =IF(CI19="■", $R19+$S19) -> FALSE | CK19: =IF($BB19="Miúdos a votos", "■",0) -> 0 | CL19: =IF(CK19="■", $R19+$S19) -> FALSE | CM19: =IF($BB19="Newton gostava de ler", "■",0) -> 0 | CN19: =IF(CM19="■", $R19+$S19) -> FALSE | CO19: =IF($BB19="Proliteracias", "■",0) -> 0 | CP19: =IF(CO19="■", $R19+$S19) -> FALSE | CQ19: =IF($BB19="PÚBLICO na Escola", "■",0) -> 0 | CR19: =IF(CQ19="■", $R19+$S19) -> FALSE | CS19: =IF($BB19="READ ON Portugal", "■",0) -> 0 | CT19: =IF(CS19="■", $R19+$S19) -> FALSE | CU19: =IF($BB19="Semana da leitura", "■",0) -> 0 | CV19: =IF(CU19="■", $R19+$S19) -> FALSE | CW19: =IF($BB19="Supercharged by IA", "■",0) -> 0 | CX19: =IF(CW19="■", $R19+$S19) -> FALSE | CY19: =IF($BB19="Todos Juntos Podemos Ler", "■",0) -> 0 | CZ19: =IF(CY19="■", $R19+$S19) -> FALSE | DA19: =IF($BB19="Voluntários de leitura", "■",0) -> 0 | DB19: =IF(DA19="■", $R19+$S19) -> FALSE | DC19: =IF($BB19="Outra(s)", "■",0) -> 0 | DD19: =IF(DC19="■", $R19+$S19) -> FALSE | DF19: =IF($BC19="Plano Nacional das Artes", "■",0) -> 0 | DG19: =IF(DF19="■", $R19+$S19) -> FALSE | DH19: =IF($BC19="Plano Nacional de Cinema", "■",0) -> 0 | DI19: =IF(DH19="■", $R19+$S19) -> FALSE | DJ19: =IF($BC19="Plano Nacional de Formação Financeira", "■",0) -> 0 | DK19: =IF(DJ19="■", $R19+$S19) -> FALSE | DL19: =IF($BC19="Outra(s)", "■",0) -> 0 | DM19: =IF(DL19="■", $R19+$S19) -> FALSE | DO19: =IF($BD19="Histórias com Ciência na Biblioteca Escolar", "■",0) -> 0 | DP19: =IF(DO19="■", $R19+$S19) -> FALSE | DQ19: =IF($BD19="Jornal escolar", "■",0) -> 0 | DR19: =IF(DQ19="■", $R19+$S19) -> FALSE | DS19: =IF($BD19="Rádio escolar", "■",0) -> 0 | DT19: =IF(DS19="■", $R19+$S19) -> FALSE | DU19: =IF($BD19="TV escolar", "■",0) -> 0 | DV19: =IF(DU19="■", $R19+$S19) -> FALSE | DW19: =IF($BD19="Outra(s)", "■",0) -> 0 | DX19: =IF(DW19="■", $R19+$S19) -> FALSE
... B27: ='1. Plano anual atividades'!C29 -> 0 | D27: ='1. Plano anual atividades'!D29 -> 0 | E27: ='1. Plano anual atividades'!I29 -> 0 | F27: ='1. Plano anual atividades'!J29 -> 0 | G27: ='1. Plano anual atividades'!K29 -> 0 | H27: ='1. Plano anual atividades'!L29 -> 0 | I27: ='1. Plano anual atividades'!M29 -> 0 | J27: ='1. Plano anual atividades'!N29 -> 0 | K27: ='1. Plano anual atividades'!O29 -> 0 | L27: ='1. Plano anual atividades'!P29 -> 0 | ... N27: ='1. Plano anual atividades'!R29 -> 0 | Q27: =O27*P27 -> 0 | T27: =P27*R27 -> 0 | U27: =P27*S27 -> 0 | X27: =P27*V27 -> 0 | Y27: =P27*W27 -> 0 | AB27: ='1. Plano anual atividades'!E29 -> 0 | BE27: =IF($BB27="7 dias com os media", "■",0) -> 0 | BF27: =IF(BE27="■", $R27+$S27) -> FALSE | BG27: =IF($BB27="aLer mais e melhor", "■",0) -> 0 | BH27: =IF(BG27="■", $R27+$S27) -> FALSE | BI27: =IF($BB27="Campeonato de Escrita e Ciência Criativa", "■",0) -> 0 | BJ27: =IF(BI27="■", $R27+$S27) -> FALSE | BK27: =IF($BB27="Cientificamente provável", "■",0) -> 0 | BL27: =IF(BK27="■", $R27+$S27) -> FALSE | BM27: =IF($BB27="Clássicos em rede", "■",0) -> 0 | BN27: =IF(BM27="■", $R27+$S27) -> FALSE | BO27: =IF($BB27="Conto Contigo", "■",0) -> 0 | BP27: =IF(BO27="■", $R27+$S27) -> FALSE | BQ27: =IF($BB27="Dia da internet Mais Segura", "■",0) -> 0 | BR27: =IF(BQ27="■", $R27+$S27) -> FALSE | BS27: =IF($BB27="Dia Mundial da Língua Portuguesa", "■",0) -> 0 | BT27: =IF(BS27="■", $R27+$S27) -> FALSE | BU27: =IF($BB27="Isto também é comigo", "■",0) -> 0 | BV27: =IF(BU27="■", $R27+$S27) -> FALSE | BW27: =IF($BB27="Jornalistas em rede", "■",0) -> 0 | BX27: =IF(BW27="■", $R27+$S27) -> FALSE | BY27: =IF($BB27="Juntos a criar", "■",0) -> 0 | BZ27: =IF(BY27="■", $R27+$S27) -> FALSE | CA27: =IF($BB27="Ler eescrever mais com a BE", "■",0) -> 0 | CB27: =IF(CA27="■", $R27+$S27) -> FALSE | CC27: =IF($BB27="Ler fora da escola", "■",0) -> 0 | CD27: =IF(CC27="■", $R27+$S27) -> FALSE | CE27: =IF($BB27="Lidera", "■",0) -> 0 | CF27: =IF(CE27="■", $R27+$S27) -> FALSE | CG27: =IF($BB27="Media@ção", "■",0) -> 0 | CH27: =IF(CG27="■", $R27+$S27) -> FALSE | CI27: =IF($BB27="Mês Internacional da Biblioteca Escolar", "■",0) -> 0 | CJ27: =IF(CI27="■", $R27+$S27) -> FALSE | CK27: =IF($BB27="Miúdos a votos", "■",0) -> 0 | CL27: =IF(CK27="■", $R27+$S27) -> FALSE | CM27: =IF($BB27="Newton gostava de ler", "■",0) -> 0 | CN27: =IF(CM27="■", $R27+$S27) -> FALSE | CO27: =IF($BB27="Proliteracias", "■",0) -> 0 | CP27: =IF(CO27="■", $R27+$S27) -> FALSE | CQ27: =IF($BB27="PÚBLICO na Escola", "■",0) -> 0 | CR27: =IF(CQ27="■", $R27+$S27) -> FALSE | CS27: =IF($BB27="READ ON Portugal", "■",0) -> 0 | CT27: =IF(CS27="■", $R27+$S27) -> FALSE | CU27: =IF($BB27="Semana da leitura", "■",0) -> 0 | CV27: =IF(CU27="■", $R27+$S27) -> FALSE | CW27: =IF($BB27="Supercharged by IA", "■",0) -> 0 | CX27: =IF(CW27="■", $R27+$S27) -> FALSE | CY27: =IF($BB27="Todos Juntos Podemos Ler", "■",0) -> 0 | CZ27: =IF(CY27="■", $R27+$S27) -> FALSE | DA27: =IF($BB27="Voluntários de leitura", "■",0) -> 0 | DB27: =IF(DA27="■", $R27+$S27) -> FALSE | DC27: =IF($BB27="Outra(s)", "■",0) -> 0 | DD27: =IF(DC27="■", $R27+$S27) -> FALSE | DF27: =IF($BC27="Plano Nacional das Artes", "■",0) -> 0 | DG27: =IF(DF27="■", $R27+$S27) -> FALSE | DH27: =IF($BC27="Plano Nacional de Cinema", "■",0) -> 0 | DI27: =IF(DH27="■", $R27+$S27) -> FALSE | DJ27: =IF($BC27="Plano Nacional de Formação Financeira", "■",0) -> 0 | DK27: =IF(DJ27="■", $R27+$S27) -> FALSE | DL27: =IF($BC27="Outra(s)", "■",0) -> 0 | DM27: =IF(DL27="■", $R27+$S27) -> FALSE | DO27: =IF($BD27="Histórias com Ciência na Biblioteca Escolar", "■",0) -> 0 | DP27: =IF(DO27="■", $R27+$S27) -> FALSE | DQ27: =IF($BD27="Jornal escolar", "■",0) -> 0 | DR27: =IF(DQ27="■", $R27+$S27) -> FALSE | DS27: =IF($BD27="Rádio escolar", "■",0) -> 0 | DT27: =IF(DS27="■", $R27+$S27) -> FALSE | DU27: =IF($BD27="TV escolar", "■",0) -> 0 | DV27: =IF(DU27="■", $R27+$S27) -> FALSE | DW27: =IF($BD27="Outra(s)", "■",0) -> 0 | DX27: =IF(DW27="■", $R27+$S27) -> FALSE
