Workbook
Name Biblioteca_1: '1. Plano anual atividades'!$C$121
Name Biblioteca_2: '1. Plano anual atividades'!$C$122
Name Biblioteca_3: '1. Plano anual atividades'!$C$123
Name Biblioteca_4: '1. Plano anual atividades'!$C$124
Name Biblioteca_5: '1. Plano anual atividades'!$C$125
Name Biblioteca_6: '1. Plano anual atividades'!$C$126
Name Biblioteca_7: '1. Plano anual atividades'!$C$130

Sheet 1. Plano anual atividades
B2: Biblioteca escolar
B3: Plano anual de atividades
B4: Agrupamento/ Escola não agrupada
B5: Ano letivo
B7: Domínio A - Currículo, literacias e aprendizagens
F8: Responsáveis / Dinamizadores | I8: Projeto Educativo | U8: Escolas
B9: Objetivos | C9: Atividades | D9: PM | E9: AcBE | G9: Público-alvo | H9: Calendarização | I9: 1 | J9: 2 | K9: 3 | L9: 4 | M9: 5 | N9: 6 | O9: 7 | P9: 8 | Q9: 9 | R9: 10 | S9: Recursos | T9: Orçamento | U9: 1 | V9: 2 | W9: 3 | X9: 4 | Y9: 5 | Z9: 6 | AA9: 7 | AB9: 8 | AC9: 9 | AD9: 10
B31: Nº de atividades planificadas | C31: =COUNTA(C10:C30) -> 0 | T31: Nº de atividades planificadas por escola | U31: =COUNTIF(U10:U30, "■") -> 0 | V31: =COUNTIF(V10:V30, "■") -> 0 | W31: =COUNTIF(W10:W30, "■") -> 0 | X31: =COUNTIF(X10:X30, "■") -> 0 | Y31: =COUNTIF(Y10:Y30, "■") -> 0 | Z31: =COUNTIF(Z10:Z30, "■") -> 0 | AA31: =COUNTIF(AA10:AA30, "■") -> 0 | AB31: =COUNTIF(AB10:AB30, "■") -> 0 | ... AD31: =COUNTIF(AD10:AD30, "■") -> 0
B32: Observações
B34: Domínio B - Leitura e literacia
F35: Responsáveis / Dinamizadores | I35: Projeto Educativo | U35: Escolas
B36: Objetivos | C36: Atividades | D36: PM | E36: AcBE | G36: Público-alvo | H36: Calendarização | I36: 1 | J36: 2 | K36: 3 | L36: 4 | M36: 5 | N36: 6 | O36: 7 | P36: 8 | Q36: 9 | R36: 10 | S36: Recursos | T36: Orçamento | U36: 1 | V36: 2 | W36: 3 | X36: 4 | Y36: 5 | Z36: 6 | AA36: 7 | AB36: 8 | AC36: 9 | AD36: 10
B58: Nº de atividades planificadas | C58: =COUNTA(C37:C57) -> 0 | T58: Nº de atividades planificadas por escola | U58: =COUNTIF(U37:U57, "■") -> 0 | V58: =COUNTIF(V37:V57, "■") -> 0 | W58: =COUNTIF(W37:W57, "■") -> 0 | X58: =COUNTIF(X37:X57, "■") -> 0 | Y58: =COUNTIF(Y37:Y57, "■") -> 0 | Z58: =COUNTIF(Z37:Z57, "■") -> 0 | AA58: =COUNTIF(AA37:AA57, "■") -> 0 | AB58: =COUNTIF(AB37:AB57, "■") -> 0 | ... AD58: =COUNTIF(AD37:AD57, "■") -> 0
B59: Observações
B61: Domínio C - Projetos e parcerias
F62: Responsáveis / Dinamizadores | I62: Projeto Educativo | U62: Escolas
B63: Objetivos | C63: Atividades | D63: PM | E63: AcBE | G63: Público-alvo | H63: Calendarização | I63: 1 | J63: 2 | K63: 3 | L63: 4 | M63: 5 | N63: 6 | O63: 7 | P63: 8 | Q63: 9 | R63: 10 | S63: Recursos | T63: Orçamento | U63: 1 | V63: 2 | W63: 3 | X63: 4 | Y63: 5 | Z63: 6 | AA63: 7 | AB63: 8 | AC63: 9 | AD63: 10
B85: Nº de atividades planificadas | C85: =COUNTA(C64:C84) -> 0 | T85: Nº de atividades planificadas por escola | U85: =COUNTIF(U64:U84, "■") -> 0 | V85: =COUNTIF(V64:V84, "■") -> 0 | W85: =COUNTIF(W64:W84, "■") -> 0 | X85: =COUNTIF(X64:X84, "■") -> 0 | Y85: =COUNTIF(Y64:Y84, "■") -> 0 | Z85: =COUNTIF(Z64:Z84, "■") -> 0 | AA85: =COUNTIF(AA64:AA84, "■") -> 0 | AB85: =COUNTIF(AB64:AB84, "■") -> 0 | ... AD85: =COUNTIF(AD64:AD84, "■") -> 0
B86: Observações
B88: Domínio D - Gestão da biblioteca escolar
F89: Responsáveis / Dinamizadores | I89: Projeto Educativo | U89: Escolas
B90: Objetivos | C90: Atividades | D90: PM | E90: AcBE | G90: Público-alvo | H90: Calendarização | I90: 1 | J90: 2 | K90: 3 | L90: 4 | M90: 5 | N90: 6 | O90: 7 | P90: 8 | Q90: 9 | R90: 10 | S90: Recursos | T90: Orçamento | U90: 1 | V90: 2 | W90: 3 | X90: 4 | Y90: 5 | Z90: 6 | AA90: 7 | AB90: 8 | AC90: 9 | AD90: 10
B112: Nº de atividades planificadas | C112: =COUNTA(C91:C111) -> 0 | T112: Nº de atividades planificadas por escola | U112: =COUNTIF(U91:U111, "■") -> 0 | V112: =COUNTIF(V91:V111, "■") -> 0 | W112: =COUNTIF(W91:W111, "■") -> 0 | X112: =COUNTIF(X91:X111, "■") -> 0 | Y112: =COUNTIF(Y91:Y111, "■") -> 0 | Z112: =COUNTIF(Z91:Z111, "■") -> 0 | AA112: =COUNTIF(AA91:AA111, "■") -> 0 | AB112: =COUNTIF(AB91:AB111, "■") -> 0 | ... AD112: =COUNTIF(AD91:AD111, "■") -> 0
B113: Observações
B115: Total de atividades planificadas | C115: =SUM(C31,C58,C85,C112) -> 0 | T115: Nº de atividades planificadas por escola | U115: =SUM(U31,U58,U85,U112) -> 0 | V115: =SUM(V31,V58,V85,V112) -> 0 | W115: =SUM(W31,W58,W85,W112) -> 0 | X115: =SUM(X31,X58,X85,X112) -> 0 | Y115: =SUM(Y31,Y58,Y85,Y112) -> 0 | Z115: =SUM(Z31,Z58,Z85,Z112) -> 0 | AA115: =SUM(AA31,AA58,AA85,AA112) -> 0 | AB115: =SUM(AB31,AB58,AB85,AB112) -> 0 | ... AD115: =SUM(AD31,AD58,AD85,AD112) -> 0
B117: Observações:
B118: PM - Plano de melhoria; AcBE - Referencial Aprender com a biblioteca escolar
B120: Escola: | C120: Nome | G120: Tipo de instalação
B121: 1 | AF121: Biblioteca escolar
B122: 2 | AF122: Ponto de biblioteca
B123: 3 | AF123: Estação de livros
B124: 4 | AF124: A aguardar intervenção
B125: 5
B126: 6
B127: 7
B128: 8
B129: 9
B130: 10
B132: Projeto Educativo
B133: 1
B134: 2
B135: 3
B136: 4
B137: 5
B138: 6
B139: 7
B140: 8
B141: 9
B142: 10

Sheet 2. Monitorização
B2: Biblioteca escolar
B3: Recolha de evidências e indicadores de sucesso
B5: Domínio A - Currículo, literacias e aprendizagens
E6: Projeto Educativo | O6: N.º total | Q6: N.º de participações | R6: N.º de alunos envolvidos | T6: N.º participações de alunos | V6: N.º de docentes envolvidos | X6: N.º participações de docentes | AC6: Área de literacia | AF6: Área curricular e extracurricular | AM6: Alunos envolvidos | AR6: Docentes envolvidos | AW6: Nível de impacto | BA6: Projetos | BB6: Propostas RBE | BC6: Propostas de outras instituições nacionais ou internacionais | BD6: Propostas locais ou regionais
B7: Atividades planificadas | C7: Executada | D7: PM | E7: 1 | F7: 2 | G7: 3 | H7: 4 | I7: 5 | J7: 6 | K7: 7 | L7: 8 | M7: 9 | N7: 10 | O7: Turmas | P7: Aulas/ sessões | Q7: Turmas | R7: Individual | S7: Em turma | T7: Individual | U7: Em turma | V7: Individual | W7: Com turma | X7: Individual | Y7: Com turma | Z7: N.º de Pais e EE envolvidos | AA7: N.º de outros envolvidos | AB7: AcBE | AC7: L | AD7: I | AE7: M | AF7: L | AG7: CSH | AH7: MCE | AI7: ET | AJ7: ACT | AK7: ALF | AL7: Outras | AM7: Pré-Escolar | AN7: 1.º CEB | AO7: 2.º CEB | AP7: 3.º CEB | AQ7: Ensino Secundário | AR7: Pré-Escolar | AS7: 1.º CEB | AT7: 2.º CEB | AU7: 3.º CEB | AV7: Ensino Secundário | AW7: CC | AX7: AV | AY7: AS | AZ7: SCP | BE7: 7D | BF7: N.º alunos | BG7: aler+ | BH7: N.º alunos | BI7: ECC | BJ7: N.º alunos | BK7: CP | BL7: N.º alunos | BM7: CR | BN7: N.º alunos | BO7: CC | BP7: N.º alunos | BQ7: DIS | BR7: N.º alunos | BS7: DMLP | BT7: N.º alunos | BU7: ITEC | BV7: N.º alunos | BW7: JR | BX7: N.º alunos | BY7: JC | BZ7: N.º alunos | CA7: LECBE | CB7: N.º alunos | CC7: LFE | CD7: N.º alunos | CE7: L | CF7: N.º alunos | CG7: M | CH7: N.º alunos | CI7: MIBE | CJ7: N.º alunos | CK7: MV | CL7: N.º alunos | CM7: NGL | CN7: N.º alunos | CO7: P | CP7: N.º alunos | CQ7: PE | CR7: N.º alunos | CS7: RO | CT7: N.º alunos | CU7: SL | CV7: N.º alunos | CW7: SAI | CX7: N.º alunos | CY7: TJPL | CZ7: N.º alunos | DA7: VL | DB7: N.º alunos | DC7: O | DD7: N.º alunos | DF7: PNA | DG7: N.º alunos | DH7: PNC | DI7: N.º alunos | DJ7: PNFF | DK7: N.º alunos | DL7: O | DM7: N.º alunos | DO7: HCBE | DP7: N.º alunos | DQ7: JE | DR7: N.º alunos | DS7: RE | DT7: N.º alunos | DU7: TVE | DV7: N.º alunos | DW7: O | DX7: N.º alunos
B8: ='1. Plano anual atividades'!C10 -> 0 | D8: ='1. Plano anual atividades'!D10 -> 0 | E8: ='1. Plano anual atividades'!I10 -> 0 | F8: ='1. Plano anual atividades'!J10 -> 0 | G8: ='1. Plano anual atividades'!K10 -> 0 | H8: ='1. Plano anual atividades'!L10 -> 0 | I8: ='1. Plano anual atividades'!M10 -> 0 | J8: ='1. Plano anual atividades'!N10 -> 0 | K8: ='1. Plano anual atividades'!O10 -> 0 | L8: ='1. Plano anual atividades'!P10 -> 0 | ... N8: ='1. Plano anual atividades'!R10 -> 0 | Q8: =O8*P8 -> 0 | T8: =P8*R8 -> 0 | U8: =P8*S8 -> 0 | X8: =P8*V8 -> 0 | Y8: =P8*W8 -> 0 | AB8: ='1. Plano anual atividades'!E10 -> 0 | BE8: =IF($BB8="7 dias com os media", "■",0) -> 0 | BF8: =IF(BE8="■", $R8+$S8) -> FALSE | BG8: =IF($BB8="aLer mais e melhor", "■",0) -> 0 | BH8: =IF(BG8="■", $R8+$S8) -> FALSE | BI8: =IF($BB8="Campeonato de Escrita e Ciência Criativa", "■",0) -> 0 | BJ8: =IF(BI8="■", $R8+$S8) -> FALSE | BK8: =IF($BB8="Cientificamente provável", "■",0) -> 0 | BL8: =IF(BK8="■", $R8+$S8) -> FALSE | BM8: =IF($BB8="Clássicos em rede", "■",0) -> 0 | BN8: =IF(BM8="■", $R8+$S8) -> FALSE | BO8: =IF($BB8="Conto Contigo", "■",0) -> 0 | BP8: =IF(BO8="■", $R8+$S8) -> FALSE | BQ8: =IF($BB8="Dia da internet Mais Segura", "■",0) -> 0 | BR8: =IF(BQ8="■", $R8+$S8) -> FALSE | BS8: =IF($BB8="Dia Mundial da Língua Portuguesa", "■",0) -> 0 | BT8: =IF(BS8="■", $R8+$S8) -> FALSE | BU8: =IF($BB8="Isto também é comigo", "■",0) -> 0 | BV8: =IF(BU8="■", $R8+$S8) -> FALSE | BW8: =IF($BB8="Jornalistas em rede", "■",0) -> 0 | BX8: =IF(BW8="■", $R8+$S8) -> FALSE | BY8: =IF($BB8="Juntos a criar", "■",0) -> 0 | BZ8: =IF(BY8="■", $R8+$S8) -> FALSE | CA8: =IF($BB8="Ler eescrever mais com a BE", "■",0) -> 0 | CB8: =IF(CA8="■", $R8+$S8) -> FALSE | CC8: =IF($BB8="Ler fora da escola", "■",0) -> 0 | CD8: =IF(CC8="■", $R8+$S8) -> FALSE | CE8: =IF($BB8="Lidera", "■",0) -> 0 | CF8: =IF(CE8="■", $R8+$S8) -> FALSE | CG8: =IF($BB8="Media@ção", "■",0) -> 0 | CH8: =IF(CG8="■", $R8+$S8) -> FALSE | CI8: =IF($BB8="Mês Internacional da Biblioteca Escolar", "■",0) -> 0 | CJ8: =IF(CI8="■", $R8+$S8) -> FALSE | CK8: =IF($BB8="Miúdos a votos", "■",0) -> 0 | CL8: =IF(CK8="■", $R8+$S8) -> FALSE | CM8: =IF($BB8="Newton gostava de ler", "■",0) -> 0 | CN8: =IF(CM8="■", $R8+$S8) -> FALSE | CO8: =IF($BB8="Proliteracias", "■",0) -> 0 | CP8: =IF(CO8="■", $R8+$S8) -> FALSE | CQ8: =IF($BB8="PÚBLICO na Escola", "■",0) -> 0 | CR8: =IF(CQ8="■", $R8+$S8) -> FALSE | CS8: =IF($BB8="READ ON Portugal", "■",0) -> 0 | CT8: =IF(CS8="■", $R8+$S8) -> FALSE | CU8: =IF($BB8="Semana da leitura", "■",0) -> 0 | CV8: =IF(CU8="■", $R8+$S8) -> FALSE | CW8: =IF($BB8="Supercharged by IA", "■",0) -> 0 | CX8: =IF(CW8="■", $R8+$S8) -> FALSE | CY8: =IF($BB8="Todos Juntos Podemos Ler", "■",0) -> 0 | CZ8: =IF(CY8="■", $R8+$S8) -> FALSE | DA8: =IF($BB8="Voluntários de leitura", "■",0) -> 0 | DB8: =IF(DA8="■", $R8+$S8) -> FALSE | DC8: =IF($BB8="Outra(s)", "■",0) -> 0 | DD8: =IF(DC8="■", $R8+$S8) -> FALSE | DF8: =IF($BC8="Plano Nacional das Artes", "■",0) -> 0 | DG8: =IF(DF8="■", $R8+$S8) -> FALSE | DH8: =IF($BC8="Plano Nacional de Cinema", "■",0) -> 0 | DI8: =IF(DH8="■", $R8+$S8) -> FALSE | DJ8: =IF($BC8="Plano Nacional de Formação Financeira", "■",0) -> 0 | DK8: =IF(DJ8="■", $R8+$S8) -> FALSE | DL8: =IF($BC8="Outra(s)", "■",0) -> 0 | DM8: =IF(DL8="■", $R8+$S8) -> FALSE | DO8: =IF($BD8="Histórias com Ciência na Biblioteca Escolar", "■",0) -> 0 | DP8: =IF(DO8="■", $R8+$S8) -> FALSE | DQ8: =IF($BD8="Jornal escolar", "■",0) -> 0 | DR8: =IF(DQ8="■", $R8+$S8) -> FALSE | DS8: =IF($BD8="Rádio escolar", "■",0) -> 0 | DT8: =IF(DS8="■", $R8+$S8) -> FALSE | DU8: =IF($BD8="TV escolar", "■",0) -> 0 | DV8: =IF(DU8="■", $R8+$S8) -> FALSE | DW8: =IF($BD8="Outra(s)", "■",0) -> 0 | DX8: =IF(DW8="■", $R8+$S8) -> FALSE
B9: ='1. Plano anual atividades'!C11 -> 0 | D9: ='1. Plano anual atividades'!D11 -> 0 | E9: ='1. Plano anual atividades'!I11 -> 0 | F9: ='1. Plano anual atividades'!J11 -> 0 | G9: ='1. Plano anual atividades'!K11 -> 0 | H9: ='1. Plano anual atividades'!L11 -> 0 | I9: ='1. Plano anual atividades'!M11 -> 0 | J9: ='1. Plano anual atividades'!N11 -> 0 | K9: ='1. Plano anual atividades'!O11 -> 0 | L9: ='1. Plano anual atividades'!P11 -> 0 | ... N9: ='1. Plano anual atividades'!R11 -> 0 | Q9: =O9*P9 -> 0 | T9: =P9*R9 -> 0 | U9: =P9*S9 -> 0 | X9: =P9*V9 -> 0 | Y9: =P9*W9 -> 0 | AB9: ='1. Plano anual atividades'!E11 -> 0 | BE9: =IF($BB9="7 dias com os media", "■",0) -> 0 | BF9: =IF(BE9="■", $R9+$S9) -> FALSE | BG9: =IF($BB9="aLer mais e melhor", "■",0) -> 0 | BH9: =IF(BG9="■", $R9+$S9) -> FALSE | BI9: =IF($BB9="Campeonato de Escrita e Ciência Criativa", "■",0) -> 0 | BJ9: =IF(BI9="■", $R9+$S9) -> FALSE | BK9: =IF($BB9="Cientificamente provável", "■",0) -> 0 | BL9: =IF(BK9="■", $R9+$S9) -> FALSE | BM9: =IF($BB9="Clássicos em rede", "■",0) -> 0 | BN9: =IF(BM9="■", $R9+$S9) -> FALSE | BO9: =IF($BB9="Conto Contigo", "■",0) -> 0 | BP9: =IF(BO9="■", $R9+$S9) -> FALSE | BQ9: =IF($BB9="Dia da internet Mais Segura", "■",0) -> 0 | BR9: =IF(BQ9="■", $R9+$S9) -> FALSE | BS9: =IF($BB9="Dia Mundial da Língua Portuguesa", "■",0) -> 0 | BT9: =IF(BS9="■", $R9+$S9) -> FALSE | BU9: =IF($BB9="Isto também é comigo", "■",0) -> 0 | BV9: =IF(BU9="■", $R9+$S9) -> FALSE | BW9: =IF($BB9="Jornalistas em rede", "■",0) -> 0 | BX9: =IF(BW9="■", $R9+$S9) -> FALSE | BY9: =IF($BB9="Juntos a criar", "■",0) -> 0 | BZ9: =IF(BY9="■", $R9+$S9) -> FALSE | CA9: =IF($BB9="Ler eescrever mais com a BE", "■",0) -> 0 | CB9: =IF(CA9="■", $R9+$S9) -> FALSE | CC9: =IF($BB9="Ler fora da escola", "■",0) -> 0 | CD9: =IF(CC9="■", $R9+$S9) -> FALSE | CE9: =IF($BB9="Lidera", "■",0) -> 0 | CF9: =IF(CE9="■", $R9+$S9) -> FALSE | CG9: =IF($BB9="Media@ção", "■",0) -> 0 | CH9: =IF(CG9="■", $R9+$S9) -> FALSE | CI9: =IF($BB9="Mês Internacional da Biblioteca Escolar", "■",0) -> 0 | CJ9: =IF(CI9="■", $R9+$S9) -> FALSE | CK9: =IF($BB9="Miúdos a votos", "■",0) -> 0 | CL9: =IF(CK9="■", $R9+$S9) -> FALSE | CM9: =IF($BB9="Newton gostava de ler", "■",0) -> 0 | CN9: =IF(CM9="■", $R9+$S9) -> FALSE | CO9: =IF($BB9="Proliteracias", "■",0) -> 0 | CP9: =IF(CO9="■", $R9+$S9) -> FALSE | CQ9: =IF($BB9="PÚBLICO na Escola", "■",0) -> 0 | CR9: =IF(CQ9="■", $R9+$S9) -> FALSE | CS9: =IF($BB9="READ ON Portugal", "■",0) -> 0 | CT9: =IF(CS9="■", $R9+$S9) -> FALSE | CU9: =IF($BB9="Semana da leitura", "■",0) -> 0 | CV9: =IF(CU9="■", $R9+$S9) -> FALSE | CW9: =IF($BB9="Supercharged by IA", "■",0) -> 0 | CX9: =IF(CW9="■", $R9+$S9) -> FALSE | CY9: =IF($BB9="Todos Juntos Podemos Ler", "■",0) -> 0 | CZ9: =IF(CY9="■", $R9+$S9) -> FALSE | DA9: =IF($BB9="Voluntários de leitura", "■",0) -> 0 | DB9: =IF(DA9="■", $R9+$S9) -> FALSE | DC9: =IF($BB9="Outra(s)", "■",0) -> 0 | DD9: =IF(DC9="■", $R9+$S9) -> FALSE | DF9: =IF($BC9="Plano Nacional das Artes", "■",0) -> 0 | DG9: =IF(DF9="■", $R9+$S9) -> FALSE | DH9: =IF($BC9="Plano Nacional de Cinema", "■",0) -> 0 | DI9: =IF(DH9="■", $R9+$S9) -> FALSE | DJ9: =IF($BC9="Plano Nacional de Formação Financeira", "■",0) -> 0 | DK9: =IF(DJ9="■", $R9+$S9) -> FALSE | DL9: =IF($BC9="Outra(s)", "■",0) -> 0 | DM9: =IF(DL9="■", $R9+$S9) -> FALSE | DO9: =IF($BD9="Histórias com Ciência na Biblioteca Escolar", "■",0) -> 0 | DP9: =IF(DO9="■", $R9+$S9) -> FALSE | DQ9: =IF($BD9="Jornal escolar", "■",0) -> 0 | DR9: =IF(DQ9="■", $R9+$S9) -> FALSE | DS9: =IF($BD9="Rádio escolar", "■",0) -> 0 | DT9: =IF(DS9="■", $R9+$S9) -> FALSE | DU9: =IF($BD9="TV escolar", "■",0) -> 0 | DV9: =IF(DU9="■", $R9+$S9) -> FALSE | DW9: =IF($BD9="Outra(s)", "■",0) -> 0 | DX9: =IF(DW9="■", $R9+$S9) -> FALSE
B10: ='1. Plano anual atividades'!C12 -> 0 | D10: ='1. Plano anual atividades'!D12 -> 0 | E10: ='1. Plano anual atividades'!I12 -> 0 | F10: ='1. Plano anual atividades'!J12 -> 0 | G10: ='1. Plano anual atividades'!K12 -> 0 | H10: ='1. Plano anual atividades'!L12 -> 0 | I10: ='1. Plano anual atividades'!M12 -> 0 | J10: ='1. Plano anual atividades'!N12 -> 0 | K10: ='1. Plano anual atividades'!O12 -> 0 | L10: ='1. Plano anual atividades'!P12 -> 0 | ... N10: ='1. Plano anual atividades'!R12 -> 0 | Q10: =O10*P10 -> 0 | T10: =P10*R10 -> 0 | U10: =P10*S10 -> 0 | X10: =P10*V10 -> 0 | Y10: =P10*W10 -> 0 | AB10: ='1. Plano anual atividades'!E12 -> 0 | BE10: =IF($BB10="7 dias com os media", "■",0) -> 0 | BF10: =IF(BE10="■", $R10+$S10) -> FALSE | BG10: =IF($BB10="aLer mais e melhor", "■",0) -> 0 | BH10: =IF(BG10="■", $R10+$S10) -> FALSE | BI10: =IF($BB10="Campeonato de Escrita e Ciência Criativa", "■",0) -> 0 | BJ10: =IF(BI10="■", $R10+$S10) -> FALSE | BK10: =IF($BB10="Cientificamente provável", "■",0) -> 0 | BL10: =IF(BK10="■", $R10+$S10) -> FALSE | BM10: =IF($BB10="Clássicos em rede", "■",0) -> 0 | BN10: =IF(BM10="■", $R10+$S10) -> FALSE | BO10: =IF($BB10="Conto Contigo", "■",0) -> 0 | BP10: =IF(BO10="■", $R10+$S10) -> FALSE | BQ10: =IF($BB10="Dia da internet Mais Segura", "■",0) -> 0 | BR10: =IF(BQ10="■", $R10+$S10) -> FALSE | BS10: =IF($BB10="Dia Mundial da Língua Portuguesa", "■",0) -> 0 | BT10: =IF(BS10="■", $R10+$S10) -> FALSE | BU10: =IF($BB10="Isto também é comigo", "■",0) -> 0 | BV10: =IF(BU10="■", $R10+$S10) -> FALSE | BW10: =IF($BB10="Jornalistas em rede", "■",0) -> 0 | BX10: =IF(BW10="■", $R10+$S10) -> FALSE | BY10: =IF($BB10="Juntos a criar", "■",0) -> 0 | BZ10: =IF(BY10="■", $R10+$S10) -> FALSE | CA10: =IF($BB10="Ler eescrever mais com a BE", "■",0) -> 0 | CB10: =IF(CA10="■", $R10+$S10) -> FALSE | CC10: =IF($BB10="Ler fora da escola", "■",0) -> 0 | CD10: =IF(CC10="■", $R10+$S10) -> FALSE | CE10: =IF($BB10="Lidera", "■",0) -> 0 | CF10: =IF(CE10="■", $R10+$S10) -> FALSE | CG10: =IF($BB10="Media@ção", "■",0) -> 0 | CH10: =IF(CG10="■", $R10+$S10) -> FALSE | CI10: =IF($BB10="Mês Internacional da Biblioteca Escolar", "■",0) -> 0 | CJ10: =IF(CI10="■", $R10+$S10) -> FALSE | CK10: =IF($BB10="Miúdos a votos", "■",0) -> 0 | CL10: =IF(CK10="■", $R10+$S10) -> FALSE | CM10: =IF($BB10="Newton gostava de ler", "■",0) -> 0 | CN10: =IF(CM10="■", $R10+$S10) -> FALSE | CO10: =IF($BB10="Proliteracias", "■",0) -> 0 | CP10: =IF(CO10="■", $R10+$S10) -> FALSE | CQ10: =IF($BB10="PÚBLICO na Escola", "■",0) -> 0 | CR10: =IF(CQ10="■", $R10+$S10) -> FALSE | CS10: =IF($BB10="READ ON Portugal", "■",0) -> 0 | CT10: =IF(CS10="■", $R10+$S10) -> FALSE | CU10: =IF($BB10="Semana da leitura", "■",0) -> 0 | CV10: =IF(CU10="■", $R10+$S10) -> FALSE | CW10: =IF($BB10="Supercharged by IA", "■",0) -> 0 | CX10: =IF(CW10="■", $R10+$S10) -> FALSE | CY10: =IF($BB10="Todos Juntos Podemos Ler", "■",0) -> 0 | CZ10: =IF(CY10="■", $R10+$S10) -> FALSE | DA10: =IF($BB10="Voluntários de leitura", "■",0) -> 0 | DB10: =IF(DA10="■", $R10+$S10) -> FALSE | DC10: =IF($BB10="Outra(s)", "■",0) -> 0 | DD10: =IF(DC10="■", $R10+$S10) -> FALSE | DF10: =IF($BC10="Plano Nacional das Artes", "■",0) -> 0 | DG10: =IF(DF10="■", $R10+$S10) -> FALSE | DH10: =IF($BC10="Plano Nacional de Cinema", "■",0) -> 0 | DI10: =IF(DH10="■", $R10+$S10) -> FALSE | DJ10: =IF($BC10="Plano Nacional de Formação Financeira", "■",0) -> 0 | DK10: =IF(DJ10="■", $R10+$S10) -> FALSE | DL10: =IF($BC10="Outra(s)", "■",0) -> 0 | DM10: =IF(DL10="■", $R10+$S10) -> FALSE | DO10: =IF($BD10="Histórias com Ciência na Biblioteca Escolar", "■",0) -> 0 | DP10: =IF(DO10="■", $R10+$S10) -> FALSE | DQ10: =IF($BD10="Jornal escolar", "■",0) -> 0 | DR10: =IF(DQ10="■", $R10+$S10) -> FALSE | DS10: =IF($BD10="Rádio escolar", "■",0) -> 0 | DT10: =IF(DS10="■", $R10+$S10) -> FALSE | DU10: =IF($BD10="TV escolar", "■",0) -> 0 | DV10: =IF(DU10="■", $R10+$S10) -> FALSE | DW10: =IF($BD10="Outra(s)", "■",0) -> 0 | DX10: =IF(DW10="■", $R10+$S10) -> FALSE
B11: ='1. Plano anual atividades'!C13 -> 0 | D11: ='1. Plano anual atividades'!D13 -> 0 | E11: ='1. Plano anual atividades'!I13 -> 0 | F11: ='1. Plano anual atividades'!J13 -> 0 | G11: ='1. Plano anual atividades'!K13 -> 0 | H11: ='1. Plano anual atividades'!L13 -> 0 | I11: ='1. Plano anual atividades'!M13 -> 0 | J11: ='1. Plano anual atividades'!N13 -> 0 | K11: ='1. Plano anual atividades'!O13 -> 0 | L11: ='1. Plano anual atividades'!P13 -> 0 | ... N11: ='1. Plano anual atividades'!R13 -> 0 | Q11: =O11*P11 -> 0 | T11: =P11*R11 -> 0 | U11: =P11*S11 -> 0 | X11: =P11*V11 -> 0 | Y11: =P11*W11 -> 0 | AB11: ='1. Plano anual atividades'!E13 -> 0 | BE11: =IF($BB11="7 dias com os media", "■",0) -> 0 | BF11: =IF(BE11="■", $R11+$S11) -> FALSE | BG11: =IF($BB11="aLer mais e melhor", "■",0) -> 0 | BH11: =IF(BG11="■", $R11+$S11) -> FALSE | BI11: =IF($BB11="Campeonato de Escrita e Ciência Criativa", "■",0) -> 0 | BJ11: =IF(BI11="■", $R11+$S11) -> FALSE | BK11: =IF($BB11="Cientificamente provável", "■",0) -> 0 | BL11: =IF(BK11="■", $R11+$S11) -> FALSE | BM11: =IF($BB11="Clássicos em rede", "■",0) -> 0 | BN11: =IF(BM11="■", $R11+$S11) -> FALSE | BO11: =IF($BB11="Conto Contigo", "■",0) -> 0 | BP11: =IF(BO11="■", $R11+$S11) -> FALSE | BQ11: =IF($BB11="Dia da internet Mais Segura", "■",0) -> 0 | BR11: =IF(BQ11="■", $R11+$S11) -> FALSE | BS11: =IF($BB11="Dia Mundial da Língua Portuguesa", "■",0) -> 0 | BT11: =IF(BS11="■", $R11+$S11) -> FALSE | BU11: =IF($BB11="Isto também é comigo", "■",0) -> 0 | BV11: =IF(BU11="■", $R11+$S11) -> FALSE | BW11: =IF($BB11="Jornalistas em rede", "■",0) -> 0 | BX11: =IF(BW11="■", $R11+$S11) -> FALSE | BY11: =IF($BB11="Juntos a criar", "■",0) -> 0 | BZ11: =IF(BY11="■", $R11+$S11) -> FALSE | CA11: =IF($BB11="Ler eescrever mais com a BE", "■",0) -> 0 | CB11: =IF(CA11="■", $R11+$S11) -> FALSE | CC11: =IF($BB11="Ler fora da escola", "■",0) -> 0 | CD11: =IF(CC11="■", $R11+$S11) -> FALSE | CE11: =IF($BB11="Lidera", "■",0) -> 0 | CF11: =IF(CE11="■", $R11+$S11) -> FALSE | CG11: =IF($BB11="Media@ção", "■",0) -> 0 | CH11: =IF(CG11="■", $R11+$S11) -> FALSE | CI11: =IF($BB11="Mês Internacional da Biblioteca Escolar", "■",0) -> 0 | CJ11: =IF(CI11="■", $R11+$S11) -> FALSE | CK11: =IF($BB11="Miúdos a votos", "■",0) -> 0 | CL11: =IF(CK11="■", $R11+$S11) -> FALSE | CM11: =IF($BB11="Newton gostava de ler", "■",0) -> 0 | CN11: =IF(CM11="■", $R11+$S11) -> FALSE | CO11: =IF($BB11="Proliteracias", "■",0) -> 0 | CP11: =IF(CO11="■", $R11+$S11) -> FALSE | CQ11: =IF($BB11="PÚBLICO na Escola", "■",0) -> 0 | CR11: =IF(CQ11="■", $R11+$S11) -> FALSE | CS11: =IF($BB11="READ ON Portugal", "■",0) -> 0 | CT11: =IF(CS11="■", $R11+$S11) -> FALSE | CU11: =IF($BB11="Semana da leitura", "■",0) -> 0 | CV11: =IF(CU11="■", $R11+$S11) -> FALSE | CW11: =IF($BB11="Supercharged by IA", "■",0) -> 0 | CX11: =IF(CW11="■", $R11+$S11) -> FALSE | CY11: =IF($BB11="Todos Juntos Podemos Ler", "■",0) -> 0 | CZ11: =IF(CY11="■", $R11+$S11) -> FALSE | DA11: =IF($BB11="Voluntários de leitura", "■",0) -> 0 | DB11: =IF(DA11="■", $R11+$S11) -> FALSE | DC11: =IF($BB11="Outra(s)", "■",0) -> 0 | DD11: =IF(DC11="■", $R11+$S11) -> FALSE | DF11: =IF($BC11="Plano Nacional das Artes", "■",0) -> 0 | DG11: =IF(DF11="■", $R11+$S11) -> FALSE | DH11: =IF($BC11="Plano Nacional de Cinema", "■",0) -> 0 | DI11: =IF(DH11="■", $R11+$S11) -> FALSE | DJ11: =IF($BC11="Plano Nacional de Formação Financeira", "■",0) -> 0 | DK11: =IF(DJ11="■", $R11+$S11) -> FALSE | DL11: =IF($BC11="Outra(s)", "■",0) -> 0 | DM11: =IF(DL11="■", $R11+$S11) -> FALSE | DO11: =IF($BD11="Histórias com Ciência na Biblioteca Escolar", "■",0) -> 0 | DP11: =IF(DO11="■", $R11+$S11) -> FALSE | DQ11: =IF($BD11="Jornal escolar", "■",0) -> 0 | DR11: =IF(DQ11="■", $R11+$S11) -> FALSE | DS11: =IF($BD11="Rádio escolar", "■",0) -> 0 | DT11: =IF(DS11="■", $R11+$S11) -> FALSE | DU11: =IF($BD11="TV escolar", "■",0) -> 0 | DV11: =IF(DU11="■", $R11+$S11) -> FALSE | DW11: =IF($BD11="Outra(s)", "■",0) -> 0 | DX11: =IF(DW11="■", $R11+$S11) -> FALSE
B12: ='1. Plano anual atividades'!C14 -> 0 | D12: ='1. Plano anual atividades'!D14 -> 0 | E12: ='1. Plano anual atividades'!I14 -> 0 | F12: ='1. Plano anual atividades'!J14 -> 0 | G12: ='1. Plano anual atividades'!K14 -> 0 | H12: ='1. Plano anual atividades'!L14 -> 0 | I12: ='1. Plano anual atividades'!M14 -> 0 | J12: ='1. Plano anual atividades'!N14 -> 0 | K12: ='1. Plano anual atividades'!O14 -> 0 | L12: ='1. Plano anual atividades'!P14 -> 0 | ... N12: ='1. Plano anual atividades'!R14 -> 0 | Q12: =O12*P12 -> 0 | T12: =P12*R12 -> 0 | U12: =P12*S12 -> 0 | X12: =P12*V12 -> 0 | Y12: =P12*W12 -> 0 | AB12: ='1. Plano anual atividades'!E14 -> 0 | BE12: =IF($BB12="7 dias com os media", "■",0) -> 0 | BF12: =IF(BE12="■", $R12+$S12) -> FALSE | BG12: =IF($BB12="aLer mais e melhor", "■",0) -> 0 | BH12: =IF(BG12="■", $R12+$S12) -> FALSE | BI12: =IF($BB12="Campeonato de Escrita e Ciência Criativa", "■",0) -> 0 | BJ12: =IF(BI12="■", $R12+$S12) -> FALSE | BK12: =IF($BB12="Cientificamente provável", "■",0) -> 0 | BL12: =IF(BK12="■", $R12+$S12) -> FALSE | BM12: =IF($BB12="Clássicos em rede", "■",0) -> 0 | BN12: =IF(BM12="■", $R12+$S12) -> FALSE | BO12: =IF($BB12="Conto Contigo", "■",0) -> 0 | BP12: =IF(BO12="■", $R12+$S12) -> FALSE | BQ12: =IF($BB12="Dia da internet Mais Segura", "■",0) -> 0 | BR12: =IF(BQ12="■", $R12+$S12) -> FALSE | BS12: =IF($BB12="Dia Mundial da Língua Portuguesa", "■",0) -> 0 | BT12: =IF(BS12="■", $R12+$S12) -> FALSE | BU12: =IF($BB12="Isto também é comigo", "■",0) -> 0 | BV12: =IF(BU12="■", $R12+$S12) -> FALSE | BW12: =IF($BB12="Jornalistas em rede", "■",0) -> 0 | BX12: =IF(BW12="■", $R12+$S12) -> FALSE | BY12: =IF($BB12="Juntos a criar", "■",0) -> 0 | BZ12: =IF(BY12="■", $R12+$S12) -> FALSE | CA12: =IF($BB12="Ler eescrever mais com a BE", "■",0) -> 0 | CB12: =IF(CA12="■", $R12+$S12) -> FALSE | CC12: =IF($BB12="Ler fora da escola", "■",0) -> 0 | CD12: =IF(CC12="■", $R12+$S12) -> FALSE | CE12: =IF($BB12="Lidera", "■",0) -> 0 | CF12: =IF(CE12="■", $R12+$S12) -> FALSE | CG12: =IF($BB12="Media@ção", "■",0) -> 0 | CH12: =IF(CG12="■", $R12+$S12) -> FALSE | CI12: =IF($BB12="Mês Internacional da Biblioteca Escolar", "■",0) -> 0 | CJ12: =IF(CI12="■", $R12+$S12) -> FALSE | CK12: =IF($BB12="Miúdos a votos", "■",0) -> 0 | CL12: =IF(CK12="■", $R12+$S12) -> FALSE | CM12: =IF($BB12="Newton gostava de ler", "■",0) -> 0 | CN12: =IF(CM12="■", $R12+$S12) -> FALSE | CO12: =IF($BB12="Proliteracias", "■",0) -> 0 | CP12: =IF(CO12="■", $R12+$S12) -> FALSE | CQ12: =IF($BB12="PÚBLICO na Escola", "■",0) -> 0 | CR12: =IF(CQ12="■", $R12+$S12) -> FALSE | CS12: =IF($BB12="READ ON Portugal", "■",0) -> 0 | CT12: =IF(CS12="■", $R12+$S12) -> FALSE | CU12: =IF($BB12="Semana da leitura", "■",0) -> 0 | CV12: =IF(CU12="■", $R12+$S12) -> FALSE | CW12: =IF($BB12="Supercharged by IA", "■",0) -> 0 | CX12: =IF(CW12="■", $R12+$S12) -> FALSE | CY12: =IF($BB12="Todos Juntos Podemos Ler", "■",0) -> 0 | CZ12: =IF(CY12="■", $R12+$S12) -> FALSE | DA12: =IF($BB12="Voluntários de leitura", "■",0) -> 0 | DB12: =IF(DA12="■", $R12+$S12) -> FALSE | DC12: =IF($BB12="Outra(s)", "■",0) -> 0 | DD12: =IF(DC12="■", $R12+$S12) -> FALSE | DF12: =IF($BC12="Plano Nacional das Artes", "■",0) -> 0 | DG12: =IF(DF12="■", $R12+$S12) -> FALSE | DH12: =IF($BC12="Plano Nacional de Cinema", "■",0) -> 0 | DI12: =IF(DH12="■", $R12+$S12) -> FALSE | DJ12: =IF($BC12="Plano Nacional de Formação Financeira", "■",0) -> 0 | DK12: =IF(DJ12="■", $R12+$S12) -> FALSE | DL12: =IF($BC12="Outra(s)", "■",0) -> 0 | DM12: =IF(DL12="■", $R12+$S12) -> FALSE | DO12: =IF($BD12="Histórias com Ciência na Biblioteca Escolar", "■",0) -> 0 | DP12: =IF(DO12="■", $R12+$S12) -> FALSE | DQ12: =IF($BD12="Jornal escolar", "■",0) -> 0 | DR12: =IF(DQ12="■", $R12+$S12) -> FALSE | DS12: =IF($BD12="Rádio escolar", "■",0) -> 0 | DT12: =IF(DS12="■", $R12+$S12) -> FALSE | DU12: =IF($BD12="TV escolar", "■",0) -> 0 | DV12: =IF(DU12="■", $R12+$S12) -> FALSE | DW12: =IF($BD12="Outra(s)", "■",0) -> 0 | DX12: =IF(DW12="■", $R12+$S12) -> FALSE
B13: ='1. Plano anual atividades'!C15 -> 0 | D13: ='1. Plano anual atividades'!D15 -> 0 | E13: ='1. Plano anual atividades'!I15 -> 0 | F13: ='1. Plano anual atividades'!J15 -> 0 | G13: ='1. Plano anual atividades'!K15 -> 0 | H13: ='1. Plano anual atividades'!L15 -> 0 | I13: ='1. Plano anual atividades'!M15 -> 0 | J13: ='1. Plano anual atividades'!N15 -> 0 | K13: ='1. Plano anual atividades'!O15 -> 0 | L13: ='1. Plano anual atividades'!P15 -> 0 | ... N13: ='1. Plano anual atividades'!R15 -> 0 | Q13: =O13*P13 -> 0 | T13: =P13*R13 -> 0 | U13: =P13*S13 -> 0 | X13: =P13*V13 -> 0 | Y13: =P13*W13 -> 0 | AB13: ='1. Plano anual atividades'!E15 -> 0 | BE13: =IF($BB13="7 dias com os media", "■",0) -> 0 | BF13: =IF(BE13="■", $R13+$S13) -> FALSE | BG13: =IF($BB13="aLer mais e melhor", "■",0) -> 0 | BH13: =IF(BG13="■", $R13+$S13) -> FALSE | BI13: =IF($BB13="Campeonato de Escrita e Ciência Criativa", "■",0) -> 0 | BJ13: =IF(BI13="■", $R13+$S13) -> FALSE | BK13: =IF($BB13="Cientificamente provável", "■",0) -> 0 | BL13: =IF(BK13="■", $R13+$S13) -> FALSE | BM13: =IF($BB13="Clássicos em rede", "■",0) -> 0 | BN13: =IF(BM13="■", $R13+$S13) -> FALSE | BO13: =IF($BB13="Conto Contigo", "■",0) -> 0 | BP13: =IF(BO13="■", $R13+$S13) -> FALSE | BQ13: =IF($BB13="Dia da internet Mais Segura", "■",0) -> 0 | BR13: =IF(BQ13="■", $R13+$S13) -> FALSE | BS13: =IF($BB13="Dia Mundial da Língua Portuguesa", "■",0) -> 0 | BT13: =IF(BS13="■", $R13+$S13) -> FALSE | BU13: =IF($BB13="Isto também é comigo", "■",0) -> 0 | BV13: =IF(BU13="■", $R13+$S13) -> FALSE | BW13: =IF($BB13="Jornalistas em rede", "■",0) -> 0 | BX13: =IF(BW13="■", $R13+$S13) -> FALSE | BY13: =IF($BB13="Juntos a criar", "■",0) -> 0 | BZ13: =IF(BY13="■", $R13+$S13) -> FALSE | CA13: =IF($BB13="Ler eescrever mais com a BE", "■",0) -> 0 | CB13: =IF(CA13="■", $R13+$S13) -> FALSE | CC13: =IF($BB13="Ler fora da escola", "■",0) -> 0 | CD13: =IF(CC13="■", $R13+$S13) -> FALSE | CE13: =IF($BB13="Lidera", "■",0) -> 0 | CF13: =IF(CE13="■", $R13+$S13) -> FALSE | CG13: =IF($BB13="Media@ção", "■",0) -> 0 | CH13: =IF(CG13="■", $R13+$S13) -> FALSE | CI13: =IF($BB13="Mês Internacional da Biblioteca Escolar", "■",0) -> 0 | CJ13: =IF(CI13="■", $R13+$S13) -> FALSE | CK13: =IF($BB13="Miúdos a votos", "■",0) -> 0 | CL13: =IF(CK13="■", $R13+$S13) -> FALSE | CM13: =IF($BB13="Newton gostava de ler", "■",0) -> 0 | CN13: =IF(CM13="■", $R13+$S13) -> FALSE | CO13: =IF($BB13="Proliteracias", "■",0) -> 0 | CP13: =IF(CO13="■", $R13+$S13) -> FALSE | CQ13: =IF($BB13="PÚBLICO na Escola", "■",0) -> 0 | CR13: =IF(CQ13="■", $R13+$S13) -> FALSE | CS13: =IF($BB13="READ ON Portugal", "■",0) -> 0 | CT13: =IF(CS13="■", $R13+$S13) -> FALSE | CU13: =IF($BB13="Semana da leitura", "■",0) -> 0 | CV13: =IF(CU13="■", $R13+$S13) -> FALSE | CW13: =IF($BB13="Supercharged by IA", "■",0) -> 0 | CX13: =IF(CW13="■", $R13+$S13) -> FALSE | CY13: =IF($BB13="Todos Juntos Podemos Ler", "■",0) -> 0 | CZ13: =IF(CY13="■", $R13+$S13) -> FALSE | DA13: =IF($BB13="Voluntários de leitura", "■",0) -> 0 | DB13: =IF(DA13="■", $R13+$S13) -> FALSE | DC13: =IF($BB13="Outra(s)", "■",0) -> 0 | DD13: =IF(DC13="■", $R13+$S13) -> FALSE | DF13: =IF($BC13="Plano Nacional das Artes", "■",0) -> 0 | DG13: =IF(DF13="■", $R13+$S13) -> FALSE | DH13: =IF($BC13="Plano Nacional de Cinema", "■",0) -> 0 | DI13: =IF(DH13="■", $R13+$S13) -> FALSE | DJ13: =IF($BC13="Plano Nacional de Formação Financeira", "■",0) -> 0 | DK13: =IF(DJ13="■", $R13+$S13) -> FALSE | DL13: =IF($BC13="Outra(s)", "■",0) -> 0 | DM13: =IF(DL13="■", $R13+$S13) -> FALSE | DO13: =IF($BD13="Histórias com Ciência na Biblioteca Escolar", "■",0) -> 0 | DP13: =IF(DO13="■", $R13+$S13) -> FALSE | DQ13: =IF($BD13="Jornal escolar", "■",0) -> 0 | DR13: =IF(DQ13="■", $R13+$S13) -> FALSE | DS13: =IF($BD13="Rádio escolar", "■",0) -> 0 | DT13: =IF(DS13="■", $R13+$S13) -> FALSE | DU13: =IF($BD13="TV escolar", "■",0) -> 0 | DV13: =IF(DU13="■", $R13+$S13) -> FALSE | DW13: =IF($BD13="Outra(s)", "■",0) -> 0 | DX13: =IF(DW13="■", $R13+$S13) -> FALSE
B14: ='1. Plano anual atividades'!C16 -> 0 | D14: ='1. Plano anual atividades'!D16 -> 0 | E14: ='1. Plano anual atividades'!I16 -> 0 | F14: ='1. Plano anual atividades'!J16 -> 0 | G14: ='1. Plano anual atividades'!K16 -> 0 | H14: ='1. Plano anual atividades'!L16 -> 0 | I14: ='1. Plano anual atividades'!M16 -> 0 | J14: ='1. Plano anual atividades'!N16 -> 0 | K14: ='1. Plano anual atividades'!O16 -> 0 | L14: ='1. Plano anual atividades'!P16 -> 0 | ... N14: ='1. Plano anual atividades'!R16 -> 0 | Q14: =O14*P14 -> 0 | T14: =P14*R14 -> 0 | U14: =P14*S14 -> 0 | X14: =P14*V14 -> 0 | Y14: =P14*W14 -> 0 | AB14: ='1. Plano anual atividades'!E16 -> 0 | BE14: =IF($BB14="7 dias com os media", "■",0) -> 0 | BF14: =IF(BE14="■", $R14+$S14) -> FALSE | BG14: =IF($BB14="aLer mais e melhor", "■",0) -> 0 | BH14: =IF(BG14="■", $R14+$S14) -> FALSE | BI14: =IF($BB14="Campeonato de Escrita e Ciência Criativa", "■",0) -> 0 | BJ14: =IF(BI14="■", $R14+$S14) -> FALSE | BK14: =IF($BB14="Cientificamente provável", "■",0) -> 0 | BL14: =IF(BK14="■", $R14+$S14) -> FALSE | BM14: =IF($BB14="Clássicos em rede", "■",0) -> 0 | BN14: =IF(BM14="■", $R14+$S14) -> FALSE | BO14: =IF($BB14="Conto Contigo", "■",0) -> 0 | BP14: =IF(BO14="■", $R14+$S14) -> FALSE | BQ14: =IF($BB14="Dia da internet Mais Segura", "■",0) -> 0 | BR14: =IF(BQ14="■", $R14+$S14) -> FALSE | BS14: =IF($BB14="Dia Mundial da Língua Portuguesa", "■",0) -> 0 | BT14: =IF(BS14="■", $R14+$S14) -> FALSE | BU14: =IF($BB14="Isto também é comigo", "■",0) -> 0 | BV14: =IF(BU14="■", $R14+$S14) -> FALSE | BW14: =IF($BB14="Jornalistas em rede", "■",0) -> 0 | BX14: =IF(BW14="■", $R14+$S14) -> FALSE | BY14: =IF($BB14="Juntos a criar", "■",0) -> 0 | BZ14: =IF(BY14="■", $R14+$S14) -> FALSE | CA14: =IF($BB14="Ler eescrever mais com a BE", "■",0) -> 0 | CB14: =IF(CA14="■", $R14+$S14) -> FALSE | CC14: =IF($BB14="Ler fora da escola", "■",0) -> 0 | CD14: =IF(CC14="■", $R14+$S14) -> FALSE | CE14: =IF($BB14="Lidera", "■",0) -> 0 | CF14: =IF(CE14="■", $R14+$S14) -> FALSE | CG14: =IF($BB14="Media@ção", "■",0) -> 0 | CH14: =IF(CG14="■", $R14+$S14) -> FALSE | CI14: =IF($BB14="Mês Internacional da Biblioteca Escolar", "■",0) -> 0 | CJ14: =IF(CI14="■", $R14+$S14) -> FALSE | CK14: =IF($BB14="Miúdos a votos", "■",0) -> 0 | CL14: =IF(CK14="■", $R14+$S14) -> FALSE | CM14: =IF($BB14="Newton gostava de ler", "■",0) -> 0 | CN14: =IF(CM14="■", $R14+$S14) -> FALSE | CO14: =IF($BB14="Proliteracias", "■",0) -> 0 | CP14: =IF(CO14="■", $R14+$S14) -> FALSE | CQ14: =IF($BB14="PÚBLICO na Escola", "■",0) -> 0 | CR14: =IF(CQ14="■", $R14+$S14) -> FALSE | CS14: =IF($BB14="READ ON Portugal", "■",0) -> 0 | CT14: =IF(CS14="■", $R14+$S14) -> FALSE | CU14: =IF($BB14="Semana da leitura", "■",0) -> 0 | CV14: =IF(CU14="■", $R14+$S14) -> FALSE | CW14: =IF($BB14="Supercharged by IA", "■",0) -> 0 | CX14: =IF(CW14="■", $R14+$S14) -> FALSE | CY14: =IF($BB14="Todos Juntos Podemos Ler", "■",0) -> 0 | CZ14: =IF(CY14="■", $R14+$S14) -> FALSE | DA14: =IF($BB14="Voluntários de leitura", "■",0) -> 0 | DB14: =IF(DA14="■", $R14+$S14) -> FALSE | DC14: =IF($BB14="Outra(s)", "■",0) -> 0 | DD14: =IF(DC14="■", $R14+$S14) -> FALSE | DF14: =IF($BC14="Plano Nacional das Artes", "■",0) -> 0 | DG14: =IF(DF14="■", $R14+$S14) -> FALSE | DH14: =IF($BC14="Plano Nacional de Cinema", "■",0) -> 0 | DI14: =IF(DH14="■", $R14+$S14) -> FALSE | DJ14: =IF($BC14="Plano Nacional de Formação Financeira", "■",0) -> 0 | DK14: =IF(DJ14="■", $R14+$S14) -> FALSE | DL14: =IF($BC14="Outra(s)", "■",0) -> 0 | DM14: =IF(DL14="■", $R14+$S14) -> FALSE | DO14: =IF($BD14="Histórias com Ciência na Biblioteca Escolar", "■",0) -> 0 | DP14: =IF(DO14="■", $R14+$S14) -> FALSE | DQ14: =IF($BD14="Jornal escolar", "■",0) -> 0 | DR14: =IF(DQ14="■", $R14+$S14) -> FALSE | DS14: =IF($BD14="Rádio escolar", "■",0) -> 0 | DT14: =IF(DS14="■", $R14+$S14) -> FALSE | DU14: =IF($BD14="TV escolar", "■",0) -> 0 | DV14: =IF(DU14="■", $R14+$S14) -> FALSE | DW14: =IF($BD14="Outra(s)", "■",0) -> 0 | DX14: =IF(DW14="■", $R14+$S14) -> FALSE
B15: ='1. Plano anual atividades'!C17 -> 0 | D15: ='1. Plano anual atividades'!D17 -> 0 | E15: ='1. Plano anual atividades'!I17 -> 0 | F15: ='1. Plano anual atividades'!J17 -> 0 | G15: ='1. Plano anual atividades'!K17 -> 0 | H15: ='1. Plano anual atividades'!L17 -> 0 | I15: ='1. Plano anual atividades'!M17 -> 0 | J15: ='1. Plano anual atividades'!N17 -> 0 | K15: ='1. Plano anual atividades'!O17 -> 0 | L15: ='1. Plano anual atividades'!P17 -> 0 | ... N15: ='1. Plano anual atividades'!R17 -> 0 | Q15: =O15*P15 -> 0 | T15: =P15*R15 -> 0 | U15: =P15*S15 -> 0 | X15: =P15*V15 -> 0 | Y15: =P15*W15 -> 0 | AB15: ='1. Plano anual atividades'!E17 -> 0 | BE15: =IF($BB15="7 dias com os media", "■",0) -> 0 | BF15: =IF(BE15="■", $R15+$S15) -> FALSE | BG15: =IF($BB15="aLer mais e melhor", "■",0) -> 0 | BH15: =IF(BG15="■", $R15+$S15) -> FALSE | BI15: =IF($BB15="Campeonato de Escrita e Ciência Criativa", "■",0) -> 0 | BJ15: =IF(BI15="■", $R15+$S15) -> FALSE | BK15: =IF($BB15="Cientificamente provável", "■",0) -> 0 | BL15: =IF(BK15="■", $R15+$S15) -> FALSE | BM15: =IF($BB15="Clássicos em rede", "■",0) -> 0 | BN15: =IF(BM15="■", $R15+$S15) -> FALSE | BO15: =IF($BB15="Conto Contigo", "■",0) -> 0 | BP15: =IF(BO15="■", $R15+$S15) -> FALSE | BQ15: =IF($BB15="Dia da internet Mais Segura", "■",0) -> 0 | BR15: =IF(BQ15="■", $R15+$S15) -> FALSE | BS15: =IF($BB15="Dia Mundial da Língua Portuguesa", "■",0) -> 0 | BT15: =IF(BS15="■", $R15+$S15) -> FALSE | BU15: =IF($BB15="Isto também é comigo", "■",0) -> 0 | BV15: =IF(BU15="■", $R15+$S15) -> FALSE | BW15: =IF($BB15="Jornalistas em rede", "■",0) -> 0 | BX15: =IF(BW15="■", $R15+$S15) -> FALSE | BY15: =IF($BB15="Juntos a criar", "■",0) -> 0 | BZ15: =IF(BY15="■", $R15+$S15) -> FALSE | CA15: =IF($BB15="Ler eescrever mais com a BE", "■",0) -> 0 | CB15: =IF(CA15="■", $R15+$S15) -> FALSE | CC15: =IF($BB15="Ler fora da escola", "■",0) -> 0 | CD15: =IF(CC15="■", $R15+$S15) -> FALSE | CE15: =IF($BB15="Lidera", "■",0) -> 0 | CF15: =IF(CE15="■", $R15+$S15) -> FALSE | CG15: =IF($BB15="Media@ção", "■",0) -> 0 | CH15: =IF(CG15="■", $R15+$S15) -> FALSE | CI15: =IF($BB15="Mês Internacional da Biblioteca Escolar", "■",0) -> 0 | CJ15: =IF(CI15="■", $R15+$S15) -> FALSE | CK15: =IF($BB15="Miúdos a votos", "■",0) -> 0 | CL15: =IF(CK15="■", $R15+$S15) -> FALSE | CM15: =IF($BB15="Newton gostava de ler", "■",0) -> 0 | CN15: =IF(CM15="■", $R15+$S15) -> FALSE | CO15: =IF($BB15="Proliteracias", "■",0) -> 0 | CP15: =IF(CO15="■", $R15+$S15) -> FALSE | CQ15: =IF($BB15="PÚBLICO na Escola", "■",0) -> 0 | CR15: =IF(CQ15="■", $R15+$S15) -> FALSE | CS15: =IF($BB15="READ ON Portugal", "■",0) -> 0 | CT15: =IF(CS15="■", $R15+$S15) -> FALSE | CU15: =IF($BB15="Semana da leitura", "■",0) -> 0 | CV15: =IF(CU15="■", $R15+$S15) -> FALSE | CW15: =IF($BB15="Supercharged by IA", "■",0) -> 0 | CX15: =IF(CW15="■", $R15+$S15) -> FALSE | CY15: =IF($BB15="Todos Juntos Podemos Ler", "■",0) -> 0 | CZ15: =IF(CY15="■", $R15+$S15) -> FALSE | DA15: =IF($BB15="Voluntários de leitura", "■",0) -> 0 | DB15: =IF(DA15="■", $R15+$S15) -> FALSE | DC15: =IF($BB15="Outra(s)", "■",0) -> 0 | DD15: =IF(DC15="■", $R15+$S15) -> FALSE | DF15: =IF($BC15="Plano Nacional das Artes", "■",0) -> 0 | DG15: =IF(DF15="■", $R15+$S15) -> FALSE | DH15: =IF($BC15="Plano Nacional de Cinema", "■",0) -> 0 | DI15: =IF(DH15="■", $R15+$S15) -> FALSE | DJ15: =IF($BC15="Plano Nacional de Formação Financeira", "■",0) -> 0 | DK15: =IF(DJ15="■", $R15+$S15) -> FALSE | DL15: =IF($BC15="Outra(s)", "■",0) -> 0 | DM15: =IF(DL15="■", $R15+$S15) -> FALSE | DO15: =IF($BD15="Histórias com Ciência na Biblioteca Escolar", "■",0) -> 0 | DP15: =IF(DO15="■", $R15+$S15) -> FALSE | DQ15: =IF($BD15="Jornal escolar", "■",0) -> 0 | DR15: =IF(DQ15="■", $R15+$S15) -> FALSE | DS15: =IF($BD15="Rádio escolar", "■",0) -> 0 | DT15: =IF(DS15="■", $R15+$S15) -> FALSE | DU15: =IF($BD15="TV escolar", "■",0) -> 0 | DV15: =IF(DU15="■", $R15+$S15) -> FALSE | DW15: =IF($BD15="Outra(s)", "■",0) -> 0 | DX15: =IF(DW15="■", $R15+$S15) -> FALSE
B16: ='1. Plano anual atividades'!C18 -> 0 | D16: ='1. Plano anual atividades'!D18 -> 0 | E16: ='1. Plano anual atividades'!I18 -> 0 | F16: ='1. Plano anual atividades'!J18 -> 0 | G16: ='1. Plano anual atividades'!K18 -> 0 | H16: ='1. Plano anual atividades'!L18 -> 0 | I16: ='1. Plano anual atividades'!M18 -> 0 | J16: ='1. Plano anual atividades'!N18 -> 0 | K16: ='1. Plano anual atividades'!O18 -> 0 | L16: ='1. Plano anual atividades'!P18 -> 0 | ... N16: ='1. Plano anual atividades'!R18 -> 0 | Q16: =O16*P16 -> 0 | T16: =P16*R16 -> 0 | U16: =P16*S16 -> 0 | X16: =P16*V16 -> 0 | Y16: =P16*W16 -> 0 | AB16: ='1. Plano anual atividades'!E18 -> 0 | BE16: =IF($BB16="7 dias com os media", "■",0) -> 0 | BF16: =IF(BE16="■", $R16+$S16) -> FALSE | BG16: =IF($BB16="aLer mais e melhor", "■",0) -> 0 | BH16: =IF(BG16="■", $R16+$S16) -> FALSE | BI16: =IF($BB16="Campeonato de Escrita e Ciência Criativa", "■",0) -> 0 | BJ16: =IF(BI16="■", $R16+$S16) -> FALSE | BK16: =IF($BB16="Cientificamente provável", "■",0) -> 0 | BL16: =IF(BK16="■", $R16+$S16) -> FALSE | BM16: =IF($BB16="Clássicos em rede", "■",0) -> 0 | BN16: =IF(BM16="■", $R16+$S16) -> FALSE | BO16: =IF($BB16="Conto Contigo", "■",0) -> 0 | BP16: =IF(BO16="■", $R16+$S16) -> FALSE | BQ16: =IF($BB16="Dia da internet Mais Segura", "■",0) -> 0 | BR16: =IF(BQ16="■", $R16+$S16) -> FALSE | BS16: =IF($BB16="Dia Mundial da Língua Portuguesa", "■",0) -> 0 | BT16: =IF(BS16="■", $R16+$S16) -> FALSE | BU16: =IF($BB16="Isto também é comigo", "■",0) -> 0 | BV16: =IF(BU16="■", $R16+$S16) -> FALSE | BW16: =IF($BB16="Jornalistas em rede", "■",0) -> 0 | BX16: =IF(BW16="■", $R16+$S16) -> FALSE | BY16: =IF($BB16="Juntos a criar", "■",0) -> 0 | BZ16: =IF(BY16="■", $R16+$S16) -> FALSE | CA16: =IF($BB16="Ler eescrever mais com a BE", "■",0) -> 0 | CB16: =IF(CA16="■", $R16+$S16) -> FALSE | CC16: =IF($BB16="Ler fora da escola", "■",0) -> 0 | CD16: =IF(CC16="■", $R16+$S16) -> FALSE | CE16: =IF($BB16="Lidera", "■",0) -> 0 | CF16: =IF(CE16="■", $R16+$S16) -> FALSE | CG16: =IF($BB16="Media@ção", "■",0) -> 0 | CH16: =IF(CG16="■", $R16+$S16) -> FALSE | CI16: =IF($BB16="Mês Internacional da Biblioteca Escolar", "■",0) -> 0 | CJ16: =IF(CI16="■", $R16+$S16) -> FALSE | CK16: =IF($BB16="Miúdos a votos", "■",0) -> 0 | CL16: =IF(CK16="■", $R16+$S16) -> FALSE | CM16: =IF($BB16="Newton gostava de ler", "■",0) -> 0 | CN16: =IF(CM16="■", $R16+$S16) -> FALSE | CO16: =IF($BB16="Proliteracias", "■",0) -> 0 | CP16: =IF(CO16="■", $R16+$S16) -> FALSE | CQ16: =IF($BB16="PÚBLICO na Escola", "■",0) -> 0 | CR16: =IF(CQ16="■", $R16+$S16) -> FALSE | CS16: =IF($BB16="READ ON Portugal", "■",0) -> 0 | CT16: =IF(CS16="■", $R16+$S16) -> FALSE | CU16: =IF($BB16="Semana da leitura", "■",0) -> 0 | CV16: =IF(CU16="■", $R16+$S16) -> FALSE | CW16: =IF($BB16="Supercharged by IA", "■",0) -> 0 | CX16: =IF(CW16="■", $R16+$S16) -> FALSE | CY16: =IF($BB16="Todos Juntos Podemos Ler", "■",0) -> 0 | CZ16: =IF(CY16="■", $R16+$S16) -> FALSE | DA16: =IF($BB16="Voluntários de leitura", "■",0) -> 0 | DB16: =IF(DA16="■", $R16+$S16) -> FALSE | DC16: =IF($BB16="Outra(s)", "■",0) -> 0 | DD16: =IF(DC16="■", $R16+$S16) -> FALSE | DF16: =IF($BC16="Plano Nacional das Artes", "■",0) -> 0 | DG16: =IF(DF16="■", $R16+$S16) -> FALSE | DH16: =IF($BC16="Plano Nacional de Cinema", "■",0) -> 0 | DI16: =IF(DH16="■", $R16+$S16) -> FALSE | DJ16: =IF($BC16="Plano Nacional de Formação Financeira", "■",0) -> 0 | DK16: =IF(DJ16="■", $R16+$S16) -> FALSE | DL16: =IF($BC16="Outra(s)", "■",0) -> 0 | DM16: =IF(DL16="■", $R16+$S16) -> FALSE | DO16: =IF($BD16="Histórias com Ciência na Biblioteca Escolar", "■",0) -> 0 | DP16: =IF(DO16="■", $R16+$S16) -> FALSE | DQ16: =IF($BD16="Jornal escolar", "■",0) -> 0 | DR16: =IF(DQ16="■", $R16+$S16) -> FALSE | DS16: =IF($BD16="Rádio escolar", "■",0) -> 0 | DT16: =IF(DS16="■", $R16+$S16) -> FALSE | DU16: =IF($BD16="TV escolar", "■",0) -> 0 | DV16: =IF(DU16="■", $R16+$S16) -> FALSE | DW16: =IF($BD16="Outra(s)", "■",0) -> 0 | DX16: =IF(DW16="■", $R16+$S16) -> FALSE
B17: ='1. Plano anual atividades'!C19 -> 0 | D17: ='1. Plano anual atividades'!D19 -> 0 | E17: ='1. Plano anual atividades'!I19 -> 0 | F17: ='1. Plano anual atividades'!J19 -> 0 | G17: ='1. Plano anual atividades'!K19 -> 0 | H17: ='1. Plano anual atividades'!L19 -> 0 | I17: ='1. Plano anual atividades'!M19 -> 0 | J17: ='1. Plano anual atividades'!N19 -> 0 | K17: ='1. Plano anual atividades'!O19 -> 0 | L17: ='1. Plano anual atividades'!P19 -> 0 | ... N17: ='1. Plano anual atividades'!R19 -> 0 | Q17: =O17*P17 -> 0 | T17: =P17*R17 -> 0 | U17: =P17*S17 -> 0 | X17: =P17*V17 -> 0 | Y17: =P17*W17 -> 0 | AB17: ='1. Plano anual atividades'!E19 -> 0 | BE17: =IF($BB17="7 dias com os media", "■",0) -> 0 | BF17: =IF(BE17="■", $R17+$S17) -> FALSE | BG17: =IF($BB17="aLer mais e melhor", "■",0) -> 0 | BH17: =IF(BG17="■", $R17+$S17) -> FALSE | BI17: =IF($BB17="Campeonato de Escrita e Ciência Criativa", "■",0) -> 0 | BJ17: =IF(BI17="■", $R17+$S17) -> FALSE | BK17: =IF($BB17="Cientificamente provável", "■",0) -> 0 | BL17: =IF(BK17="■", $R17+$S17) -> FALSE | BM17: =IF($BB17="Clássicos em rede", "■",0) -> 0 | BN17: =IF(BM17="■", $R17+$S17) -> FALSE | BO17: =IF($BB17="Conto Contigo", "■",0) -> 0 | BP17: =IF(BO17="■", $R17+$S17) -> FALSE | BQ17: =IF($BB17="Dia da internet Mais Segura", "■",0) -> 0 | BR17: =IF(BQ17="■", $R17+$S17) -> FALSE | BS17: =IF($BB17="Dia Mundial da Língua Portuguesa", "■",0) -> 0 | BT17: =IF(BS17="■", $R17+$S17) -> FALSE | BU17: =IF($BB17="Isto também é comigo", "■",0) -> 0 | BV17: =IF(BU17="■", $R17+$S17) -> FALSE | BW17: =IF($BB17="Jornalistas em rede", "■",0) -> 0 | BX17: =IF(BW17="■", $R17+$S17) -> FALSE | BY17: =IF($BB17="Juntos a criar", "■",0) -> 0 | BZ17: =IF(BY17="■", $R17+$S17) -> FALSE | CA17: =IF($BB17="Ler eescrever mais com a BE", "■",0) -> 0 | CB17: =IF(CA17="■", $R17+$S17) -> FALSE | CC17: =IF($BB17="Ler fora da escola", "■",0) -> 0 | CD17: =IF(CC17="■", $R17+$S17) -> FALSE | CE17: =IF($BB17="Lidera", "■",0) -> 0 | CF17: =IF(CE17="■", $R17+$S17) -> FALSE | CG17: =IF($BB17="Media@ção", "■",0) -> 0 | CH17: =IF(CG17="■", $R17+$S17) -> FALSE | CI17: =IF($BB17="Mês Internacional da Biblioteca Escolar", "■",0) -> 0 | CJ17: =IF(CI17="■", $R17+$S17) -> FALSE | CK17: =IF($BB17="Miúdos a votos", "■",0) -> 0 | CL17: =IF(CK17="■", $R17+$S17) -> FALSE | CM17: =IF($BB17="Newton gostava de ler", "■",0) -> 0 | CN17: =IF(CM17="■", $R17+$S17) -> FALSE | CO17: =IF($BB17="Proliteracias", "■",0) -> 0 | CP17: =IF(CO17="■", $R17+$S17) -> FALSE | CQ17: =IF($BB17="PÚBLICO na Escola", "■",0) -> 0 | CR17: =IF(CQ17="■", $R17+$S17) -> FALSE | CS17: =IF($BB17="READ ON Portugal", "■",0) -> 0 | CT17: =IF(CS17="■", $R17+$S17) -> FALSE | CU17: =IF($BB17="Semana da leitura", "■",0) -> 0 | CV17: =IF(CU17="■", $R17+$S17) -> FALSE | CW17: =IF($BB17="Supercharged by IA", "■",0) -> 0 | CX17: =IF(CW17="■", $R17+$S17) -> FALSE | CY17: =IF($BB17="Todos Juntos Podemos Ler", "■",0) -> 0 | CZ17: =IF(CY17="■", $R17+$S17) -> FALSE | DA17: =IF($BB17="Voluntários de leitura", "■",0) -> 0 | DB17: =IF(DA17="■", $R17+$S17) -> FALSE | DC17: =IF($BB17="Outra(s)", "■",0) -> 0 | DD17: =IF(DC17="■", $R17+$S17) -> FALSE | DF17: =IF($BC17="Plano Nacional das Artes", "■",0) -> 0 | DG17: =IF(DF17="■", $R17+$S17) -> FALSE | DH17: =IF($BC17="Plano Nacional de Cinema", "■",0) -> 0 | DI17: =IF(DH17="■", $R17+$S17) -> FALSE | DJ17: =IF($BC17="Plano Nacional de Formação Financeira", "■",0) -> 0 | DK17: =IF(DJ17="■", $R17+$S17) -> FALSE | DL17: =IF($BC17="Outra(s)", "■",0) -> 0 | DM17: =IF(DL17="■", $R17+$S17) -> FALSE | DO17: =IF($BD17="Histórias com Ciência na Biblioteca Escolar", "■",0) -> 0 | DP17: =IF(DO17="■", $R17+$S17) -> FALSE | DQ17: =IF($BD17="Jornal escolar", "■",0) -> 0 | DR17: =IF(DQ17="■", $R17+$S17) -> FALSE | DS17: =IF($BD17="Rádio escolar", "■",0) -> 0 | DT17: =IF(DS17="■", $R17+$S17) -> FALSE | DU17: =IF($BD17="TV escolar", "■",0) -> 0 | DV17: =IF(DU17="■", $R17+$S17) -> FALSE | DW17: =IF($BD17="Outra(s)", "■",0) -> 0 | DX17: =IF(DW17="■", $R17+$S17) -> FALSE
B18: ='1. Plano anual atividades'!C20 -> 0 | D18: ='1. Plano anual atividades'!D20 -> 0 | E18: ='1. Plano anual atividades'!I20 -> 0 | F18: ='1. Plano anual atividades'!J20 -> 0 | G18: ='1. Plano anual atividades'!K20 -> 0 | H18: ='1. Plano anual atividades'!L20 -> 0 | I18: ='1. Plano anual atividades'!M20 -> 0 | J18: ='1. Plano anual atividades'!N20 -> 0 | K18: ='1. Plano anual atividades'!O20 -> 0 | L18: ='1. Plano anual atividades'!P20 -> 0 | ... N18: ='1. Plano anual atividades'!R20 -> 0 | Q18: =O18*P18 -> 0 | T18: =P18*R18 -> 0 | U18: =P18*S18 -> 0 | X18: =P18*V18 -> 0 | Y18: =P18*W18 -> 0 | AB18: ='1. Plano anual atividades'!E20 -> 0 | BE18: =IF($BB18="7 dias com os media", "■",0) -> 0 | BF18: =IF(BE18="■", $R18+$S18) -> FALSE | BG18: =IF($BB18="aLer mais e melhor", "■",0) -> 0 | BH18: =IF(BG18="■", $R18+$S18) -> FALSE | BI18: =IF($BB18="Campeonato de Escrita e Ciência Criativa", "■",0) -> 0 | BJ18: =IF(BI18="■", $R18+$S18) -> FALSE | BK18: =IF($BB18="Cientificamente provável", "■",0) -> 0 | BL18: =IF(BK18="■", $R18+$S18) -> FALSE | BM18: =IF($BB18="Clássicos em rede", "■",0) -> 0 | BN18: =IF(BM18="■", $R18+$S18) -> FALSE | BO18: =IF($BB18="Conto Contigo", "■",0) -> 0 | BP18: =IF(BO18="■", $R18+$S18) -> FALSE | BQ18: =IF($BB18="Dia da internet Mais Segura", "■",0) -> 0 | BR18: =IF(BQ18="■", $R18+$S18) -> FALSE | BS18: =IF($BB18="Dia Mundial da Língua Portuguesa", "■",0) -> 0 | BT18: =IF(BS18="■", $R18+$S18) -> FALSE | BU18: =IF($BB18="Isto também é comigo", "■",0) -> 0 | BV18: =IF(BU18="■", $R18+$S18) -> FALSE | BW18: =IF($BB18="Jornalistas em rede", "■",0) -> 0 | BX18: =IF(BW18="■", $R18+$S18) -> FALSE | BY18: =IF($BB18="Juntos a criar", "■",0) -> 0 | BZ18: =IF(BY18="■", $R18+$S18) -> FALSE | CA18: =IF($BB18="Ler eescrever mais com a BE", "■",0) -> 0 | CB18: =IF(CA18="■", $R18+$S18) -> FALSE | CC18: =IF($BB18="Ler fora da escola", "■",0) -> 0 | CD18: =IF(CC18="■", $R18+$S18) -> FALSE | CE18: =IF($BB18="Lidera", "■",0) -> 0 | CF18: =IF(CE18="■", $R18+$S18) -> FALSE | CG18: =IF($BB18="Media@ção", "■",0) -> 0 | CH18: =IF(CG18="■", $R18+$S18) -> FALSE | CI18: =IF($BB18="Mês Internacional da Biblioteca Escolar", "■",0) -> 0 | CJ18: =IF(CI18="■", $R18+$S18) -> FALSE | CK18: =IF($BB18="Miúdos a votos", "■",0) -> 0 | CL18: =IF(CK18="■", $R18+$S18) -> FALSE | CM18: =IF($BB18="Newton gostava de ler", "■",0) -> 0 | CN18: =IF(CM18="■", $R18+$S18) -> FALSE | CO18: =IF($BB18="Proliteracias", "■",0) -> 0 | CP18: =IF(CO18="■", $R18+$S18) -> FALSE | CQ18: =IF($BB18="PÚBLICO na Escola", "■",0) -> 0 | CR18: =IF(CQ18="■", $R18+$S18) -> FALSE | CS18: =IF($BB18="READ ON Portugal", "■",0) -> 0 | CT18: =IF(CS18="■", $R18+$S18) -> FALSE | CU18: =IF($BB18="Semana da leitura", "■",0) -> 0 | CV18: =IF(CU18="■", $R18+$S18) -> FALSE | CW18: =IF($BB18="Supercharged by IA", "■",0) -> 0 | CX18: =IF(CW18="■", $R18+$S18) -> FALSE | CY18: =IF($BB18="Todos Juntos Podemos Ler", "■",0) -> 0 | CZ18: =IF(CY18="■", $R18+$S18) -> FALSE | DA18: =IF($BB18="Voluntários de leitura", "■",0) -> 0 | DB18: =IF(DA18="■", $R18+$S18) -> FALSE | DC18: =IF($BB18="Outra(s)", "■",0) -> 0 | DD18: =IF(DC18="■", $R18+$S18) -> FALSE | DF18: =IF($BC18="Plano Nacional das Artes", "■",0) -> 0 | DG18: =IF(DF18="■", $R18+$S18) -> FALSE | DH18: =IF($BC18="Plano Nacional de Cinema", "■",0) -> 0 | DI18: =IF(DH18="■", $R18+$S18) -> FALSE | DJ18: =IF($BC18="Plano Nacional de Formação Financeira", "■",0) -> 0 | DK18: =IF(DJ18="■", $R18+$S18) -> FALSE | DL18: =IF($BC18="Outra(s)", "■",0) -> 0 | DM18: =IF(DL18="■", $R18+$S18) -> FALSE | DO18: =IF($BD18="Histórias com Ciência na Biblioteca Escolar", "■",0) -> 0 | DP18: =IF(DO18="■", $R18+$S18) -> FALSE | DQ18: =IF($BD18="Jornal escolar", "■",0) -> 0 | DR18: =IF(DQ18="■", $R18+$S18) -> FALSE | DS18: =IF($BD18="Rádio escolar", "■",0) -> 0 | DT18: =IF(DS18="■", $R18+$S18) -> FALSE | DU18: =IF($BD18="TV escolar", "■",0) -> 0 | DV18: =IF(DU18="■", $R18+$S18) -> FALSE | DW18: =IF($BD18="Outra(s)", "■",0) -> 0 | DX18: =IF(DW18="■", $R18+$S18) -> FALSE
B19: ='1. Plano anual atividades'!C21 -> 0 | D19: ='1. Plano anual atividades'!D21 -> 0 | E19: ='1. Plano anual atividades'!I21 -> 0 | F19: ='1. Plano anual atividades'!J21 -> 0 | G19: ='1. Plano anual atividades'!K21 -> 0 | H19: ='1. Plano anual atividades'!L21 -> 0 | I19: ='1. Plano anual atividades'!M21 -> 0 | J19: ='1. Plano anual atividades'!N21 -> 0 | K19: ='1. Plano anual atividades'!O21 -> 0 | L19: ='1. Plano anual atividades'!P21 -> 0 | ... N19: ='1. Plano anual atividades'!R21 -> 0 | Q19: =O19*P19 -> 0 | T19: =P19*R19 -> 0 | U19: =P19*S19 -> 0 | X19: =P19*V19 -> 0 | Y19: =P19*W19 -> 0 | AB19: ='1. Plano anual atividades'!E21 -> 0 | BE19: =IF($BB19="7 dias com os media", "■",0) -> 0 | BF19: =IF(BE19="■", $R19+$S19) -> FALSE | BG19: =IF($BB19="aLer mais e melhor", "■",0) -> 0 | BH19: =IF(BG19="■", $R19+$S19) -> FALSE | BI19: =IF($BB19="Campeonato de Escrita e Ciência Criativa", "■",0) -> 0 | BJ19: =IF(BI19="■", $R19+$S19) -> FALSE | BK19: =IF($BB19="Cientificamente provável", "■",0) -> 0 | BL19: =IF(BK19="■", $R19+$S19) -> FALSE | BM19: =IF($BB19="Clássicos em rede", "■",0) -> 0 | BN19: =IF(BM19="■", $R19+$S19) -> FALSE | BO19: =IF($BB19="Conto Contigo", "■",0) -> 0 | BP19: =IF(BO19="■", $R19+$S19) -> FALSE | BQ19: =IF($BB19="Dia da internet Mais Segura", "■",0) -> 0 | BR19: =IF(BQ19="■", $R19+$S19) -> FALSE | BS19: =IF($BB19="Dia Mundial da Língua Portuguesa", "■",0) -> 0 | BT19: =IF(BS19="■", $R19+$S19) -> FALSE | BU19: =IF($BB19="Isto também é comigo", "■",0) -> 0 | BV19: =IF(BU19="■", $R19+$S19) -> FALSE | BW19: =IF($BB19="Jornalistas em rede", "■",0) -> 0 | BX19: =IF(BW19="■", $R19+$S19) -> FALSE | BY19: =IF($BB19="Juntos a criar", "■",0) -> 0 | BZ19: =IF(BY19="■", $R19+$S19) -> FALSE | CA19: =IF($BB19="Ler eescrever mais com a BE", "■",0) -> 0 | CB19: =IF(CA19="■", $R19+$S19) -> FALSE | CC19: =IF($BB19="Ler fora da escola", "■",0) -> 0 | CD19: =IF(CC19="■", $R19+$S19) -> FALSE | CE19: =IF($BB19="Lidera", "■",0) -> 0 | CF19: =IF(CE19="■", $R19+$S19) -> FALSE | CG19: =IF($BB19="Media@ção", "■",0) -> 0 | CH19: =IF(CG19="■", $R19+$S19) -> FALSE | CI19: =IF($BB19="Mês Internacional da Biblioteca Escolar", "■",0) -> 0 | CJ19: =IF(CI19="■", $R19+$S19) -> FALSE | CK19: =IF($BB19="Miúdos a votos", "■",0) -> 0 | CL19: =IF(CK19="■", $R19+$S19) -> FALSE | CM19: =IF($BB19="Newton gostava de ler", "■",0) -> 0 | CN19: =IF(CM19="■", $R19+$S19) -> FALSE | CO19: =IF($BB19="Proliteracias", "■",0) -> 0 | CP19: =IF(CO19="■", $R19+$S19) -> FALSE | CQ19: =IF($BB19="PÚBLICO na Escola", "■",0) -> 0 | CR19: =IF(CQ19="■", $R19+$S19) -> FALSE | CS19: =IF($BB19="READ ON Portugal", "■",0) -> 0 | CT19: =IF(CS19="■", $R19+$S19) -> FALSE | CU19: =IF($BB19="Semana da leitura", "■",0) -> 0 | CV19: =IF(CU19="■", $R19+$S19) -> FALSE | CW19: =IF($BB19="Supercharged by IA", "■",0) -> 0 | CX19: =IF(CW19="■", $R19+$S19) -> FALSE | CY19: =IF($BB19="Todos Juntos Podemos Ler", "■",0) -> 0 | CZ19: =IF(CY19="■", $R19+$S19) -> FALSE | DA19: =IF($BB19="Voluntários de leitura", "■",0) -> 0 | DB19: =IF(DA19="■", $R19+$S19) -> FALSE | DC19: =IF($BB19="Outra(s)", "■",0) -> 0 | DD19: =IF(DC19="■", $R19+$S19) -> FALSE | DF19: =IF($BC19="Plano Nacional das Artes", "■",0) -> 0 | DG19: =IF(DF19="■", $R19+$S19) -> FALSE | DH19: =IF($BC19="Plano Nacional de Cinema", "■",0) -> 0 | DI19: =IF(DH19="■", $R19+$S19) -> FALSE | DJ19: =IF($BC19="Plano Nacional de Formação Financeira", "■",0) -> 0 | DK19: =IF(DJ19="■", $R19+$S19) -> FALSE | DL19: =IF($BC19="Outra(s)", "■",0) -> 0 | DM19: =IF(DL19="■", $R19+$S19) -> FALSE | DO19: =IF($BD19="Histórias com Ciência na Biblioteca Escolar", "■",0) -> 0 | DP19: =IF(DO19="■", $R19+$S19) -> FALSE | DQ19: =IF($BD19="Jornal escolar", "■",0) -> 0 | DR19: =IF(DQ19="■", $R19+$S19) -> FALSE | DS19: =IF($BD19="Rádio escolar", "■",0) -> 0 | DT19: =IF(DS19="■", $R19+$S19) -> FALSE | DU19: =IF($BD19="TV escolar", "■",0) -> 0 | DV19: =IF(DU19="■", $R19+$S19) -> FALSE | DW19: =IF($BD19="Outra(s)", "■",0) -> 0 | DX19: =IF(DW19="■", $R19+$S19) -> FALSE
... B27: ='1. Plano anual atividades'!C29 -> 0 | D27: ='1. Plano anual atividades'!D29 -> 0 | E27: ='1. Plano anual atividades'!I29 -> 0 | F27: ='1. Plano anual atividades'!J29 -> 0 | G27: ='1. Plano anual atividades'!K29 -> 0 | H27: ='1. Plano anual atividades'!L29 -> 0 | I27: ='1. Plano anual atividades'!M29 -> 0 | J27: ='1. Plano anual atividades'!N29 -> 0 | K27: ='1. Plano anual atividades'!O29 -> 0 | L27: ='1. Plano anual atividades'!P29 -> 0 | ... N27: ='1. Plano anual atividades'!R29 -> 0 | Q27: =O27*P27 -> 0 | T27: =P27*R27 -> 0 | U27: =P27*S27 -> 0 | X27: =P27*V27 -> 0 | Y27: =P27*W27 -> 0 | AB27: ='1. Plano anual atividades'!E29 -> 0 | BE27: =IF($BB27="7 dias com os media", "■",0) -> 0 | BF27: =IF(BE27="■", $R27+$S27) -> FALSE | BG27: =IF($BB27="aLer mais e melhor", "■",0) -> 0 | BH27: =IF(BG27="■", $R27+$S27) -> FALSE | BI27: =IF($BB27="Campeonato de Escrita e Ciência Criativa", "■",0) -> 0 | BJ27: =IF(BI27="■", $R27+$S27) -> FALSE | BK27: =IF($BB27="Cientificamente provável", "■",0) -> 0 | BL27: =IF(BK27="■", $R27+$S27) -> FALSE | BM27: =IF($BB27="Clássicos em rede", "■",0) -> 0 | BN27: =IF(BM27="■", $R27+$S27) -> FALSE | BO27: =IF($BB27="Conto Contigo", "■",0) -> 0 | BP27: =IF(BO27="■", $R27+$S27) -> FALSE | BQ27: =IF($BB27="Dia da internet Mais Segura", "■",0) -> 0 | BR27: =IF(BQ27="■", $R27+$S27) -> FALSE | BS27: =IF($BB27="Dia Mundial da Língua Portuguesa", "■",0) -> 0 | BT27: =IF(BS27="■", $R27+$S27) -> FALSE | BU27: =IF($BB27="Isto também é comigo", "■",0) -> 0 | BV27: =IF(BU27="■", $R27+$S27) -> FALSE | BW27: =IF($BB27="Jornalistas em rede", "■",0) -> 0 | BX27: =IF(BW27="■", $R27+$S27) -> FALSE | BY27: =IF($BB27="Juntos a criar", "■",0) -> 0 | BZ27: =IF(BY27="■", $R27+$S27) -> FALSE | CA27: =IF($BB27="Ler eescrever mais com a BE", "■",0) -> 0 | CB27: =IF(CA27="■", $R27+$S27) -> FALSE | CC27: =IF($BB27="Ler fora da escola", "■",0) -> 0 | CD27: =IF(CC27="■", $R27+$S27) -> FALSE | CE27: =IF($BB27="Lidera", "■",0) -> 0 | CF27: =IF(CE27="■", $R27+$S27) -> FALSE | CG27: =IF($BB27="Media@ção", "■",0) -> 0 | CH27: =IF(CG27="■", $R27+$S27) -> FALSE | CI27: =IF($BB27="Mês Internacional da Biblioteca Escolar", "■",0) -> 0 | CJ27: =IF(CI27="■", $R27+$S27) -> FALSE | CK27: =IF($BB27="Miúdos a votos", "■",0) -> 0 | CL27: =IF(CK27="■", $R27+$S27) -> FALSE | CM27: =IF($BB27="Newton gostava de ler", "■",0) -> 0 | CN27: =IF(CM27="■", $R27+$S27) -> FALSE | CO27: =IF($BB27="Proliteracias", "■",0) -> 0 | CP27: =IF(CO27="■", $R27+$S27) -> FALSE | CQ27: =IF($BB27="PÚBLICO na Escola", "■",0) -> 0 | CR27: =IF(CQ27="■", $R27+$S27) -> FALSE | CS27: =IF($BB27="READ ON Portugal", "■",0) -> 0 | CT27: =IF(CS27="■", $R27+$S27) -> FALSE | CU27: =IF($BB27="Semana da leitura", "■",0) -> 0 | CV27: =IF(CU27="■", $R27+$S27) -> FALSE | CW27: =IF($BB27="Supercharged by IA", "■",0) -> 0 | CX27: =IF(CW27="■", $R27+$S27) -> FALSE | CY27: =IF($BB27="Todos Juntos Podemos Ler", "■",0) -> 0 | CZ27: =IF(CY27="■", $R27+$S27) -> FALSE | DA27: =IF($BB27="Voluntários de leitura", "■",0) -> 0 | DB27: =IF(DA27="■", $R27+$S27) -> FALSE | DC27: =IF($BB27="Outra(s)", "■",0) -> 0 | DD27: =IF(DC27="■", $R27+$S27) -> FALSE | DF27: =IF($BC27="Plano Nacional das Artes", "■",0) -> 0 | DG27: =IF(DF27="■", $R27+$S27) -> FALSE | DH27: =IF($BC27="Plano Nacional de Cinema", "■",0) -> 0 | DI27: =IF(DH27="■", $R27+$S27) -> FALSE | DJ27: =IF($BC27="Plano Nacional de Formação Financeira", "■",0) -> 0 | DK27: =IF(DJ27="■", $R27+$S27) -> FALSE | DL27: =IF($BC27="Outra(s)", "■",0) -> 0 | DM27: =IF(DL27="■", $R27+$S27) -> FALSE | DO27: =IF($BD27="Histórias com Ciência na Biblioteca Escolar", "■",0) -> 0 | DP27: =IF(DO27="■", $R27+$S27) -> FALSE | DQ27: =IF($BD27="Jornal escolar", "■",0) -> 0 | DR27: =IF(DQ27="■", $R27+$S27) -> FALSE | DS27: =IF($BD27="Rádio escolar", "■",0) -> 0 | DT27: =IF(DS27="■", $R27+$S27) -> FALSE | DU27: =IF($BD27="TV escolar", "■",0) -> 0 | DV27: =IF(DU27="■", $R27+$S27) -> FALSE | DW27: =IF($BD27="Outra(s)", "■",0) -> 0 | DX27: =IF(DW27="■", $R27+$S27) -> FALSE
B29: ='1. Plano anual atividades'!C31 -> 0 | C29: =COUNTA(C8:C27) -> 0 | D29: =COUNTIF(D8:D27, "■") -> 0 | E29: =COUNTIF(E8:E27, "■") -> 0 | F29: =COUNTIF(F8:F27, "■") -> 0 | G29: =COUNTIF(G8:G27, "■") -> 0 | H29: =COUNTIF(H8:H27, "■") -> 0 | I29: =COUNTIF(I8:I27, "■") -> 0 | J29: =COUNTIF(J8:J27, "■") -> 0 | K29: =COUNTIF(K8:K27, "■") -> 0 | ... N29: =COUNTIF(N8:N27, "■") -> 0 | O29: =SUM(O8:O27) -> 0 | P29: =SUM(P8:P27) -> 0 | Q29: =SUM(Q8:Q27) -> 0 | R29: =SUM(R8:R27) -> 0 | S29: =SUM(S8:S27) -> 0 | T29: =SUM(T8:T27) -> 0 | U29: =SUM(U8:U27) -> 0 | V29: =SUM(V8:V27) -> 0 | ... AA29: =SUM(AA8:AA27) -> 0 | AB29: =COUNTIF(AB8:AB27, "■") -> 0 | AC29: =COUNTIF(AC8:AC27, "■") -> 0 | AD29: =COUNTIF(AD8:AD27, "■") -> 0 | AE29: =COUNTIF(AE8:AE27, "■") -> 0 | AF29: =COUNTIF(AF8:AF27, "■") -> 0 | AG29: =COUNTIF(AG8:AG27, "■") -> 0 | AH29: =COUNTIF(AH8:AH27, "■") -> 0 | AI29: =COUNTIF(AI8:AI27, "■") -> 0 | ... AL29: =COUNTIF(AL8:AL27, "■") -> 0 | AM29: =SUM(AM8:AM27) -> 0 | AN29: =SUM(AN8:AN27) -> 0 | AO29: =SUM(AO8:AO27) -> 0 | AP29: =SUM(AP8:AP27) -> 0 | AQ29: =SUM(AQ8:AQ27) -> 0 | AR29: =SUM(AR8:AR27) -> 0 | AS29: =SUM(AS8:AS27) -> 0 | AT29: =SUM(AT8:AT27) -> 0 | ... AV29: =SUM(AV8:AV27) -> 0 | BF29: =SUM(BF8:BF27) -> 0 | BH29: =SUM(BH8:BH27) -> 0 | BJ29: =SUM(BJ8:BJ27) -> 0 | BL29: =SUM(BL8:BL27) -> 0 | BN29: =SUM(BN8:BN27) -> 0 | BP29: =SUM(BP8:BP27) -> 0 | BR29: =SUM(BR8:BR27) -> 0 | BT29: =SUM(BT8:BT27) -> 0 | BV29: =SUM(BV8:BV27) -> 0 | BX29: =SUM(BX8:BX27) -> 0 | BZ29: =SUM(BZ8:BZ27) -> 0 | CB29: =SUM(CB8:CB27) -> 0 | CD29: =SUM(CD8:CD27) -> 0 | CF29: =SUM(CF8:CF27) -> 0 | CH29: =SUM(CH8:CH27) -> 0 | CJ29: =SUM(CJ8:CJ27) -> 0 | CL29: =SUM(CL8:CL27) -> 0 | CN29: =SUM(CN8:CN27) -> 0 | CP29: =SUM(CP8:CP27) -> 0 | CR29: =SUM(CR8:CR27) -> 0 | CT29: =SUM(CT8:CT27) -> 0 | CV29: =SUM(CV8:CV27) -> 0 | CX29: =SUM(CX8:CX27) -> 0 | CZ29: =SUM(CZ8:CZ27) -> 0 | DB29: =SUM(DB8:DB27) -> 0 | DD29: =SUM(DD8:DD27) -> 0 | DG29: =SUM(DG8:DG27) -> 0 | DI29: =SUM(DI8:DI27) -> 0 | DK29: =SUM(DK8:DK27) -> 0 | DM29: =SUM(DM8:DM27) -> 0 | DP29: =SUM(DP8:DP27) -> 0 | DR29: =SUM(DR8:DR27) -> 0 | DT29: =SUM(DT8:DT27) -> 0 | DV29: =SUM(DV8:DV27) -> 0 | DX29: =SUM(DX8:DX27) -> 0
B32: Domínio B - Leitura e literacia
E33: Projeto Educativo | O33: N.º total | Q33: N.º de participações | R33: N.º de alunos envolvidos | T33: N.º participações | U33: N.º participações | V33: N.º de docentes envolvidos | X33: N.º participações | Y33: N.º participações | AC33: Área de literacia | AF33: Área curricular e extracurricular | AM33: Alunos envolvidos | AR33: Docentes envolvidos | AW33: Nível de impacto | BA33: Projetos | BB33: Propostas RBE | BC33: Propostas de outras instituições nacionais e internacionais | BD33: Propostas locais ou regionais
B34: Atividades planificadas | C34: Executada | D34: PM | E34: 1 | F34: 2 | G34: 3 | H34: 4 | I34: 5 | J34: 6 | K34: 7 | L34: 8 | M34: 9 | N34: 10 | O34: Turmas | P34: Aulas/ sessões | Q34: Turmas | R34: Individual | S34: Em turma | T34: Individual | U34: Em turma | V34: Individual | W34: Com turma | X34: Individual | Y34: Com turma | Z34: N.º de Pais e EE envolvidos | AA34: N.º de outros envolvidos | AB34: AcBE | AC34: L | AD34: I | AE34: M | AF34: L | AG34: CSH | AH34: MCE | AI34: ET | AJ34: ACT | AK34: ALF | AL34: Outras | AM34: Pré-Escolar | AN34: 1.º CEB | AO34: 2.º CEB | AP34: 3.º CEB | AQ34: Ensino Secundário | AR34: Pré-Escolar | AS34: 1.º CEB | AT34: 2.º CEB | AU34: 3.º CEB | AV34: Ensino Secundário | AW34: CC | AX34: AV | AY34: AS | AZ34: SCP | BE34: 7D | BF34: N.º alunos | BG34: aler+ | BH34: N.º alunos | BI34: ECC | BJ34: N.º alunos | BK34: CP | BL34: N.º alunos | BM34: CR | BN34: N.º alunos | BO34: CC | BP34: N.º alunos | BQ34: DIS | BR34: N.º alunos | BS34: DMLP | BT34: N.º alunos | BU34: ITEC | BV34: N.º alunos | BW34: JR | BX34: N.º alunos | BY34: JC | BZ34: N.º alunos | CA34: LECBE | CB34: N.º alunos | CC34: LFE | CD34: N.º alunos | CE34: L | CF34: N.º alunos | CG34: M | CH34: N.º alunos | CI34: MIBE | CJ34: N.º alunos | CK34: MV | CL34: N.º alunos | CM34: NGL | CN34: N.º alunos | CO34: P | CP34: N.º alunos | CQ34: PE | CR34: N.º alunos | CS34: RO | CT34: N.º alunos | CU34: SL | CV34: N.º alunos | CW34: SAI | CX34: N.º alunos | CY34: TJPL | CZ34: N.º alunos | DA34: VL | DB34: N.º alunos | DC34: O | DD34: N.º alunos | DF34: PNA | DG34: N.º alunos | DH34: PNC | DI34: N.º alunos | DJ34: PNFF | DK34: N.º alunos | DL34: O | DM34: N.º alunos | DO34: HCBE | DP34: N.º alunos | DQ34: JE | DR34: N.º alunos | DS34: RE | DT34: N.º alunos | DU34: TVE | DV34: N.º alunos | DW34: O | DX34: N.º alunos
B35: ='1. Plano anual atividades'!C37 -> 0 | D35: ='1. Plano anual atividades'!D37 -> 0 | E35: ='1. Plano anual atividades'!I37 -> 0 | F35: ='1. Plano anual atividades'!J37 -> 0 | G35: ='1. Plano anual atividades'!K37 -> 0 | H35: ='1. Plano anual atividades'!L37 -> 0 | I35: ='1. Plano anual atividades'!M37 -> 0 | J35: ='1. Plano anual atividades'!N37 -> 0 | K35: ='1. Plano anual atividades'!O37 -> 0 | L35: ='1. Plano anual atividades'!P37 -> 0 | ... N35: ='1. Plano anual atividades'!R37 -> 0 | Q35: =O35*P35 -> 0 | T35: =P35*R35 -> 0 | U35: =P35*S35 -> 0 | X35: =P35*V35 -> 0 | Y35: =P35*W35 -> 0 | AB35: ='1. Plano anual atividades'!E37 -> 0 | BE35: =IF($BB35="7 dias com os media", "■",0) -> 0 | BF35: =IF(BE35="■", $R35+$S35) -> FALSE | BG35: =IF($BB35="aLer mais e melhor", "■",0) -> 0 | BH35: =IF(BG35="■", $R35+$S35) -> FALSE | BI35: =IF($BB35="Campeonato de Escrita e Ciência Criativa", "■",0) -> 0 | BJ35: =IF(BI35="■", $R35+$S35) -> FALSE | BK35: =IF($BB35="Cientificamente provável", "■",0) -> 0 | BL35: =IF(BK35="■", $R35+$S35) -> FALSE | BM35: =IF($BB35="Clássicos em rede", "■",0) -> 0 | BN35: =IF(BM35="■", $R35+$S35) -> FALSE | BO35: =IF($BB35="Conto Contigo", "■",0) -> 0 | BP35: =IF(BO35="■", $R35+$S35) -> FALSE | BQ35: =IF($BB35="Dia da internet Mais Segura", "■",0) -> 0 | BR35: =IF(BQ35="■", $R35+$S35) -> FALSE | BS35: =IF($BB35="Dia Mundial da Língua Portuguesa", "■",0) -> 0 | BT35: =IF(BS35="■", $R35+$S35) -> FALSE | BU35: =IF($BB35="Isto também é comigo", "■",0) -> 0 | BV35: =IF(BU35="■", $R35+$S35) -> FALSE | BW35: =IF($BB35="Jornalistas em rede", "■",0) -> 0 | BX35: =IF(BW35="■", $R35+$S35) -> FALSE | BY35: =IF($BB35="Juntos a criar", "■",0) -> 0 | BZ35: =IF(BY35="■", $R35+$S35) -> FALSE | CA35: =IF($BB35="Ler eescrever mais com a BE", "■",0) -> 0 | CB35: =IF(CA35="■", $R35+$S35) -> FALSE | CC35: =IF($BB35="Ler fora da escola", "■",0) -> 0 | CD35: =IF(CC35="■", $R35+$S35) -> FALSE | CE35: =IF($BB35="Lidera", "■",0) -> 0 | CF35: =IF(CE35="■", $R35+$S35) -> FALSE | CG35: =IF($BB35="Media@ção", "■",0) -> 0 | CH35: =IF(CG35="■", $R35+$S35) -> FALSE | CI35: =IF($BB35="Mês Internacional da Biblioteca Escolar", "■",0) -> 0 | CJ35: =IF(CI35="■", $R35+$S35) -> FALSE | CK35: =IF($BB35="Miúdos a votos", "■",0) -> 0 | CL35: =IF(CK35="■", $R35+$S35) -> FALSE | CM35: =IF($BB35="Newton gostava de ler", "■",0) -> 0 | CN35: =IF(CM35="■", $R35+$S35) -> FALSE | CO35: =IF($BB35="Proliteracias", "■",0) -> 0 | CP35: =IF(CO35="■", $R35+$S35) -> FALSE | CQ35: =IF($BB35="PÚBLICO na Escola", "■",0) -> 0 | CR35: =IF(CQ35="■", $R35+$S35) -> FALSE | CS35: =IF($BB35="READ ON Portugal", "■",0) -> 0 | CT35: =IF(CS35="■", $R35+$S35) -> FALSE | CU35: =IF($BB35="Semana da leitura", "■",0) -> 0 | CV35: =IF(CU35="■", $R35+$S35) -> FALSE | CW35: =IF($BB35="Supercharged by IA", "■",0) -> 0 | CX35: =IF(CW35="■", $R35+$S35) -> FALSE | CY35: =IF($BB35="Todos Juntos Podemos Ler", "■",0) -> 0 | CZ35: =IF(CY35="■", $R35+$S35) -> FALSE | DA35: =IF($BB35="Voluntários de leitura", "■",0) -> 0 | DB35: =IF(DA35="■", $R35+$S35) -> FALSE | DC35: =IF($BB35="Outra(s)", "■",0) -> 0 | DD35: =IF(DC35="■", $R35+$S35) -> FALSE | DF35: =IF($BC35="Plano Nacional das Artes", "■",0) -> 0 | DG35: =IF(DF35="■", $R35+$S35) -> FALSE | DH35: =IF($BC35="Plano Nacional de Cinema", "■",0) -> 0 | DI35: =IF(DH35="■", $R35+$S35) -> FALSE | DJ35: =IF($BC35="Plano Nacional de Formação Financeira", "■",0) -> 0 | DK35: =IF(DJ35="■", $R35+$S35) -> FALSE | DL35: =IF($BC35="Outra(s)", "■",0) -> 0 | DM35: =IF(DL35="■", $R35+$S35) -> FALSE | DO35: =IF($BD35="Histórias com Ciência na Biblioteca Escolar", "■",0) -> 0 | DP35: =IF(DO35="■", $R35+$S35) -> FALSE | DQ35: =IF($BD35="Jornal escolar", "■",0) -> 0 | DR35: =IF(DQ35="■", $R35+$S35) -> FALSE | DS35: =IF($BD35="Rádio escolar", "■",0) -> 0 | DT35: =IF(DS35="■", $R35+$S35) -> FALSE | DU35: =IF($BD35="TV escolar", "■",0) -> 0 | DV35: =IF(DU35="■", $R35+$S35) -> FALSE | DW35: =IF($BD35="Outra(s)", "■",0) -> 0 | DX35: =IF(DW35="■", $R35+$S35) -> FALSE
B36: ='1. Plano anual atividades'!C38 -> 0 | D36: ='1. Plano anual atividades'!D38 -> 0 | E36: ='1. Plano anual atividades'!I38 -> 0 | F36: ='1. Plano anual atividades'!J38 -> 0 | G36: ='1. Plano anual atividades'!K38 -> 0 | H36: ='1. Plano anual atividades'!L38 -> 0 | I36: ='1. Plano anual atividades'!M38 -> 0 | J36: ='1. Plano anual atividades'!N38 -> 0 | K36: ='1. Plano anual atividades'!O38 -> 0 | L36: ='1. Plano anual atividades'!P38 -> 0 | ... N36: ='1. Plano anual atividades'!R38 -> 0 | Q36: =O36*P36 -> 0 | T36: =P36*R36 -> 0 | U36: =P36*S36 -> 0 | X36: =P36*V36 -> 0 | Y36: =P36*W36 -> 0 | AB36: ='1. Plano anual atividades'!E38 -> 0 | BE36: =IF($BB36="7 dias com os media", "■",0) -> 0 | BF36: =IF(BE36="■", $R36+$S36) -> FALSE | BG36: =IF($BB36="aLer mais e melhor", "■",0) -> 0 | BH36: =IF(BG36="■", $R36+$S36) -> FALSE | BI36: =IF($BB36="Campeonato de Escrita e Ciência Criativa", "■",0) -> 0 | BJ36: =IF(BI36="■", $R36+$S36) -> FALSE | BK36: =IF($BB36="Cientificamente provável", "■",0) -> 0 | BL36: =IF(BK36="■", $R36+$S36) -> FALSE | BM36: =IF($BB36="Clássicos em rede", "■",0) -> 0 | BN36: =IF(BM36="■", $R36+$S36) -> FALSE | BO36: =IF($BB36="Conto Contigo", "■",0) -> 0 | BP36: =IF(BO36="■", $R36+$S36) -> FALSE | BQ36: =IF($BB36="Dia da internet Mais Segura", "■",0) -> 0 | BR36: =IF(BQ36="■", $R36+$S36) -> FALSE | BS36: =IF($BB36="Dia Mundial da Língua Portuguesa", "■",0) -> 0 | BT36: =IF(BS36="■", $R36+$S36) -> FALSE | BU36: =IF($BB36="Isto também é comigo", "■",0) -> 0 | BV36: =IF(BU36="■", $R36+$S36) -> FALSE | BW36: =IF($BB36="Jornalistas em rede", "■",0) -> 0 | BX36: =IF(BW36="■", $R36+$S36) -> FALSE | BY36: =IF($BB36="Juntos a criar", "■",0) -> 0 | BZ36: =IF(BY36="■", $R36+$S36) -> FALSE | CA36: =IF($BB36="Ler eescrever mais com a BE", "■",0) -> 0 | CB36: =IF(CA36="■", $R36+$S36) -> FALSE | CC36: =IF($BB36="Ler fora da escola", "■",0) -> 0 | CD36: =IF(CC36="■", $R36+$S36) -> FALSE | CE36: =IF($BB36="Lidera", "■",0) -> 0 | CF36: =IF(CE36="■", $R36+$S36) -> FALSE | CG36: =IF($BB36="Media@ção", "■",0) -> 0 | CH36: =IF(CG36="■", $R36+$S36) -> FALSE | CI36: =IF($BB36="Mês Internacional da Biblioteca Escolar", "■",0) -> 0 | CJ36: =IF(CI36="■", $R36+$S36) -> FALSE | CK36: =IF($BB36="Miúdos a votos", "■",0) -> 0 | CL36: =IF(CK36="■", $R36+$S36) -> FALSE | CM36: =IF($BB36="Newton gostava de ler", "■",0) -> 0 | CN36: =IF(CM36="■", $R36+$S36) -> FALSE | CO36: =IF($BB36="Proliteracias", "■",0) -> 0 | CP36: =IF(CO36="■", $R36+$S36) -> FALSE | CQ36: =IF($BB36="PÚBLICO na Escola", "■",0) -> 0 | CR36: =IF(CQ36="■", $R36+$S36) -> FALSE | CS36: =IF($BB36="READ ON Portugal", "■",0) -> 0 | CT36: =IF(CS36="■", $R36+$S36) -> FALSE | CU36: =IF($BB36="Semana da leitura", "■",0) -> 0 | CV36: =IF(CU36="■", $R36+$S36) -> FALSE | CW36: =IF($BB36="Supercharged by IA", "■",0) -> 0 | CX36: =IF(CW36="■", $R36+$S36) -> FALSE | CY36: =IF($BB36="Todos Juntos Podemos Ler", "■",0) -> 0 | CZ36: =IF(CY36="■", $R36+$S36) -> FALSE | DA36: =IF($BB36="Voluntários de leitura", "■",0) -> 0 | DB36: =IF(DA36="■", $R36+$S36) -> FALSE | DC36: =IF($BB36="Outra(s)", "■",0) -> 0 | DD36: =IF(DC36="■", $R36+$S36) -> FALSE | DF36: =IF($BC36="Plano Nacional das Artes", "■",0) -> 0 | DG36: =IF(DF36="■", $R36+$S36) -> FALSE | DH36: =IF($BC36="Plano Nacional de Cinema", "■",0) -> 0 | DI36: =IF(DH36="■", $R36+$S36) -> FALSE | DJ36: =IF($BC36="Plano Nacional de Formação Financeira", "■",0) -> 0 | DK36: =IF(DJ36="■", $R36+$S36) -> FALSE | DL36: =IF($BC36="Outra(s)", "■",0) -> 0 | DM36: =IF(DL36="■", $R36+$S36) -> FALSE | DO36: =IF($BD36="Histórias com Ciência na Biblioteca Escolar", "■",0) -> 0 | DP36: =IF(DO36="■", $R36+$S36) -> FALSE | DQ36: =IF($BD36="Jornal escolar", "■",0) -> 0 | DR36: =IF(DQ36="■", $R36+$S36) -> FALSE | DS36: =IF($BD36="Rádio escolar", "■",0) -> 0 | DT36: =IF(DS36="■", $R36+$S36) -> FALSE | DU36: =IF($BD36="TV escolar", "■",0) -> 0 | DV36: =IF(DU36="■", $R36+$S36) -> FALSE | DW36: =IF($BD36="Outra(s)", "■",0) -> 0 | DX36: =IF(DW36="■", $R36+$S36) -> FALSE
B37: ='1. Plano anual atividades'!C39 -> 0 | D37: ='1. Plano anual atividades'!D39 -> 0 | E37: ='1. Plano anual atividades'!I39 -> 0 | F37: ='1. Plano anual atividades'!J39 -> 0 | G37: ='1. Plano anual atividades'!K39 -> 0 | H37: ='1. Plano anual atividades'!L39 -> 0 | I37: ='1. Plano anual atividades'!M39 -> 0 | J37: ='1. Plano anual atividades'!N39 -> 0 | K37: ='1. Plano anual atividades'!O39 -> 0 | L37: ='1. Plano anual atividades'!P39 -> 0 | ... N37: ='1. Plano anual atividades'!R39 -> 0 | Q37: =O37*P37 -> 0 | T37: =P37*R37 -> 0 | U37: =P37*S37 -> 0 | X37: =P37*V37 -> 0 | Y37: =P37*W37 -> 0 | AB37: ='1. Plano anual atividades'!E39 -> 0 | BE37: =IF($BB37="7 dias com os media", "■",0) -> 0 | BF37: =IF(BE37="■", $R37+$S37) -> FALSE | BG37: =IF($BB37="aLer mais e melhor", "■",0) -> 0 | BH37: =IF(BG37="■", $R37+$S37) -> FALSE | BI37: =IF($BB37="Campeonato de Escrita e Ciência Criativa", "■",0) -> 0 | BJ37: =IF(BI37="■", $R37+$S37) -> FALSE | BK37: =IF($BB37="Cientificamente provável", "■",0) -> 0 | BL37: =IF(BK37="■", $R37+$S37) -> FALSE | BM37: =IF($BB37="Clássicos em rede", "■",0) -> 0 | BN37: =IF(BM37="■", $R37+$S37) -> FALSE | BO37: =IF($BB37="Conto Contigo", "■",0) -> 0 | BP37: =IF(BO37="■", $R37+$S37) -> FALSE | BQ37: =IF($BB37="Dia da internet Mais Segura", "■",0) -> 0 | BR37: =IF(BQ37="■", $R37+$S37) -> FALSE | BS37: =IF($BB37="Dia Mundial da Língua Portuguesa", "■",0) -> 0 | BT37: =IF(BS37="■", $R37+$S37) -> FALSE | BU37: =IF($BB37="Isto também é comigo", "■",0) -> 0 | BV37: =IF(BU37="■", $R37+$S37) -> FALSE | BW37: =IF($BB37="Jornalistas em rede", "■",0) -> 0 | BX37: =IF(BW37="■", $R37+$S37) -> FALSE | BY37: =IF($BB37="Juntos a criar", "■",0) -> 0 | BZ37: =IF(BY37="■", $R37+$S37) -> FALSE | CA37: =IF($BB37="Ler eescrever mais com a BE", "■",0) -> 0 | CB37: =IF(CA37="■", $R37+$S37) -> FALSE | CC37: =IF($BB37="Ler fora da escola", "■",0) -> 0 | CD37: =IF(CC37="■", $R37+$S37) -> FALSE | CE37: =IF($BB37="Lidera", "■",0) -> 0 | CF37: =IF(CE37="■", $R37+$S37) -> FALSE | CG37: =IF($BB37="Media@ção", "■",0) -> 0 | CH37: =IF(CG37="■", $R37+$S37) -> FALSE | CI37: =IF($BB37="Mês Internacional da Biblioteca Escolar", "■",0) -> 0 | CJ37: =IF(CI37="■", $R37+$S37) -> FALSE | CK37: =IF($BB37="Miúdos a votos", "■",0) -> 0 | CL37: =IF(CK37="■", $R37+$S37) -> FALSE | CM37: =IF($BB37="Newton gostava de ler", "■",0) -> 0 | CN37: =IF(CM37="■", $R37+$S37) -> FALSE | CO37: =IF($BB37="Proliteracias", "■",0) -> 0 | CP37: =IF(CO37="■", $R37+$S37) -> FALSE | CQ37: =IF($BB37="PÚBLICO na Escola", "■",0) -> 0 | CR37: =IF(CQ37="■", $R37+$S37) -> FALSE | CS37: =IF($BB37="READ ON Portugal", "■",0) -> 0 | CT37: =IF(CS37="■", $R37+$S37) -> FALSE | CU37: =IF($BB37="Semana da leitura", "■",0) -> 0 | CV37: =IF(CU37="■", $R37+$S37) -> FALSE | CW37: =IF($BB37="Supercharged by IA", "■",0) -> 0 | CX37: =IF(CW37="■", $R37+$S37) -> FALSE | CY37: =IF($BB37="Todos Juntos Podemos Ler", "■",0) -> 0 | CZ37: =IF(CY37="■", $R37+$S37) -> FALSE | DA37: =IF($BB37="Voluntários de leitura", "■",0) -> 0 | DB37: =IF(DA37="■", $R37+$S37) -> FALSE | DC37: =IF($BB37="Outra(s)", "■",0) -> 0 | DD37: =IF(DC37="■", $R37+$S37) -> FALSE | DF37: =IF($BC37="Plano Nacional das Artes", "■",0) -> 0 | DG37: =IF(DF37="■", $R37+$S37) -> FALSE | DH37: =IF($BC37="Plano Nacional de Cinema", "■",0) -> 0 | DI37: =IF(DH37="■", $R37+$S37) -> FALSE | DJ37: =IF($BC37="Plano Nacional de Formação Financeira", "■",0) -> 0 | DK37: =IF(DJ37="■", $R37+$S37) -> FALSE | DL37: =IF($BC37="Outra(s)", "■",0) -> 0 | DM37: =IF(DL37="■", $R37+$S37) -> FALSE | DO37: =IF($BD37="Histórias com Ciência na Biblioteca Escolar", "■",0) -> 0 | DP37: =IF(DO37="■", $R37+$S37) -> FALSE | DQ37: =IF($BD37="Jornal escolar", "■",0) -> 0 | DR37: =IF(DQ37="■", $R37+$S37) -> FALSE | DS37: =IF($BD37="Rádio escolar", "■",0) -> 0 | DT37: =IF(DS37="■", $R37+$S37) -> FALSE | DU37: =IF($BD37="TV escolar", "■",0) -> 0 | DV37: =IF(DU37="■", $R37+$S37) -> FALSE | DW37: =IF($BD37="Outra(s)", "■",0) -> 0 | DX37: =IF(DW37="■", $R37+$S37) -> FALSE
B38: ='1. Plano anual atividades'!C40 -> 0 | D38: ='1. Plano anual atividades'!D40 -> 0 | E38: ='1. Plano anual atividades'!I40 -> 0 | F38: ='1. Plano anual atividades'!J40 -> 0 | G38: ='1. Plano anual atividades'!K40 -> 0 | H38: ='1. Plano anual atividades'!L40 -> 0 | I38: ='1. Plano anual atividades'!M40 -> 0 | J38: ='1. Plano anual atividades'!N40 -> 0 | K38: ='1. Plano anual atividades'!O40 -> 0 | L38: ='1. Plano anual atividades'!P40 -> 0 | ... N38: ='1. Plano anual atividades'!R40 -> 0 | Q38: =O38*P38 -> 0 | T38: =P38*R38 -> 0 | U38: =P38*S38 -> 0 | X38: =P38*V38 -> 0 | Y38: =P38*W38 -> 0 | AB38: ='1. Plano anual atividades'!E40 -> 0 | BE38: =IF($BB38="7 dias com os media", "■",0) -> 0 | BF38: =IF(BE38="■", $R38+$S38) -> FALSE | BG38: =IF($BB38="aLer mais e melhor", "■",0) -> 0 | BH38: =IF(BG38="■", $R38+$S38) -> FALSE | BI38: =IF($BB38="Campeonato de Escrita e Ciência Criativa", "■",0) -> 0 | BJ38: =IF(BI38="■", $R38+$S38) -> FALSE | BK38: =IF($BB38="Cientificamente provável", "■",0) -> 0 | BL38: =IF(BK38="■", $R38+$S38) -> FALSE | BM38: =IF($BB38="Clássicos em rede", "■",0) -> 0 | BN38: =IF(BM38="■", $R38+$S38) -> FALSE | BO38: =IF($BB38="Conto Contigo", "■",0) -> 0 | BP38: =IF(BO38="■", $R38+$S38) -> FALSE | BQ38: =IF($BB38="Dia da internet Mais Segura", "■",0) -> 0 | BR38: =IF(BQ38="■", $R38+$S38) -> FALSE | BS38: =IF($BB38="Dia Mundial da Língua Portuguesa", "■",0) -> 0 | BT38: =IF(BS38="■", $R38+$S38) -> FALSE | BU38: =IF($BB38="Isto também é comigo", "■",0) -> 0 | BV38: =IF(BU38="■", $R38+$S38) -> FALSE | BW38: =IF($BB38="Jornalistas em rede", "■",0) -> 0 | BX38: =IF(BW38="■", $R38+$S38) -> FALSE | BY38: =IF($BB38="Juntos a criar", "■",0) -> 0 | BZ38: =IF(BY38="■", $R38+$S38) -> FALSE | CA38: =IF($BB38="Ler eescrever mais com a BE", "■",0) -> 0 | CB38: =IF(CA38="■", $R38+$S38) -> FALSE | CC38: =IF($BB38="Ler fora da escola", "■",0) -> 0 | CD38: =IF(CC38="■", $R38+$S38) -> FALSE | CE38: =IF($BB38="Lidera", "■",0) -> 0 | CF38: =IF(CE38="■", $R38+$S38) -> FALSE | CG38: =IF($BB38="Media@ção", "■",0) -> 0 | CH38: =IF(CG38="■", $R38+$S38) -> FALSE | CI38: =IF($BB38="Mês Internacional da Biblioteca Escolar", "■",0) -> 0 | CJ38: =IF(CI38="■", $R38+$S38) -> FALSE | CK38: =IF($BB38="Miúdos a votos", "■",0) -> 0 | CL38: =IF(CK38="■", $R38+$S38) -> FALSE | CM38: =IF($BB38="Newton gostava de ler", "■",0) -> 0 | CN38: =IF(CM38="■", $R38+$S38) -> FALSE | CO38: =IF($BB38="Proliteracias", "■",0) -> 0 | CP38: =IF(CO38="■", $R38+$S38) -> FALSE | CQ38: =IF($BB38="PÚBLICO na Escola", "■",0) -> 0 | CR38: =IF(CQ38="■", $R38+$S38) -> FALSE | CS38: =IF($BB38="READ ON Portugal", "■",0) -> 0 | CT38: =IF(CS38="■", $R38+$S38) -> FALSE | CU38: =IF($BB38="Semana da leitura", "■",0) -> 0 | CV38: =IF(CU38="■", $R38+$S38) -> FALSE | CW38: =IF($BB38="Supercharged by IA", "■",0) -> 0 | CX38: =IF(CW38="■", $R38+$S38) -> FALSE | CY38: =IF($BB38="Todos Juntos Podemos Ler", "■",0) -> 0 | CZ38: =IF(CY38="■", $R38+$S38) -> FALSE | DA38: =IF($BB38="Voluntários de leitura", "■",0) -> 0 | DB38: =IF(DA38="■", $R38+$S38) -> FALSE | DC38: =IF($BB38="Outra(s)", "■",0) -> 0 | DD38: =IF(DC38="■", $R38+$S38) -> FALSE | DF38: =IF($BC38="Plano Nacional das Artes", "■",0) -> 0 | DG38: =IF(DF38="■", $R38+$S38) -> FALSE | DH38: =IF($BC38="Plano Nacional de Cinema", "■",0) -> 0 | DI38: =IF(DH38="■", $R38+$S38) -> FALSE | DJ38: =IF($BC38="Plano Nacional de Formação Financeira", "■",0) -> 0 | DK38: =IF(DJ38="■", $R38+$S38) -> FALSE | DL38: =IF($BC38="Outra(s)", "■",0) -> 0 | DM38: =IF(DL38="■", $R38+$S38) -> FALSE | DO38: =IF($BD38="Histórias com Ciência na Biblioteca Escolar", "■",0) -> 0 | DP38: =IF(DO38="■", $R38+$S38) -> FALSE | DQ38: =IF($BD38="Jornal escolar", "■",0) -> 0 | DR38: =IF(DQ38="■", $R38+$S38) -> FALSE | DS38: =IF($BD38="Rádio escolar", "■",0) -> 0 | DT38: =IF(DS38="■", $R38+$S38) -> FALSE | DU38: =IF($BD38="TV escolar", "■",0) -> 0 | DV38: =IF(DU38="■", $R38+$S38) -> FALSE | DW38: =IF($BD38="Outra(s)", "■",0) -> 0 | DX38: =IF(DW38="■", $R38+$S38) -> FALSE
B39: ='1. Plano anual atividades'!C41 -> 0 | D39: ='1. Plano anual atividades'!D41 -> 0 | E39: ='1. Plano anual atividades'!I41 -> 0 | F39: ='1. Plano anual atividades'!J41 -> 0 | G39: ='1. Plano anual atividades'!K41 -> 0 | H39: ='1. Plano anual atividades'!L41 -> 0 | I39: ='1. Plano anual atividades'!M41 -> 0 | J39: ='1. Plano anual atividades'!N41 -> 0 | K39: ='1. Plano anual atividades'!O41 -> 0 | L39: ='1. Plano anual atividades'!P41 -> 0 | ... N39: ='1. Plano anual atividades'!R41 -> 0 | Q39: =O39*P39 -> 0 | T39: =P39*R39 -> 0 | U39: =P39*S39 -> 0 | X39: =P39*V39 -> 0 | Y39: =P39*W39 -> 0 | AB39: ='1. Plano anual atividades'!E41 -> 0 | BE39: =IF($BB39="7 dias com os media", "■",0) -> 0 | BF39: =IF(BE39="■", $R39+$S39) -> FALSE | BG39: =IF($BB39="aLer mais e melhor", "■",0) -> 0 | BH39: =IF(BG39="■", $R39+$S39) -> FALSE | BI39: =IF($BB39="Campeonato de Escrita e Ciência Criativa", "■",0) -> 0 | BJ39: =IF(BI39="■", $R39+$S39) -> FALSE | BK39: =IF($BB39="Cientificamente provável", "■",0) -> 0 | BL39: =IF(BK39="■", $R39+$S39) -> FALSE | BM39: =IF($BB39="Clássicos em rede", "■",0) -> 0 | BN39: =IF(BM39="■", $R39+$S39) -> FALSE | BO39: =IF($BB39="Conto Contigo", "■",0) -> 0 | BP39: =IF(BO39="■", $R39+$S39) -> FALSE | BQ39: =IF($BB39="Dia da internet Mais Segura", "■",0) -> 0 | BR39: =IF(BQ39="■", $R39+$S39) -> FALSE | BS39: =IF($BB39="Dia Mundial da Língua Portuguesa", "■",0) -> 0 | BT39: =IF(BS39="■", $R39+$S39) -> FALSE | BU39: =IF($BB39="Isto também é comigo", "■",0) -> 0 | BV39: =IF(BU39="■", $R39+$S39) -> FALSE | BW39: =IF($BB39="Jornalistas em rede", "■",0) -> 0 | BX39: =IF(BW39="■", $R39+$S39) -> FALSE | BY39: =IF($BB39="Juntos a criar", "■",0) -> 0 | BZ39: =IF(BY39="■", $R39+$S39) -> FALSE | CA39: =IF($BB39="Ler eescrever mais com a BE", "■",0) -> 0 | CB39: =IF(CA39="■", $R39+$S39) -> FALSE | CC39: =IF($BB39="Ler fora da escola", "■",0) -> 0 | CD39: =IF(CC39="■", $R39+$S39) -> FALSE | CE39: =IF($BB39="Lidera", "■",0) -> 0 | CF39: =IF(CE39="■", $R39+$S39) -> FALSE | CG39: =IF($BB39="Media@ção", "■",0) -> 0 | CH39: =IF(CG39="■", $R39+$S39) -> FALSE | CI39: =IF($BB39="Mês Internacional da Biblioteca Escolar", "■",0) -> 0 | CJ39: =IF(CI39="■", $R39+$S39) -> FALSE | CK39: =IF($BB39="Miúdos a votos", "■",0) -> 0 | CL39: =IF(CK39="■", $R39+$S39) -> FALSE | CM39: =IF($BB39="Newton gostava de ler", "■",0) -> 0 | CN39: =IF(CM39="■", $R39+$S39) -> FALSE | CO39: =IF($BB39="Proliteracias", "■",0) -> 0 | CP39: =IF(CO39="■", $R39+$S39) -> FALSE | CQ39: =IF($BB39="PÚBLICO na Escola", "■",0) -> 0 | CR39: =IF(CQ39="■", $R39+$S39) -> FALSE | CS39: =IF($BB39="READ ON Portugal", "■",0) -> 0 | CT39: =IF(CS39="■", $R39+$S39) -> FALSE | CU39: =IF($BB39="Semana da leitura", "■",0) -> 0 | CV39: =IF(CU39="■", $R39+$S39) -> FALSE | CW39: =IF($BB39="Supercharged by IA", "■",0) -> 0 | CX39: =IF(CW39="■", $R39+$S39) -> FALSE | CY39: =IF($BB39="Todos Juntos Podemos Ler", "■",0) -> 0 | CZ39: =IF(CY39="■", $R39+$S39) -> FALSE | DA39: =IF($BB39="Voluntários de leitura", "■",0) -> 0 | DB39: =IF(DA39="■", $R39+$S39) -> FALSE | DC39: =IF($BB39="Outra(s)", "■",0) -> 0 | DD39: =IF(DC39="■", $R39+$S39) -> FALSE | DF39: =IF($BC39="Plano Nacional das Artes", "■",0) -> 0 | DG39: =IF(DF39="■", $R39+$S39) -> FALSE | DH39: =IF($BC39="Plano Nacional de Cinema", "■",0) -> 0 | DI39: =IF(DH39="■", $R39+$S39) -> FALSE | DJ39: =IF($BC39="Plano Nacional de Formação Financeira", "■",0) -> 0 | DK39: =IF(DJ39="■", $R39+$S39) -> FALSE | DL39: =IF($BC39="Outra(s)", "■",0) -> 0 | DM39: =IF(DL39="■", $R39+$S39) -> FALSE | DO39: =IF($BD39="Histórias com Ciência na Biblioteca Escolar", "■",0) -> 0 | DP39: =IF(DO39="■", $R39+$S39) -> FALSE | DQ39: =IF($BD39="Jornal escolar", "■",0) -> 0 | DR39: =IF(DQ39="■", $R39+$S39) -> FALSE | DS39: =IF($BD39="Rádio escolar", "■",0) -> 0 | DT39: =IF(DS39="■", $R39+$S39) -> FALSE | DU39: =IF($BD39="TV escolar", "■",0) -> 0 | DV39: =IF(DU39="■", $R39+$S39) -> FALSE | DW39: =IF($BD39="Outra(s)", "■",0) -> 0 | DX39: =IF(DW39="■", $R39+$S39) -> FALSE
B40: ='1. Plano anual atividades'!C42 -> 0 | D40: ='1. Plano anual atividades'!D42 -> 0 | E40: ='1. Plano anual atividades'!I42 -> 0 | F40: ='1. Plano anual atividades'!J42 -> 0 | G40: ='1. Plano anual atividades'!K42 -> 0 | H40: ='1. Plano anual atividades'!L42 -> 0 | I40: ='1. Plano anual atividades'!M42 -> 0 | J40: ='1. Plano anual atividades'!N42 -> 0 | K40: ='1. Plano anual atividades'!O42 -> 0 | L40: ='1. Plano anual atividades'!P42 -> 0 | ... N40: ='1. Plano anual atividades'!R42 -> 0 | Q40: =O40*P40 -> 0 | T40: =P40*R40 -> 0 | U40: =P40*S40 -> 0 | X40: =P40*V40 -> 0 | Y40: =P40*W40 -> 0 | AB40: ='1. Plano anual atividades'!E42 -> 0 | BE40: =IF($BB40="7 dias com os media", "■",0) -> 0 | BF40: =IF(BE40="■", $R40+$S40) -> FALSE | BG40: =IF($BB40="aLer mais e melhor", "■",0) -> 0 | BH40: =IF(BG40="■", $R40+$S40) -> FALSE | BI40: =IF($BB40="Campeonato de Escrita e Ciência Criativa", "■",0) -> 0 | BJ40: =IF(BI40="■", $R40+$S40) -> FALSE | BK40: =IF($BB40="Cientificamente provável", "■",0) -> 0 | BL40: =IF(BK40="■", $R40+$S40) -> FALSE | BM40: =IF($BB40="Clássicos em rede", "■",0) -> 0 | BN40: =IF(BM40="■", $R40+$S40) -> FALSE | BO40: =IF($BB40="Conto Contigo", "■",0) -> 0 | BP40: =IF(BO40="■", $R40+$S40) -> FALSE | BQ40: =IF($BB40="Dia da internet Mais Segura", "■",0) -> 0 | BR40: =IF(BQ40="■", $R40+$S40) -> FALSE | BS40: =IF($BB40="Dia Mundial da Língua Portuguesa", "■",0) -> 0 | BT40: =IF(BS40="■", $R40+$S40) -> FALSE | BU40: =IF($BB40="Isto também é comigo", "■",0) -> 0 | BV40: =IF(BU40="■", $R40+$S40) -> FALSE | BW40: =IF($BB40="Jornalistas em rede", "■",0) -> 0 | BX40: =IF(BW40="■", $R40+$S40) -> FALSE | BY40: =IF($BB40="Juntos a criar", "■",0) -> 0 | BZ40: =IF(BY40="■", $R40+$S40) -> FALSE | CA40: =IF($BB40="Ler eescrever mais com a BE", "■",0) -> 0 | CB40: =IF(CA40="■", $R40+$S40) -> FALSE | CC40: =IF($BB40="Ler fora da escola", "■",0) -> 0 | CD40: =IF(CC40="■", $R40+$S40) -> FALSE | CE40: =IF($BB40="Lidera", "■",0) -> 0 | CF40: =IF(CE40="■", $R40+$S40) -> FALSE | CG40: =IF($BB40="Media@ção", "■",0) -> 0 | CH40: =IF(CG40="■", $R40+$S40) -> FALSE | CI40: =IF($BB40="Mês Internacional da Biblioteca Escolar", "■",0) -> 0 | CJ40: =IF(CI40="■", $R40+$S40) -> FALSE | CK40: =IF($BB40="Miúdos a votos", "■",0) -> 0 | CL40: =IF(CK40="■", $R40+$S40) -> FALSE | CM40: =IF($BB40="Newton gostava de ler", "■",0) -> 0 | CN40: =IF(CM40="■", $R40+$S40) -> FALSE | CO40: =IF($BB40="Proliteracias", "■",0) -> 0 | CP40: =IF(CO40="■", $R40+$S40) -> FALSE | CQ40: =IF($BB40="PÚBLICO na Escola", "■",0) -> 0 | CR40: =IF(CQ40="■", $R40+$S40) -> FALSE | CS40: =IF($BB40="READ ON Portugal", "■",0) -> 0 | CT40: =IF(CS40="■", $R40+$S40) -> FALSE | CU40: =IF($BB40="Semana da leitura", "■",0) -> 0 | CV40: =IF(CU40="■", $R40+$S40) -> FALSE | CW40: =IF($BB40="Supercharged by IA", "■",0) -> 0 | CX40: =IF(CW40="■", $R40+$S40) -> FALSE | CY40: =IF($BB40="Todos Juntos Podemos Ler", "■",0) -> 0 | CZ40: =IF(CY40="■", $R40+$S40) -> FALSE | DA40: =IF($BB40="Voluntários de leitura", "■",0) -> 0 | DB40: =IF(DA40="■", $R40+$S40) -> FALSE | DC40: =IF($BB40="Outra(s)", "■",0) -> 0 | DD40: =IF(DC40="■", $R40+$S40) -> FALSE | DF40: =IF($BC40="Plano Nacional das Artes", "■",0) -> 0 | DG40: =IF(DF40="■", $R40+$S40) -> FALSE | DH40: =IF($BC40="Plano Nacional de Cinema", "■",0) -> 0 | DI40: =IF(DH40="■", $R40+$S40) -> FALSE | DJ40: =IF($BC40="Plano Nacional de Formação Financeira", "■",0) -> 0 | DK40: =IF(DJ40="■", $R40+$S40) -> FALSE | DL40: =IF($BC40="Outra(s)", "■",0) -> 0 | DM40: =IF(DL40="■", $R40+$S40) -> FALSE | DO40: =IF($BD40="Histórias com Ciência na Biblioteca Escolar", "■",0) -> 0 | DP40: =IF(DO40="■", $R40+$S40) -> FALSE | DQ40: =IF($BD40="Jornal escolar", "■",0) -> 0 | DR40: =IF(DQ40="■", $R40+$S40) -> FALSE | DS40: =IF($BD40="Rádio escolar", "■",0) -> 0 | DT40: =IF(DS40="■", $R40+$S40) -> FALSE | DU40: =IF($BD40="TV escolar", "■",0) -> 0 | DV40: =IF(DU40="■", $R40+$S40) -> FALSE | DW40: =IF($BD40="Outra(s)", "■",0) -> 0 | DX40: =IF(DW40="■", $R40+$S40) -> FALSE
B41: ='1. Plano anual atividades'!C43 -> 0 | D41: ='1. Plano anual atividades'!D43 -> 0 | E41: ='1. Plano anual atividades'!I43 -> 0 | F41: ='1. Plano anual atividades'!J43 -> 0 | G41: ='1. Plano anual atividades'!K43 -> 0 | H41: ='1. Plano anual atividades'!L43 -> 0 | I41: ='1. Plano anual atividades'!M43 -> 0 | J41: ='1. Plano anual atividades'!N43 -> 0 | K41: ='1. Plano anual atividades'!O43 -> 0 | L41: ='1. Plano anual atividades'!P43 -> 0 | ... N41: ='1. Plano anual atividades'!R43 -> 0 | Q41: =O41*P41 -> 0 | T41: =P41*R41 -> 0 | U41: =P41*S41 -> 0 | X41: =P41*V41 -> 0 | Y41: =P41*W41 -> 0 | AB41: ='1. Plano anual atividades'!E43 -> 0 | BE41: =IF($BB41="7 dias com os media", "■",0) -> 0 | BF41: =IF(BE41="■", $R41+$S41) -> FALSE | BG41: =IF($BB41="aLer mais e melhor", "■",0) -> 0 | BH41: =IF(BG41="■", $R41+$S41) -> FALSE | BI41: =IF($BB41="Campeonato de Escrita e Ciência Criativa", "■",0) -> 0 | BJ41: =IF(BI41="■", $R41+$S41) -> FALSE | BK41: =IF($BB41="Cientificamente provável", "■",0) -> 0 | BL41: =IF(BK41="■", $R41+$S41) -> FALSE | BM41: =IF($BB41="Clássicos em rede", "■",0) -> 0 | BN41: =IF(BM41="■", $R41+$S41) -> FALSE | BO41: =IF($BB41="Conto Contigo", "■",0) -> 0 | BP41: =IF(BO41="■", $R41+$S41) -> FALSE | BQ41: =IF($BB41="Dia da internet Mais Segura", "■",0) -> 0 | BR41: =IF(BQ41="■", $R41+$S41) -> FALSE | BS41: =IF($BB41="Dia Mundial da Língua Portuguesa", "■",0) -> 0 | BT41: =IF(BS41="■", $R41+$S41) -> FALSE | BU41: =IF($BB41="Isto também é comigo", "■",0) -> 0 | BV41: =IF(BU41="■", $R41+$S41) -> FALSE | BW41: =IF($BB41="Jornalistas em rede", "■",0) -> 0 | BX41: =IF(BW41="■", $R41+$S41) -> FALSE | BY41: =IF($BB41="Juntos a criar", "■",0) -> 0 | BZ41: =IF(BY41="■", $R41+$S41) -> FALSE | CA41: =IF($BB41="Ler eescrever mais com a BE", "■",0) -> 0 | CB41: =IF(CA41="■", $R41+$S41) -> FALSE | CC41: =IF($BB41="Ler fora da escola", "■",0) -> 0 | CD41: =IF(CC41="■", $R41+$S41) -> FALSE | CE41: =IF($BB41="Lidera", "■",0) -> 0 | CF41: =IF(CE41="■", $R41+$S41) -> FALSE | CG41: =IF($BB41="Media@ção", "■",0) -> 0 | CH41: =IF(CG41="■", $R41+$S41) -> FALSE | CI41: =IF($BB41="Mês Internacional da Biblioteca Escolar", "■",0) -> 0 | CJ41: =IF(CI41="■", $R41+$S41) -> FALSE | CK41: =IF($BB41="Miúdos a votos", "■",0) -> 0 | CL41: =IF(CK41="■", $R41+$S41) -> FALSE | CM41: =IF($BB41="Newton gostava de ler", "■",0) -> 0 | CN41: =IF(CM41="■", $R41+$S41) -> FALSE | CO41: =IF($BB41="Proliteracias", "■",0) -> 0 | CP41: =IF(CO41="■", $R41+$S41) -> FALSE | CQ41: =IF($BB41="PÚBLICO na Escola", "■",0) -> 0 | CR41: =IF(CQ41="■", $R41+$S41) -> FALSE | CS41: =IF($BB41="READ ON Portugal", "■",0) -> 0 | CT41: =IF(CS41="■", $R41+$S41) -> FALSE | CU41: =IF($BB41="Semana da leitura", "■",0) -> 0 | CV41: =IF(CU41="■", $R41+$S41) -> FALSE | CW41: =IF($BB41="Supercharged by IA", "■",0) -> 0 | CX41: =IF(CW41="■", $R41+$S41) -> FALSE | CY41: =IF($BB41="Todos Juntos Podemos Ler", "■",0) -> 0 | CZ41: =IF(CY41="■", $R41+$S41) -> FALSE | DA41: =IF($BB41="Voluntários de leitura", "■",0) -> 0 | DB41: =IF(DA41="■", $R41+$S41) -> FALSE | DC41: =IF($BB41="Outra(s)", "■",0) -> 0 | DD41: =IF(DC41="■", $R41+$S41) -> FALSE | DF41: =IF($BC41="Plano Nacional das Artes", "■",0) -> 0 | DG41: =IF(DF41="■", $R41+$S41) -> FALSE | DH41: =IF($BC41="Plano Nacional de Cinema", "■",0) -> 0 | DI41: =IF(DH41="■", $R41+$S41) -> FALSE | DJ41: =IF($BC41="Plano Nacional de Formação Financeira", "■",0) -> 0 | DK41: =IF(DJ41="■", $R41+$S41) -> FALSE | DL41: =IF($BC41="Outra(s)", "■",0) -> 0 | DM41: =IF(DL41="■", $R41+$S41) -> FALSE | DO41: =IF($BD41="Histórias com Ciência na Biblioteca Escolar", "■",0) -> 0 | DP41: =IF(DO41="■", $R41+$S41) -> FALSE | DQ41: =IF($BD41="Jornal escolar", "■",0) -> 0 | DR41: =IF(DQ41="■", $R41+$S41) -> FALSE | DS41: =IF($BD41="Rádio escolar", "■",0) -> 0 | DT41: =IF(DS41="■", $R41+$S41) -> FALSE | DU41: =IF($BD41="TV escolar", "■",0) -> 0 | DV41: =IF(DU41="■", $R41+$S41) -> FALSE | DW41: =IF($BD41="Outra(s)", "■",0) -> 0 | DX41: =IF(DW41="■", $R41+$S41) -> FALSE
B42: ='1. Plano anual atividades'!C44 -> 0 | D42: ='1. Plano anual atividades'!D44 -> 0 | E42: ='1. Plano anual atividades'!I44 -> 0 | F42: ='1. Plano anual atividades'!J44 -> 0 | G42: ='1. Plano anual atividades'!K44 -> 0 | H42: ='1. Plano anual atividades'!L44 -> 0 | I42: ='1. Plano anual atividades'!M44 -> 0 | J42: ='1. Plano anual atividades'!N44 -> 0 | K42: ='1. Plano anual atividades'!O44 -> 0 | L42: ='1. Plano anual atividades'!P44 -> 0 | ... N42: ='1. Plano anual atividades'!R44 -> 0 | Q42: =O42*P42 -> 0 | T42: =P42*R42 -> 0 | U42: =P42*S42 -> 0 | X42: =P42*V42 -> 0 | Y42: =P42*W42 -> 0 | AB42: ='1. Plano anual atividades'!E44 -> 0 | BE42: =IF($BB42="7 dias com os media", "■",0) -> 0 | BF42: =IF(BE42="■", $R42+$S42) -> FALSE | BG42: =IF($BB42="aLer mais e melhor", "■",0) -> 0 | BH42: =IF(BG42="■", $R42+$S42) -> FALSE | BI42: =IF($BB42="Campeonato de Escrita e Ciência Criativa", "■",0) -> 0 | BJ42: =IF(BI42="■", $R42+$S42) -> FALSE | BK42: =IF($BB42="Cientificamente provável", "■",0) -> 0 | BL42: =IF(BK42="■", $R42+$S42) -> FALSE | BM42: =IF($BB42="Clássicos em rede", "■",0) -> 0 | BN42: =IF(BM42="■", $R42+$S42) -> FALSE | BO42: =IF($BB42="Conto Contigo", "■",0) -> 0 | BP42: =IF(BO42="■", $R42+$S42) -> FALSE | BQ42: =IF($BB42="Dia da internet Mais Segura", "■",0) -> 0 | BR42: =IF(BQ42="■", $R42+$S42) -> FALSE | BS42: =IF($BB42="Dia Mundial da Língua Portuguesa", "■",0) -> 0 | BT42: =IF(BS42="■", $R42+$S42) -> FALSE | BU42: =IF($BB42="Isto também é comigo", "■",0) -> 0 | BV42: =IF(BU42="■", $R42+$S42) -> FALSE | BW42: =IF($BB42="Jornalistas em rede", "■",0) -> 0 | BX42: =IF(BW42="■", $R42+$S42) -> FALSE | BY42: =IF($BB42="Juntos a criar", "■",0) -> 0 | BZ42: =IF(BY42="■", $R42+$S42) -> FALSE | CA42: =IF($BB42="Ler eescrever mais com a BE", "■",0) -> 0 | CB42: =IF(CA42="■", $R42+$S42) -> FALSE | CC42: =IF($BB42="Ler fora da escola", "■",0) -> 0 | CD42: =IF(CC42="■", $R42+$S42) -> FALSE | CE42: =IF($BB42="Lidera", "■",0) -> 0 | CF42: =IF(CE42="■", $R42+$S42) -> FALSE | CG42: =IF($BB42="Media@ção", "■",0) -> 0 | CH42: =IF(CG42="■", $R42+$S42) -> FALSE | CI42: =IF($BB42="Mês Internacional da Biblioteca Escolar", "■",0) -> 0 | CJ42: =IF(CI42="■", $R42+$S42) -> FALSE | CK42: =IF($BB42="Miúdos a votos", "■",0) -> 0 | CL42: =IF(CK42="■", $R42+$S42) -> FALSE | CM42: =IF($BB42="Newton gostava de ler", "■",0) -> 0 | CN42: =IF(CM42="■", $R42+$S42) -> FALSE | CO42: =IF($BB42="Proliteracias", "■",0) -> 0 | CP42: =IF(CO42="■", $R42+$S42) -> FALSE | CQ42: =IF($BB42="PÚBLICO na Escola", "■",0) -> 0 | CR42: =IF(CQ42="■", $R42+$S42) -> FALSE | CS42: =IF($BB42="READ ON Portugal", "■",0) -> 0 | CT42: =IF(CS42="■", $R42+$S42) -> FALSE | CU42: =IF($BB42="Semana da leitura", "■",0) -> 0 | CV42: =IF(CU42="■", $R42+$S42) -> FALSE | CW42: =IF($BB42="Supercharged by IA", "■",0) -> 0 | CX42: =IF(CW42="■", $R42+$S42) -> FALSE | CY42: =IF($BB42="Todos Juntos Podemos Ler", "■",0) -> 0 | CZ42: =IF(CY42="■", $R42+$S42) -> FALSE | DA42: =IF($BB42="Voluntários de leitura", "■",0) -> 0 | DB42: =IF(DA42="■", $R42+$S42) -> FALSE | DC42: =IF($BB42="Outra(s)", "■",0) -> 0 | DD42: =IF(DC42="■", $R42+$S42) -> FALSE | DF42: =IF($BC42="Plano Nacional das Artes", "■",0) -> 0 | DG42: =IF(DF42="■", $R42+$S42) -> FALSE | DH42: =IF($BC42="Plano Nacional de Cinema", "■",0) -> 0 | DI42: =IF(DH42="■", $R42+$S42) -> FALSE | DJ42: =IF($BC42="Plano Nacional de Formação Financeira", "■",0) -> 0 | DK42: =IF(DJ42="■", $R42+$S42) -> FALSE | DL42: =IF($BC42="Outra(s)", "■",0) -> 0 | DM42: =IF(DL42="■", $R42+$S42) -> FALSE | DO42: =IF($BD42="Histórias com Ciência na Biblioteca Escolar", "■",0) -> 0 | DP42: =IF(DO42="■", $R42+$S42) -> FALSE | DQ42: =IF($BD42="Jornal escolar", "■",0) -> 0 | DR42: =IF(DQ42="■", $R42+$S42) -> FALSE | DS42: =IF($BD42="Rádio escolar", "■",0) -> 0 | DT42: =IF(DS42="■", $R42+$S42) -> FALSE | DU42: =IF($BD42="TV escolar", "■",0) -> 0 | DV42: =IF(DU42="■", $R42+$S42) -> FALSE | DW42: =IF($BD42="Outra(s)", "■",0) -> 0 | DX42: =IF(DW42="■", $R42+$S42) -> FALSE
B43: ='1. Plano anual atividades'!C45 -> 0 | D43: ='1. Plano anual atividades'!D45 -> 0 | E43: ='1. Plano anual atividades'!I45 -> 0 | F43: ='1. Plano anual atividades'!J45 -> 0 | G43: ='1. Plano anual atividades'!K45 -> 0 | H43: ='1. Plano anual atividades'!L45 -> 0 | I43: ='1. Plano anual atividades'!M45 -> 0 | J43: ='1. Plano anual atividades'!N45 -> 0 | K43: ='1. Plano anual atividades'!O45 -> 0 | L43: ='1. Plano anual atividades'!P45 -> 0 | ... N43: ='1. Plano anual atividades'!R45 -> 0 | Q43: =O43*P43 -> 0 | T43: =P43*R43 -> 0 | U43: =P43*S43 -> 0 | X43: =P43*V43 -> 0 | Y43: =P43*W43 -> 0 | AB43: ='1. Plano anual atividades'!E45 -> 0 | BE43: =IF($BB43="7 dias com os media", "■",0) -> 0 | BF43: =IF(BE43="■", $R43+$S43) -> FALSE | BG43: =IF($BB43="aLer mais e melhor", "■",0) -> 0 | BH43: =IF(BG43="■", $R43+$S43) -> FALSE | BI43: =IF($BB43="Campeonato de Escrita e Ciência Criativa", "■",0) -> 0 | BJ43: =IF(BI43="■", $R43+$S43) -> FALSE | BK43: =IF($BB43="Cientificamente provável", "■",0) -> 0 | BL43: =IF(BK43="■", $R43+$S43) -> FALSE | BM43: =IF($BB43="Clássicos em rede", "■",0) -> 0 | BN43: =IF(BM43="■", $R43+$S43) -> FALSE | BO43: =IF($BB43="Conto Contigo", "■",0) -> 0 | BP43: =IF(BO43="■", $R43+$S43) -> FALSE | BQ43: =IF($BB43="Dia da internet Mais Segura", "■",0) -> 0 | BR43: =IF(BQ43="■", $R43+$S43) -> FALSE | BS43: =IF($BB43="Dia Mundial da Língua Portuguesa", "■",0) -> 0 | BT43: =IF(BS43="■", $R43+$S43) -> FALSE | BU43: =IF($BB43="Isto também é comigo", "■",0) -> 0 | BV43: =IF(BU43="■", $R43+$S43) -> FALSE | BW43: =IF($BB43="Jornalistas em rede", "■",0) -> 0 | BX43: =IF(BW43="■", $R43+$S43) -> FALSE | BY43: =IF($BB43="Juntos a criar", "■",0) -> 0 | BZ43: =IF(BY43="■", $R43+$S43) -> FALSE | CA43: =IF($BB43="Ler eescrever mais com a BE", "■",0) -> 0 | CB43: =IF(CA43="■", $R43+$S43) -> FALSE | CC43: =IF($BB43="Ler fora da escola", "■",0) -> 0 | CD43: =IF(CC43="■", $R43+$S43) -> FALSE | CE43: =IF($BB43="Lidera", "■",0) -> 0 | CF43: =IF(CE43="■", $R43+$S43) -> FALSE | CG43: =IF($BB43="Media@ção", "■",0) -> 0 | CH43: =IF(CG43="■", $R43+$S43) -> FALSE | CI43: =IF($BB43="Mês Internacional da Biblioteca Escolar", "■",0) -> 0 | CJ43: =IF(CI43="■", $R43+$S43) -> FALSE | CK43: =IF($BB43="Miúdos a votos", "■",0) -> 0 | CL43: =IF(CK43="■", $R43+$S43) -> FALSE | CM43: =IF($BB43="Newton gostava de ler", "■",0) -> 0 | CN43: =IF(CM43="■", $R43+$S43) -> FALSE | CO43: =IF($BB43="Proliteracias", "■",0) -> 0 | CP43: =IF(CO43="■", $R43+$S43) -> FALSE | CQ43: =IF($BB43="PÚBLICO na Escola", "■",0) -> 0 | CR43: =IF(CQ43="■", $R43+$S43) -> FALSE | CS43: =IF($BB43="READ ON Portugal", "■",0) -> 0 | CT43: =IF(CS43="■", $R43+$S43) -> FALSE | CU43: =IF($BB43="Semana da leitura", "■",0) -> 0 | CV43: =IF(CU43="■", $R43+$S43) -> FALSE | CW43: =IF($BB43="Supercharged by IA", "■",0) -> 0 | CX43: =IF(CW43="■", $R43+$S43) -> FALSE | CY43: =IF($BB43="Todos Juntos Podemos Ler", "■",0) -> 0 | CZ43: =IF(CY43="■", $R43+$S43) -> FALSE | DA43: =IF($BB43="Voluntários de leitura", "■",0) -> 0 | DB43: =IF(DA43="■", $R43+$S43) -> FALSE | DC43: =IF($BB43="Outra(s)", "■",0) -> 0 | DD43: =IF(DC43="■", $R43+$S43) -> FALSE | DF43: =IF($BC43="Plano Nacional das Artes", "■",0) -> 0 | DG43: =IF(DF43="■", $R43+$S43) -> FALSE | DH43: =IF($BC43="Plano Nacional de Cinema", "■",0) -> 0 | DI43: =IF(DH43="■", $R43+$S43) -> FALSE | DJ43: =IF($BC43="Plano Nacional de Formação Financeira", "■",0) -> 0 | DK43: =IF(DJ43="■", $R43+$S43) -> FALSE | DL43: =IF($BC43="Outra(s)", "■",0) -> 0 | DM43: =IF(DL43="■", $R43+$S43) -> FALSE | DO43: =IF($BD43="Histórias com Ciência na Biblioteca Escolar", "■",0) -> 0 | DP43: =IF(DO43="■", $R43+$S43) -> FALSE | DQ43: =IF($BD43="Jornal escolar", "■",0) -> 0 | DR43: =IF(DQ43="■", $R43+$S43) -> FALSE | DS43: =IF($BD43="Rádio escolar", "■",0) -> 0 | DT43: =IF(DS43="■", $R43+$S43) -> FALSE | DU43: =IF($BD43="TV escolar", "■",0) -> 0 | DV43: =IF(DU43="■", $R43+$S43) -> FALSE | DW43: =IF($BD43="Outra(s)", "■",0) -> 0 | DX43: =IF(DW43="■", $R43+$S43) -> FALSE
B44: ='1. Plano anual atividades'!C46 -> 0 | D44: ='1. Plano anual atividades'!D46 -> 0 | E44: ='1. Plano anual atividades'!I46 -> 0 | F44: ='1. Plano anual atividades'!J46 -> 0 | G44: ='1. Plano anual atividades'!K46 -> 0 | H44: ='1. Plano anual atividades'!L46 -> 0 | I44: ='1. Plano anual atividades'!M46 -> 0 | J44: ='1. Plano anual atividades'!N46 -> 0 | K44: ='1. Plano anual atividades'!O46 -> 0 | L44: ='1. Plano anual atividades'!P46 -> 0 | ... N44: ='1. Plano anual atividades'!R46 -> 0 | Q44: =O44*P44 -> 0 | T44: =P44*R44 -> 0 | U44: =P44*S44 -> 0 | X44: =P44*V44 -> 0 | Y44: =P44*W44 -> 0 | AB44: ='1. Plano anual atividades'!E46 -> 0 | BE44: =IF($BB44="7 dias com os media", "■",0) -> 0 | BF44: =IF(BE44="■", $R44+$S44) -> FALSE | BG44: =IF($BB44="aLer mais e melhor", "■",0) -> 0 | BH44: =IF(BG44="■", $R44+$S44) -> FALSE | BI44: =IF($BB44="Campeonato de Escrita e Ciência Criativa", "■",0) -> 0 | BJ44: =IF(BI44="■", $R44+$S44) -> FALSE | BK44: =IF($BB44="Cientificamente provável", "■",0) -> 0 | BL44: =IF(BK44="■", $R44+$S44) -> FALSE | BM44: =IF($BB44="Clássicos em rede", "■",0) -> 0 | BN44: =IF(BM44="■", $R44+$S44) -> FALSE | BO44: =IF($BB44="Conto Contigo", "■",0) -> 0 | BP44: =IF(BO44="■", $R44+$S44) -> FALSE | BQ44: =IF($BB44="Dia da internet Mais Segura", "■",0) -> 0 | BR44: =IF(BQ44="■", $R44+$S44) -> FALSE | BS44: =IF($BB44="Dia Mundial da Língua Portuguesa", "■",0) -> 0 | BT44: =IF(BS44="■", $R44+$S44) -> FALSE | BU44: =IF($BB44="Isto também é comigo", "■",0) -> 0 | BV44: =IF(BU44="■", $R44+$S44) -> FALSE | BW44: =IF($BB44="Jornalistas em rede", "■",0) -> 0 | BX44: =IF(BW44="■", $R44+$S44) -> FALSE | BY44: =IF($BB44="Juntos a criar", "■",0) -> 0 | BZ44: =IF(BY44="■", $R44+$S44) -> FALSE | CA44: =IF($BB44="Ler eescrever mais com a BE", "■",0) -> 0 | CB44: =IF(CA44="■", $R44+$S44) -> FALSE | CC44: =IF($BB44="Ler fora da escola", "■",0) -> 0 | CD44: =IF(CC44="■", $R44+$S44) -> FALSE | CE44: =IF($BB44="Lidera", "■",0) -> 0 | CF44: =IF(CE44="■", $R44+$S44) -> FALSE | CG44: =IF($BB44="Media@ção", "■",0) -> 0 | CH44: =IF(CG44="■", $R44+$S44) -> FALSE | CI44: =IF($BB44="Mês Internacional da Biblioteca Escolar", "■",0) -> 0 | CJ44: =IF(CI44="■", $R44+$S44) -> FALSE | CK44: =IF($BB44="Miúdos a votos", "■",0) -> 0 | CL44: =IF(CK44="■", $R44+$S44) -> FALSE | CM44: =IF($BB44="Newton gostava de ler", "■",0) -> 0 | CN44: =IF(CM44="■", $R44+$S44) -> FALSE | CO44: =IF($BB44="Proliteracias", "■",0) -> 0 | CP44: =IF(CO44="■", $R44+$S44) -> FALSE | CQ44: =IF($BB44="PÚBLICO na Escola", "■",0) -> 0 | CR44: =IF(CQ44="■", $R44+$S44) -> FALSE | CS44: =IF($BB44="READ ON Portugal", "■",0) -> 0 | CT44: =IF(CS44="■", $R44+$S44) -> FALSE | CU44: =IF($BB44="Semana da leitura", "■",0) -> 0 | CV44: =IF(CU44="■", $R44+$S44) -> FALSE | CW44: =IF($BB44="Supercharged by IA", "■",0) -> 0 | CX44: =IF(CW44="■", $R44+$S44) -> FALSE | CY44: =IF($BB44="Todos Juntos Podemos Ler", "■",0) -> 0 | CZ44: =IF(CY44="■", $R44+$S44) -> FALSE | DA44: =IF($BB44="Voluntários de leitura", "■",0) -> 0 | DB44: =IF(DA44="■", $R44+$S44) -> FALSE | DC44: =IF($BB44="Outra(s)", "■",0) -> 0 | DD44: =IF(DC44="■", $R44+$S44) -> FALSE | DF44: =IF($BC44="Plano Nacional das Artes", "■",0) -> 0 | DG44: =IF(DF44="■", $R44+$S44) -> FALSE | DH44: =IF($BC44="Plano Nacional de Cinema", "■",0) -> 0 | DI44: =IF(DH44="■", $R44+$S44) -> FALSE | DJ44: =IF($BC44="Plano Nacional de Formação Financeira", "■",0) -> 0 | DK44: =IF(DJ44="■", $R44+$S44) -> FALSE | DL44: =IF($BC44="Outra(s)", "■",0) -> 0 | DM44: =IF(DL44="■", $R44+$S44) -> FALSE | DO44: =IF($BD44="Histórias com Ciência na Biblioteca Escolar", "■",0) -> 0 | DP44: =IF(DO44="■", $R44+$S44) -> FALSE | DQ44: =IF($BD44="Jornal escolar", "■",0) -> 0 | DR44: =IF(DQ44="■", $R44+$S44) -> FALSE | DS44: =IF($BD44="Rádio escolar", "■",0) -> 0 | DT44: =IF(DS44="■", $R44+$S44) -> FALSE | DU44: =IF($BD44="TV escolar", "■",0) -> 0 | DV44: =IF(DU44="■", $R44+$S44) -> FALSE | DW44: =IF($BD44="Outra(s)", "■",0) -> 0 | DX44: =IF(DW44="■", $R44+$S44) -> FALSE
B45: ='1. Plano anual atividades'!C47 -> 0 | D45: ='1. Plano anual atividades'!D47 -> 0 | E45: ='1. Plano anual atividades'!I47 -> 0 | F45: ='1. Plano anual atividades'!J47 -> 0 | G45: ='1. Plano anual atividades'!K47 -> 0 | H45: ='1. Plano anual atividades'!L47 -> 0 | I45: ='1. Plano anual atividades'!M47 -> 0 | J45: ='1. Plano anual atividades'!N47 -> 0 | K45: ='1. Plano anual atividades'!O47 -> 0 | L45: ='1. Plano anual atividades'!P47 -> 0 | ... N45: ='1. Plano anual atividades'!R47 -> 0 | Q45: =O45*P45 -> 0 | T45: =P45*R45 -> 0 | U45: =P45*S45 -> 0 | X45: =P45*V45 -> 0 | Y45: =P45*W45 -> 0 | AB45: ='1. Plano anual atividades'!E47 -> 0 | BE45: =IF($BB45="7 dias com os media", "■",0) -> 0 | BF45: =IF(BE45="■", $R45+$S45) -> FALSE | BG45: =IF($BB45="aLer mais e melhor", "■",0) -> 0 | BH45: =IF(BG45="■", $R45+$S45) -> FALSE | BI45: =IF($BB45="Campeonato de Escrita e Ciência Criativa", "■",0) -> 0 | BJ45: =IF(BI45="■", $R45+$S45) -> FALSE | BK45: =IF($BB45="Cientificamente provável", "■",0) -> 0 | BL45: =IF(BK45="■", $R45+$S45) -> FALSE | BM45: =IF($BB45="Clássicos em rede", "■",0) -> 0 | BN45: =IF(BM45="■", $R45+$S45) -> FALSE | BO45: =IF($BB45="Conto Contigo", "■",0) -> 0 | BP45: =IF(BO45="■", $R45+$S45) -> FALSE | BQ45: =IF($BB45="Dia da internet Mais Segura", "■",0) -> 0 | BR45: =IF(BQ45="■", $R45+$S45) -> FALSE | BS45: =IF($BB45="Dia Mundial da Língua Portuguesa", "■",0) -> 0 | BT45: =IF(BS45="■", $R45+$S45) -> FALSE | BU45: =IF($BB45="Isto também é comigo", "■",0) -> 0 | BV45: =IF(BU45="■", $R45+$S45) -> FALSE | BW45: =IF($BB45="Jornalistas em rede", "■",0) -> 0 | BX45: =IF(BW45="■", $R45+$S45) -> FALSE | BY45: =IF($BB45="Juntos a criar", "■",0) -> 0 | BZ45: =IF(BY45="■", $R45+$S45) -> FALSE | CA45: =IF($BB45="Ler eescrever mais com a BE", "■",0) -> 0 | CB45: =IF(CA45="■", $R45+$S45) -> FALSE | CC45: =IF($BB45="Ler fora da escola", "■",0) -> 0 | CD45: =IF(CC45="■", $R45+$S45) -> FALSE | CE45: =IF($BB45="Lidera", "■",0) -> 0 | CF45: =IF(CE45="■", $R45+$S45) -> FALSE | CG45: =IF($BB45="Media@ção", "■",0) -> 0 | CH45: =IF(CG45="■", $R45+$S45) -> FALSE | CI45: =IF($BB45="Mês Internacional da Biblioteca Escolar", "■",0) -> 0 | CJ45: =IF(CI45="■", $R45+$S45) -> FALSE | CK45: =IF($BB45="Miúdos a votos", "■",0) -> 0 | CL45: =IF(CK45="■", $R45+$S45) -> FALSE | CM45: =IF($BB45="Newton gostava de ler", "■",0) -> 0 | CN45: =IF(CM45="■", $R45+$S45) -> FALSE | CO45: =IF($BB45="Proliteracias", "■",0) -> 0 | CP45: =IF(CO45="■", $R45+$S45) -> FALSE | CQ45: =IF($BB45="PÚBLICO na Escola", "■",0) -> 0 | CR45: =IF(CQ45="■", $R45+$S45) -> FALSE | CS45: =IF($BB45="READ ON Portugal", "■",0) -> 0 | CT45: =IF(CS45="■", $R45+$S45) -> FALSE | CU45: =IF($BB45="Semana da leitura", "■",0) -> 0 | CV45: =IF(CU45="■", $R45+$S45) -> FALSE | CW45: =IF($BB45="Supercharged by IA", "■",0) -> 0 | CX45: =IF(CW45="■", $R45+$S45) -> FALSE | CY45: =IF($BB45="Todos Juntos Podemos Ler", "■",0) -> 0 | CZ45: =IF(CY45="■", $R45+$S45) -> FALSE | DA45: =IF($BB45="Voluntários de leitura", "■",0) -> 0 | DB45: =IF(DA45="■", $R45+$S45) -> FALSE | DC45: =IF($BB45="Outra(s)", "■",0) -> 0 | DD45: =IF(DC45="■", $R45+$S45) -> FALSE | DF45: =IF($BC45="Plano Nacional das Artes", "■",0) -> 0 | DG45: =IF(DF45="■", $R45+$S45) -> FALSE | DH45: =IF($BC45="Plano Nacional de Cinema", "■",0) -> 0 | DI45: =IF(DH45="■", $R45+$S45) -> FALSE | DJ45: =IF($BC45="Plano Nacional de Formação Financeira", "■",0) -> 0 | DK45: =IF(DJ45="■", $R45+$S45) -> FALSE | DL45: =IF($BC45="Outra(s)", "■",0) -> 0 | DM45: =IF(DL45="■", $R45+$S45) -> FALSE | DO45: =IF($BD45="Histórias com Ciência na Biblioteca Escolar", "■",0) -> 0 | DP45: =IF(DO45="■", $R45+$S45) -> FALSE | DQ45: =IF($BD45="Jornal escolar", "■",0) -> 0 | DR45: =IF(DQ45="■", $R45+$S45) -> FALSE | DS45: =IF($BD45="Rádio escolar", "■",0) -> 0 | DT45: =IF(DS45="■", $R45+$S45) -> FALSE | DU45: =IF($BD45="TV escolar", "■",0) -> 0 | DV45: =IF(DU45="■", $R45+$S45) -> FALSE | DW45: =IF($BD45="Outra(s)", "■",0) -> 0 | DX45: =IF(DW45="■", $R45+$S45) -> FALSE
B46: ='1. Plano anual atividades'!C48 -> 0 | D46: ='1. Plano anual atividades'!D48 -> 0 | E46: ='1. Plano anual atividades'!I48 -> 0 | F46: ='1. Plano anual atividades'!J48 -> 0 | G46: ='1. Plano anual atividades'!K48 -> 0 | H46: ='1. Plano anual atividades'!L48 -> 0 | I46: ='1. Plano anual atividades'!M48 -> 0 | J46: ='1. Plano anual atividades'!N48 -> 0 | K46: ='1. Plano anual atividades'!O48 -> 0 | L46: ='1. Plano anual atividades'!P48 -> 0 | ... N46: ='1. Plano anual atividades'!R48 -> 0 | Q46: =O46*P46 -> 0 | T46: =P46*R46 -> 0 | U46: =P46*S46 -> 0 | X46: =P46*V46 -> 0 | Y46: =P46*W46 -> 0 | AB46: ='1. Plano anual atividades'!E48 -> 0 | BE46: =IF($BB46="7 dias com os media", "■",0) -> 0 | BF46: =IF(BE46="■", $R46+$S46) -> FALSE | BG46: =IF($BB46="aLer mais e melhor", "■",0) -> 0 | BH46: =IF(BG46="■", $R46+$S46) -> FALSE | BI46: =IF($BB46="Campeonato de Escrita e Ciência Criativa", "■",0) -> 0 | BJ46: =IF(BI46="■", $R46+$S46) -> FALSE | BK46: =IF($BB46="Cientificamente provável", "■",0) -> 0 | BL46: =IF(BK46="■", $R46+$S46) -> FALSE | BM46: =IF($BB46="Clássicos em rede", "■",0) -> 0 | BN46: =IF(BM46="■", $R46+$S46) -> FALSE | BO46: =IF($BB46="Conto Contigo", "■",0) -> 0 | BP46: =IF(BO46="■", $R46+$S46) -> FALSE | BQ46: =IF($BB46="Dia da internet Mais Segura", "■",0) -> 0 | BR46: =IF(BQ46="■", $R46+$S46) -> FALSE | BS46: =IF($BB46="Dia Mundial da Língua Portuguesa", "■",0) -> 0 | BT46: =IF(BS46="■", $R46+$S46) -> FALSE | BU46: =IF($BB46="Isto também é comigo", "■",0) -> 0 | BV46: =IF(BU46="■", $R46+$S46) -> FALSE | BW46: =IF($BB46="Jornalistas em rede", "■",0) -> 0 | BX46: =IF(BW46="■", $R46+$S46) -> FALSE | BY46: =IF($BB46="Juntos a criar", "■",0) -> 0 | BZ46: =IF(BY46="■", $R46+$S46) -> FALSE | CA46: =IF($BB46="Ler eescrever mais com a BE", "■",0) -> 0 | CB46: =IF(CA46="■", $R46+$S46) -> FALSE | CC46: =IF($BB46="Ler fora da escola", "■",0) -> 0 | CD46: =IF(CC46="■", $R46+$S46) -> FALSE | CE46: =IF($BB46="Lidera", "■",0) -> 0 | CF46: =IF(CE46="■", $R46+$S46) -> FALSE | CG46: =IF($BB46="Media@ção", "■",0) -> 0 | CH46: =IF(CG46="■", $R46+$S46) -> FALSE | CI46: =IF($BB46="Mês Internacional da Biblioteca Escolar", "■",0) -> 0 | CJ46: =IF(CI46="■", $R46+$S46) -> FALSE | CK46: =IF($BB46="Miúdos a votos", "■",0) -> 0 | CL46: =IF(CK46="■", $R46+$S46) -> FALSE | CM46: =IF($BB46="Newton gostava de ler", "■",0) -> 0 | CN46: =IF(CM46="■", $R46+$S46) -> FALSE | CO46: =IF($BB46="Proliteracias", "■",0) -> 0 | CP46: =IF(CO46="■", $R46+$S46) -> FALSE | CQ46: =IF($BB46="PÚBLICO na Escola", "■",0) -> 0 | CR46: =IF(CQ46="■", $R46+$S46) -> FALSE | CS46: =IF($BB46="READ ON Portugal", "■",0) -> 0 | CT46: =IF(CS46="■", $R46+$S46) -> FALSE | CU46: =IF($BB46="Semana da leitura", "■",0) -> 0 | CV46: =IF(CU46="■", $R46+$S46) -> FALSE | CW46: =IF($BB46="Supercharged by IA", "■",0) -> 0 | CX46: =IF(CW46="■", $R46+$S46) -> FALSE | CY46: =IF($BB46="Todos Juntos Podemos Ler", "■",0) -> 0 | CZ46: =IF(CY46="■", $R46+$S46) -> FALSE | DA46: =IF($BB46="Voluntários de leitura", "■",0) -> 0 | DB46: =IF(DA46="■", $R46+$S46) -> FALSE | DC46: =IF($BB46="Outra(s)", "■",0) -> 0 | DD46: =IF(DC46="■", $R46+$S46) -> FALSE | DF46: =IF($BC46="Plano Nacional das Artes", "■",0) -> 0 | DG46: =IF(DF46="■", $R46+$S46) -> FALSE | DH46: =IF($BC46="Plano Nacional de Cinema", "■",0) -> 0 | DI46: =IF(DH46="■", $R46+$S46) -> FALSE | DJ46: =IF($BC46="Plano Nacional de Formação Financeira", "■",0) -> 0 | DK46: =IF(DJ46="■", $R46+$S46) -> FALSE | DL46: =IF($BC46="Outra(s)", "■",0) -> 0 | DM46: =IF(DL46="■", $R46+$S46) -> FALSE | DO46: =IF($BD46="Histórias com Ciência na Biblioteca Escolar", "■",0) -> 0 | DP46: =IF(DO46="■", $R46+$S46) -> FALSE | DQ46: =IF($BD46="Jornal escolar", "■",0) -> 0 | DR46: =IF(DQ46="■", $R46+$S46) -> FALSE | DS46: =IF($BD46="Rádio escolar", "■",0) -> 0 | DT46: =IF(DS46="■", $R46+$S46) -> FALSE | DU46: =IF($BD46="TV escolar", "■",0) -> 0 | DV46: =IF(DU46="■", $R46+$S46) -> FALSE | DW46: =IF($BD46="Outra(s)", "■",0) -> 0 | DX46: =IF(DW46="■", $R46+$S46) -> FALSE
... B54: ='1. Plano anual atividades'!C56 -> 0 | D54: ='1. Plano anual atividades'!D56 -> 0 | E54: ='1. Plano anual atividades'!I56 -> 0 | F54: ='1. Plano anual atividades'!J56 -> 0 | G54: ='1. Plano anual atividades'!K56 -> 0 | H54: ='1. Plano anual atividades'!L56 -> 0 | I54: ='1. Plano anual atividades'!M56 -> 0 | J54: ='1. Plano anual atividades'!N56 -> 0 | K54: ='1. Plano anual atividades'!O56 -> 0 | L54: ='1. Plano anual atividades'!P56 -> 0 | ... N54: ='1. Plano anual atividades'!R56 -> 0 | Q54: =O54*P54 -> 0 | T54: =P54*R54 -> 0 | U54: =P54*S54 -> 0 | X54: =P54*V54 -> 0 | Y54: =P54*W54 -> 0 | AB54: ='1. Plano anual atividades'!E56 -> 0 | BE54: =IF($BB54="7 dias com os media", "■",0) -> 0 | BF54: =IF(BE54="■", $R54+$S54) -> FALSE | BG54: =IF($BB54="aLer mais e melhor", "■",0) -> 0 | BH54: =IF(BG54="■", $R54+$S54) -> FALSE | BI54: =IF($BB54="Campeonato de Escrita e Ciência Criativa", "■",0) -> 0 | BJ54: =IF(BI54="■", $R54+$S54) -> FALSE | BK54: =IF($BB54="Cientificamente provável", "■",0) -> 0 | BL54: =IF(BK54="■", $R54+$S54) -> FALSE | BM54: =IF($BB54="Clássicos em rede", "■",0) -> 0 | BN54: =IF(BM54="■", $R54+$S54) -> FALSE | BO54: =IF($BB54="Conto Contigo", "■",0) -> 0 | BP54: =IF(BO54="■", $R54+$S54) -> FALSE | BQ54: =IF($BB54="Dia da internet Mais Segura", "■",0) -> 0 | BR54: =IF(BQ54="■", $R54+$S54) -> FALSE | BS54: =IF($BB54="Dia Mundial da Língua Portuguesa", "■",0) -> 0 | BT54: =IF(BS54="■", $R54+$S54) -> FALSE | BU54: =IF($BB54="Isto também é comigo", "■",0) -> 0 | BV54: =IF(BU54="■", $R54+$S54) -> FALSE | BW54: =IF($BB54="Jornalistas em rede", "■",0) -> 0 | BX54: =IF(BW54="■", $R54+$S54) -> FALSE | BY54: =IF($BB54="Juntos a criar", "■",0) -> 0 | BZ54: =IF(BY54="■", $R54+$S54) -> FALSE | CA54: =IF($BB54="Ler eescrever mais com a BE", "■",0) -> 0 | CB54: =IF(CA54="■", $R54+$S54) -> FALSE | CC54: =IF($BB54="Ler fora da escola", "■",0) -> 0 | CD54: =IF(CC54="■", $R54+$S54) -> FALSE | CE54: =IF($BB54="Lidera", "■",0) -> 0 | CF54: =IF(CE54="■", $R54+$S54) -> FALSE | CG54: =IF($BB54="Media@ção", "■",0) -> 0 | CH54: =IF(CG54="■", $R54+$S54) -> FALSE | CI54: =IF($BB54="Mês Internacional da Biblioteca Escolar", "■",0) -> 0 | CJ54: =IF(CI54="■", $R54+$S54) -> FALSE | CK54: =IF($BB54="Miúdos a votos", "■",0) -> 0 | CL54: =IF(CK54="■", $R54+$S54) -> FALSE | CM54: =IF($BB54="Newton gostava de ler", "■",0) -> 0 | CN54: =IF(CM54="■", $R54+$S54) -> FALSE | CO54: =IF($BB54="Proliteracias", "■",0) -> 0 | CP54: =IF(CO54="■", $R54+$S54) -> FALSE | CQ54: =IF($BB54="PÚBLICO na Escola", "■",0) -> 0 | CR54: =IF(CQ54="■", $R54+$S54) -> FALSE | CS54: =IF($BB54="READ ON Portugal", "■",0) -> 0 | CT54: =IF(CS54="■", $R54+$S54) -> FALSE | CU54: =IF($BB54="Semana da leitura", "■",0) -> 0 | CV54: =IF(CU54="■", $R54+$S54) -> FALSE | CW54: =IF($BB54="Supercharged by IA", "■",0) -> 0 | CX54: =IF(CW54="■", $R54+$S54) -> FALSE | CY54: =IF($BB54="Todos Juntos Podemos Ler", "■",0) -> 0 | CZ54: =IF(CY54="■", $R54+$S54) -> FALSE | DA54: =IF($BB54="Voluntários de leitura", "■",0) -> 0 | DB54: =IF(DA54="■", $R54+$S54) -> FALSE | DC54: =IF($BB54="Outra(s)", "■",0) -> 0 | DD54: =IF(DC54="■", $R54+$S54) -> FALSE | DF54: =IF($BC54="Plano Nacional das Artes", "■",0) -> 0 | DG54: =IF(DF54="■", $R54+$S54) -> FALSE | DH54: =IF($BC54="Plano Nacional de Cinema", "■",0) -> 0 | DI54: =IF(DH54="■", $R54+$S54) -> FALSE | DJ54: =IF($BC54="Plano Nacional de Formação Financeira", "■",0) -> 0 | DK54: =IF(DJ54="■", $R54+$S54) -> FALSE | DL54: =IF($BC54="Outra(s)", "■",0) -> 0 | DM54: =IF(DL54="■", $R54+$S54) -> FALSE | DO54: =IF($BD54="Histórias com Ciência na Biblioteca Escolar", "■",0) -> 0 | DP54: =IF(DO54="■", $R54+$S54) -> FALSE | DQ54: =IF($BD54="Jornal escolar", "■",0) -> 0 | DR54: =IF(DQ54="■", $R54+$S54) -> FALSE | DS54: =IF($BD54="Rádio escolar", "■",0) -> 0 | DT54: =IF(DS54="■", $R54+$S54) -> FALSE | DU54: =IF($BD54="TV escolar", "■",0) -> 0 | DV54: =IF(DU54="■", $R54+$S54) -> FALSE | DW54: =IF($BD54="Outra(s)", "■",0) -> 0 | DX54: =IF(DW54="■", $R54+$S54) -> FALSE
B56: ='1. Plano anual atividades'!C58 -> 0 | C56: =COUNTA(C35:C54) -> 0 | D56: =COUNTIF(D35:D54, "■") -> 0 | E56: =COUNTIF(E35:E54, "■") -> 0 | F56: =COUNTIF(F35:F54, "■") -> 0 | G56: =COUNTIF(G35:G54, "■") -> 0 | H56: =COUNTIF(H35:H54, "■") -> 0 | I56: =COUNTIF(I35:I54, "■") -> 0 | J56: =COUNTIF(J35:J54, "■") -> 0 | K56: =COUNTIF(K35:K54, "■") -> 0 | ... N56: =COUNTIF(N35:N54, "■") -> 0 | O56: =SUM(O35:O54) -> 0 | P56: =SUM(P35:P54) -> 0 | Q56: =SUM(Q35:Q54) -> 0 | R56: =SUM(R35:R54) -> 0 | S56: =SUM(S35:S54) -> 0 | T56: =SUM(T35:T54) -> 0 | U56: =SUM(U35:U54) -> 0 | V56: =SUM(V35:V54) -> 0 | ... AA56: =SUM(AA35:AA54) -> 0 | AB56: =COUNTIF(AB35:AB54, "■") -> 0 | AC56: =COUNTIF(AC35:AC54, "■") -> 0 | AD56: =COUNTIF(AD35:AD54, "■") -> 0 | AE56: =COUNTIF(AE35:AE54, "■") -> 0 | AF56: =COUNTIF(AF35:AF54, "■") -> 0 | AG56: =COUNTIF(AG35:AG54, "■") -> 0 | AH56: =COUNTIF(AH35:AH54, "■") -> 0 | AI56: =COUNTIF(AI35:AI54, "■") -> 0 | ... AL56: =COUNTIF(AL35:AL54, "■") -> 0 | AM56: =SUM(AM35:AM54) -> 0 | AN56: =SUM(AN35:AN54) -> 0 | AO56: =SUM(AO35:AO54) -> 0 | AP56: =SUM(AP35:AP54) -> 0 | AQ56: =SUM(AQ35:AQ54) -> 0 | AR56: =SUM(AR35:AR54) -> 0 | AS56: =SUM(AS35:AS54) -> 0 | AT56: =SUM(AT35:AT54) -> 0 | ... AV56: =SUM(AV35:AV54) -> 0 | BF56: =SUM(BF35:BF54) -> 0 | BH56: =SUM(BH35:BH54) -> 0 | BJ56: =SUM(BJ35:BJ54) -> 0 | BL56: =SUM(BL35:BL54) -> 0 | BN56: =SUM(BN35:BN54) -> 0 | BP56: =SUM(BP35:BP54) -> 0 | BR56: =SUM(BR35:BR54) -> 0 | BT56: =SUM(BT35:BT54) -> 0 | BV56: =SUM(BV35:BV54) -> 0 | BX56: =SUM(BX35:BX54) -> 0 | BZ56: =SUM(BZ35:BZ54) -> 0 | CB56: =SUM(CB35:CB54) -> 0 | CD56: =SUM(CD35:CD54) -> 0 | CF56: =SUM(CF35:CF54) -> 0 | CH56: =SUM(CH35:CH54) -> 0 | CJ56: =SUM(CJ35:CJ54) -> 0 | CL56: =SUM(CL35:CL54) -> 0 | CN56: =SUM(CN35:CN54) -> 0 | CP56: =SUM(CP35:CP54) -> 0 | CR56: =SUM(CR35:CR54) -> 0 | CT56: =SUM(CT35:CT54) -> 0 | CV56: =SUM(CV35:CV54) -> 0 | CX56: =SUM(CX35:CX54) -> 0 | CZ56: =SUM(CZ35:CZ54) -> 0 | DB56: =SUM(DB35:DB54) -> 0 | DD56: =SUM(DD35:DD54) -> 0 | DG56: =SUM(DG35:DG54) -> 0 | DI56: =SUM(DI35:DI54) -> 0 | DK56: =SUM(DK35:DK54) -> 0 | DM56: =SUM(DM35:DM54) -> 0 | DP56: =SUM(DP35:DP54) -> 0 | DR56: =SUM(DR35:DR54) -> 0 | DT56: =SUM(DT35:DT54) -> 0 | DV56: =SUM(DV35:DV54) -> 0 | DX56: =SUM(DX35:DX54) -> 0
B59: Domínio C - Projetos e parcerias
E60: Projeto Educativo | O60: N.º total | Q60: N.º de participações | R60: N.º de alunos envolvidos | T60: N.º participações | U60: N.º participações | V60: N.º de docentes envolvidos | X60: N.º participações | Y60: N.º participações | AC60: Área de literacia | AF60: Área curricular e extracurricular | AM60: Alunos envolvidos | AR60: Docentes envolvidos | AW60: Nível de impacto | BA60: Projetos | BB60: Propostas RBE | BC60: Propostas de outras instituições nacionais e internacionais | BD60: Propostas locais ou regionais
B61: Atividades planificadas | C61: Executada | D61: PM | E61: 1 | F61: 2 | G61: 3 | H61: 4 | I61: 5 | J61: 6 | K61: 7 | L61: 8 | M61: 9 | N61: 10 | O61: Turmas | P61: Aulas/ sessões | Q61: Turmas | R61: Individual | S61: Em turma | T61: Individual | U61: Em turma | V61: Individual | W61: Com turma | X61: Individual | Y61: Com turma | Z61: N.º de Pais e EE envolvidos | AA61: N.º de outros envolvidos | AB61: AcBE | AC61: L | AD61: I | AE61: M | AF61: L | AG61: CSH | AH61: MCE | AI61: ET | AJ61: ACT | AK61: ALF | AL61: Outras | AM61: Pré-Escolar | AN61: 1.º CEB | AO61: 2.º CEB | AP61: 3.º CEB | AQ61: Ensino Secundário | AR61: Pré-Escolar | AS61: 1.º CEB | AT61: 2.º CEB | AU61: 3.º CEB | AV61: Ensino Secundário | AW61: CC | AX61: AV | AY61: AS | AZ61: SCP | BE61: 7D | BF61: N.º alunos | BG61: aler+ | BH61: N.º alunos | BI61: ECC | BJ61: N.º alunos | BK61: CP | BL61: N.º alunos | BM61: CR | BN61: N.º alunos | BO61: CC | BP61: N.º alunos | BQ61: DIS | BR61: N.º alunos | BS61: DMLP | BT61: N.º alunos | BU61: ITEC | BV61: N.º alunos | BW61: JR | BX61: N.º alunos | BY61: JC | BZ61: N.º alunos | CA61: LECBE | CB61: N.º alunos | CC61: LFE | CD61: N.º alunos | CE61: L | CF61: N.º alunos | CG61: M | CH61: N.º alunos | CI61: MIBE | CJ61: N.º alunos | CK61: MV | CL61: N.º alunos | CM61: NGL | CN61: N.º alunos | CO61: P | CP61: N.º alunos | CQ61: PE | CR61: N.º alunos | CS61: RO | CT61: N.º alunos | CU61: SL | CV61: N.º alunos | CW61: SAI | CX61: N.º alunos | CY61: TJPL | CZ61: N.º alunos | DA61: VL | DB61: N.º alunos | DC61: O | DD61: N.º alunos | DF61: PNA | DG61: N.º alunos | DH61: PNC | DI61: N.º alunos | DJ61: PNFF | DK61: N.º alunos | DL61: O | DM61: N.º alunos | DO61: HCBE | DP61: N.º alunos | DQ61: JE | DR61: N.º alunos | DS61: RE | DT61: N.º alunos | DU61: TVE | DV61: N.º alunos | DW61: O | DX61: N.º alunos
B62: ='1. Plano anual atividades'!C64 -> 0 | D62: ='1. Plano anual atividades'!D64 -> 0 | E62: ='1. Plano anual atividades'!I64 -> 0 | F62: ='1. Plano anual atividades'!J64 -> 0 | G62: ='1. Plano anual atividades'!K64 -> 0 | H62: ='1. Plano anual atividades'!L64 -> 0 | I62: ='1. Plano anual atividades'!M64 -> 0 | J62: ='1. Plano anual atividades'!N64 -> 0 | K62: ='1. Plano anual atividades'!O64 -> 0 | L62: ='1. Plano anual atividades'!P64 -> 0 | ... N62: ='1. Plano anual atividades'!R64 -> 0 | Q62: =O62*P62 -> 0 | T62: =P62*R62 -> 0 | U62: =P62*S62 -> 0 | X62: =P62*V62 -> 0 | Y62: =P62*W62 -> 0 | AB62: ='1. Plano anual atividades'!E64 -> 0 | BE62: =IF($BB62="7 dias com os media", "■",0) -> 0 | BF62: =IF(BE62="■", $R62+$S62) -> FALSE | BG62: =IF($BB62="aLer mais e melhor", "■",0) -> 0 | BH62: =IF(BG62="■", $R62+$S62) -> FALSE | BI62: =IF($BB62="Campeonato de Escrita e Ciência Criativa", "■",0) -> 0 | BJ62: =IF(BI62="■", $R62+$S62) -> FALSE | BK62: =IF($BB62="Cientificamente provável", "■",0) -> 0 | BL62: =IF(BK62="■", $R62+$S62) -> FALSE | BM62: =IF($BB62="Clássicos em rede", "■",0) -> 0 | BN62: =IF(BM62="■", $R62+$S62) -> FALSE | BO62: =IF($BB62="Conto Contigo", "■",0) -> 0 | BP62: =IF(BO62="■", $R62+$S62) -> FALSE | BQ62: =IF($BB62="Dia da internet Mais Segura", "■",0) -> 0 | BR62: =IF(BQ62="■", $R62+$S62) -> FALSE | BS62: =IF($BB62="Dia Mundial da Língua Portuguesa", "■",0) -> 0 | BT62: =IF(BS62="■", $R62+$S62) -> FALSE | BU62: =IF($BB62="Isto também é comigo", "■",0) -> 0 | BV62: =IF(BU62="■", $R62+$S62) -> FALSE | BW62: =IF($BB62="Jornalistas em rede", "■",0) -> 0 | BX62: =IF(BW62="■", $R62+$S62) -> FALSE | BY62: =IF($BB62="Juntos a criar", "■",0) -> 0 | BZ62: =IF(BY62="■", $R62+$S62) -> FALSE | CA62: =IF($BB62="Ler eescrever mais com a BE", "■",0) -> 0 | CB62: =IF(CA62="■", $R62+$S62) -> FALSE | CC62: =IF($BB62="Ler fora da escola", "■",0) -> 0 | CD62: =IF(CC62="■", $R62+$S62) -> FALSE | CE62: =IF($BB62="Lidera", "■",0) -> 0 | CF62: =IF(CE62="■", $R62+$S62) -> FALSE | CG62: =IF($BB62="Media@ção", "■",0) -> 0 | CH62: =IF(CG62="■", $R62+$S62) -> FALSE | CI62: =IF($BB62="Mês Internacional da Biblioteca Escolar", "■",0) -> 0 | CJ62: =IF(CI62="■", $R62+$S62) -> FALSE | CK62: =IF($BB62="Miúdos a votos", "■",0) -> 0 | CL62: =IF(CK62="■", $R62+$S62) -> FALSE | CM62: =IF($BB62="Newton gostava de ler", "■",0) -> 0 | CN62: =IF(CM62="■", $R62+$S62) -> FALSE | CO62: =IF($BB62="Proliteracias", "■",0) -> 0 | CP62: =IF(CO62="■", $R62+$S62) -> FALSE | CQ62: =IF($BB62="PÚBLICO na Escola", "■",0) -> 0 | CR62: =IF(CQ62="■", $R62+$S62) -> FALSE | CS62: =IF($BB62="READ ON Portugal", "■",0) -> 0 | CT62: =IF(CS62="■", $R62+$S62) -> FALSE | CU62: =IF($BB62="Semana da leitura", "■",0) -> 0 | CV62: =IF(CU62="■", $R62+$S62) -> FALSE | CW62: =IF($BB62="Supercharged by IA", "■",0) -> 0 | CX62: =IF(CW62="■", $R62+$S62) -> FALSE | CY62: =IF($BB62="Todos Juntos Podemos Ler", "■",0) -> 0 | CZ62: =IF(CY62="■", $R62+$S62) -> FALSE | DA62: =IF($BB62="Voluntários de leitura", "■",0) -> 0 | DB62: =IF(DA62="■", $R62+$S62) -> FALSE | DC62: =IF($BB62="Outra(s)", "■",0) -> 0 | DD62: =IF(DC62="■", $R62+$S62) -> FALSE | DF62: =IF($BC62="Plano Nacional das Artes", "■",0) -> 0 | DG62: =IF(DF62="■", $R62+$S62) -> FALSE | DH62: =IF($BC62="Plano Nacional de Cinema", "■",0) -> 0 | DI62: =IF(DH62="■", $R62+$S62) -> FALSE | DJ62: =IF($BC62="Plano Nacional de Formação Financeira", "■",0) -> 0 | DK62: =IF(DJ62="■", $R62+$S62) -> FALSE | DL62: =IF($BC62="Outra(s)", "■",0) -> 0 | DM62: =IF(DL62="■", $R62+$S62) -> FALSE | DO62: =IF($BD62="Histórias com Ciência na Biblioteca Escolar", "■",0) -> 0 | DP62: =IF(DO62="■", $R62+$S62) -> FALSE | DQ62: =IF($BD62="Jornal escolar", "■",0) -> 0 | DR62: =IF(DQ62="■", $R62+$S62) -> FALSE | DS62: =IF($BD62="Rádio escolar", "■",0) -> 0 | DT62: =IF(DS62="■", $R62+$S62) -> FALSE | DU62: =IF($BD62="TV escolar", "■",0) -> 0 | DV62: =IF(DU62="■", $R62+$S62) -> FALSE | DW62: =IF($BD62="Outra(s)", "■",0) -> 0 | DX62: =IF(DW62="■", $R62+$S62) -> FALSE
B63: ='1. Plano anual atividades'!C65 -> 0 | D63: ='1. Plano anual atividades'!D65 -> 0 | E63: ='1. Plano anual atividades'!I65 -> 0 | F63: ='1. Plano anual atividades'!J65 -> 0 | G63: ='1. Plano anual atividades'!K65 -> 0 | H63: ='1. Plano anual atividades'!L65 -> 0 | I63: ='1. Plano anual atividades'!M65 -> 0 | J63: ='1. Plano anual atividades'!N65 -> 0 | K63: ='1. Plano anual atividades'!O65 -> 0 | L63: ='1. Plano anual atividades'!P65 -> 0 | ... N63: ='1. Plano anual atividades'!R65 -> 0 | Q63: =O63*P63 -> 0 | T63: =P63*R63 -> 0 | U63: =P63*S63 -> 0 | X63: =P63*V63 -> 0 | Y63: =P63*W63 -> 0 | AB63: ='1. Plano anual atividades'!E65 -> 0 | BE63: =IF($BB63="7 dias com os media", "■",0) -> 0 | BF63: =IF(BE63="■", $R63+$S63) -> FALSE | BG63: =IF($BB63="aLer mais e melhor", "■",0) -> 0 | BH63: =IF(BG63="■", $R63+$S63) -> FALSE | BI63: =IF($BB63="Campeonato de Escrita e Ciência Criativa", "■",0) -> 0 | BJ63: =IF(BI63="■", $R63+$S63) -> FALSE | BK63: =IF($BB63="Cientificamente provável", "■",0) -> 0 | BL63: =IF(BK63="■", $R63+$S63) -> FALSE | BM63: =IF($BB63="Clássicos em rede", "■",0) -> 0 | BN63: =IF(BM63="■", $R63+$S63) -> FALSE | BO63: =IF($BB63="Conto Contigo", "■",0) -> 0 | BP63: =IF(BO63="■", $R63+$S63) -> FALSE | BQ63: =IF($BB63="Dia da internet Mais Segura", "■",0) -> 0 | BR63: =IF(BQ63="■", $R63+$S63) -> FALSE | BS63: =IF($BB63="Dia Mundial da Língua Portuguesa", "■",0) -> 0 | BT63: =IF(BS63="■", $R63+$S63) -> FALSE | BU63: =IF($BB63="Isto também é comigo", "■",0) -> 0 | BV63: =IF(BU63="■", $R63+$S63) -> FALSE | BW63: =IF($BB63="Jornalistas em rede", "■",0) -> 0 | BX63: =IF(BW63="■", $R63+$S63) -> FALSE | BY63: =IF($BB63="Juntos a criar", "■",0) -> 0 | BZ63: =IF(BY63="■", $R63+$S63) -> FALSE | CA63: =IF($BB63="Ler eescrever mais com a BE", "■",0) -> 0 | CB63: =IF(CA63="■", $R63+$S63) -> FALSE | CC63: =IF($BB63="Ler fora da escola", "■",0) -> 0 | CD63: =IF(CC63="■", $R63+$S63) -> FALSE | CE63: =IF($BB63="Lidera", "■",0) -> 0 | CF63: =IF(CE63="■", $R63+$S63) -> FALSE | CG63: =IF($BB63="Media@ção", "■",0) -> 0 | CH63: =IF(CG63="■", $R63+$S63) -> FALSE | CI63: =IF($BB63="Mês Internacional da Biblioteca Escolar", "■",0) -> 0 | CJ63: =IF(CI63="■", $R63+$S63) -> FALSE | CK63: =IF($BB63="Miúdos a votos", "■",0) -> 0 | CL63: =IF(CK63="■", $R63+$S63) -> FALSE | CM63: =IF($BB63="Newton gostava de ler", "■",0) -> 0 | CN63: =IF(CM63="■", $R63+$S63) -> FALSE | CO63: =IF($BB63="Proliteracias", "■",0) -> 0 | CP63: =IF(CO63="■", $R63+$S63) -> FALSE | CQ63: =IF($BB63="PÚBLICO na Escola", "■",0) -> 0 | CR63: =IF(CQ63="■", $R63+$S63) -> FALSE | CS63: =IF($BB63="READ ON Portugal", "■",0) -> 0 | CT63: =IF(CS63="■", $R63+$S63) -> FALSE | CU63: =IF($BB63="Semana da leitura", "■",0) -> 0 | CV63: =IF(CU63="■", $R63+$S63) -> FALSE | CW63: =IF($BB63="Supercharged by IA", "■",0) -> 0 | CX63: =IF(CW63="■", $R63+$S63) -> FALSE | CY63: =IF($BB63="Todos Juntos Podemos Ler", "■",0) -> 0 | CZ63: =IF(CY63="■", $R63+$S63) -> FALSE | DA63: =IF($BB63="Voluntários de leitura", "■",0) -> 0 | DB63: =IF(DA63="■", $R63+$S63) -> FALSE | DC63: =IF($BB63="Outra(s)", "■",0) -> 0 | DD63: =IF(DC63="■", $R63+$S63) -> FALSE | DF63: =IF($BC63="Plano Nacional das Artes", "■",0) -> 0 | DG63: =IF(DF63="■", $R63+$S63) -> FALSE | DH63: =IF($BC63="Plano Nacional de Cinema", "■",0) -> 0 | DI63: =IF(DH63="■", $R63+$S63) -> FALSE | DJ63: =IF($BC63="Plano Nacional de Formação Financeira", "■",0) -> 0 | DK63: =IF(DJ63="■", $R63+$S63) -> FALSE | DL63: =IF($BC63="Outra(s)", "■",0) -> 0 | DM63: =IF(DL63="■", $R63+$S63) -> FALSE | DO63: =IF($BD63="Histórias com Ciência na Biblioteca Escolar", "■",0) -> 0 | DP63: =IF(DO63="■", $R63+$S63) -> FALSE | DQ63: =IF($BD63="Jornal escolar", "■",0) -> 0 | DR63: =IF(DQ63="■", $R63+$S63) -> FALSE | DS63: =IF($BD63="Rádio escolar", "■",0) -> 0 | DT63: =IF(DS63="■", $R63+$S63) -> FALSE | DU63: =IF($BD63="TV escolar", "■",0) -> 0 | DV63: =IF(DU63="■", $R63+$S63) -> FALSE | DW63: =IF($BD63="Outra(s)", "■",0) -> 0 | DX63: =IF(DW63="■", $R63+$S63) -> FALSE
B64: ='1. Plano anual atividades'!C66 -> 0 | D64: ='1. Plano anual atividades'!D66 -> 0 | E64: ='1. Plano anual atividades'!I66 -> 0 | F64: ='1. Plano anual atividades'!J66 -> 0 | G64: ='1. Plano anual atividades'!K66 -> 0 | H64: ='1. Plano anual atividades'!L66 -> 0 | I64: ='1. Plano anual atividades'!M66 -> 0 | J64: ='1. Plano anual atividades'!N66 -> 0 | K64: ='1. Plano anual atividades'!O66 -> 0 | L64: ='1. Plano anual atividades'!P66 -> 0 | ... N64: ='1. Plano anual atividades'!R66 -> 0 | Q64: =O64*P64 -> 0 | T64: =P64*R64 -> 0 | U64: =P64*S64 -> 0 | X64: =P64*V64 -> 0 | Y64: =P64*W64 -> 0 | AB64: ='1. Plano anual atividades'!E66 -> 0 | BE64: =IF($BB64="7 dias com os media", "■",0) -> 0 | BF64: =IF(BE64="■", $R64+$S64) -> FALSE | BG64: =IF($BB64="aLer mais e melhor", "■",0) -> 0 | BH64: =IF(BG64="■", $R64+$S64) -> FALSE | BI64: =IF($BB64="Campeonato de Escrita e Ciência Criativa", "■",0) -> 0 | BJ64: =IF(BI64="■", $R64+$S64) -> FALSE | BK64: =IF($BB64="Cientificamente provável", "■",0) -> 0 | BL64: =IF(BK64="■", $R64+$S64) -> FALSE | BM64: =IF($BB64="Clássicos em rede", "■",0) -> 0 | BN64: =IF(BM64="■", $R64+$S64) -> FALSE | BO64: =IF($BB64="Conto Contigo", "■",0) -> 0 | BP64: =IF(BO64="■", $R64+$S64) -> FALSE | BQ64: =IF($BB64="Dia da internet Mais Segura", "■",0) -> 0 | BR64: =IF(BQ64="■", $R64+$S64) -> FALSE | BS64: =IF($BB64="Dia Mundial da Língua Portuguesa", "■",0) -> 0 | BT64: =IF(BS64="■", $R64+$S64) -> FALSE | BU64: =IF($BB64="Isto também é comigo", "■",0) -> 0 | BV64: =IF(BU64="■", $R64+$S64) -> FALSE | BW64: =IF($BB64="Jornalistas em rede", "■",0) -> 0 | BX64: =IF(BW64="■", $R64+$S64) -> FALSE | BY64: =IF($BB64="Juntos a criar", "■",0) -> 0 | BZ64: =IF(BY64="■", $R64+$S64) -> FALSE | CA64: =IF($BB64="Ler eescrever mais com a BE", "■",0) -> 0 | CB64: =IF(CA64="■", $R64+$S64) -> FALSE | CC64: =IF($BB64="Ler fora da escola", "■",0) -> 0 | CD64: =IF(CC64="■", $R64+$S64) -> FALSE | CE64: =IF($BB64="Lidera", "■",0) -> 0 | CF64: =IF(CE64="■", $R64+$S64) -> FALSE | CG64: =IF($BB64="Media@ção", "■",0) -> 0 | CH64: =IF(CG64="■", $R64+$S64) -> FALSE | CI64: =IF($BB64="Mês Internacional da Biblioteca Escolar", "■",0) -> 0 | CJ64: =IF(CI64="■", $R64+$S64) -> FALSE | CK64: =IF($BB64="Miúdos a votos", "■",0) -> 0 | CL64: =IF(CK64="■", $R64+$S64) -> FALSE | CM64: =IF($BB64="Newton gostava de ler", "■",0) -> 0 | CN64: =IF(CM64="■", $R64+$S64) -> FALSE | CO64: =IF($BB64="Proliteracias", "■",0) -> 0 | CP64: =IF(CO64="■", $R64+$S64) -> FALSE | CQ64: =IF($BB64="PÚBLICO na Escola", "■",0) -> 0 | CR64: =IF(CQ64="■", $R64+$S64) -> FALSE | CS64: =IF($BB64="READ ON Portugal", "■",0) -> 0 | CT64: =IF(CS64="■", $R64+$S64) -> FALSE | CU64: =IF($BB64="Semana da leitura", "■",0) -> 0 | CV64: =IF(CU64="■", $R64+$S64) -> FALSE | CW64: =IF($BB64="Supercharged by IA", "■",0) -> 0 | CX64: =IF(CW64="■", $R64+$S64) -> FALSE | CY64: =IF($BB64="Todos Juntos Podemos Ler", "■",0) -> 0 | CZ64: =IF(CY64="■", $R64+$S64) -> FALSE | DA64: =IF($BB64="Voluntários de leitura", "■",0) -> 0 | DB64: =IF(DA64="■", $R64+$S64) -> FALSE | DC64: =IF($BB64="Outra(s)", "■",0) -> 0 | DD64: =IF(DC64="■", $R64+$S64) -> FALSE | DF64: =IF($BC64="Plano Nacional das Artes", "■",0) -> 0 | DG64: =IF(DF64="■", $R64+$S64) -> FALSE | DH64: =IF($BC64="Plano Nacional de Cinema", "■",0) -> 0 | DI64: =IF(DH64="■", $R64+$S64) -> FALSE | DJ64: =IF($BC64="Plano Nacional de Formação Financeira", "■",0) -> 0 | DK64: =IF(DJ64="■", $R64+$S64) -> FALSE | DL64: =IF($BC64="Outra(s)", "■",0) -> 0 | DM64: =IF(DL64="■", $R64+$S64) -> FALSE | DO64: =IF($BD64="Histórias com Ciência na Biblioteca Escolar", "■",0) -> 0 | DP64: =IF(DO64="■", $R64+$S64) -> FALSE | DQ64: =IF($BD64="Jornal escolar", "■",0) -> 0 | DR64: =IF(DQ64="■", $R64+$S64) -> FALSE | DS64: =IF($BD64="Rádio escolar", "■",0) -> 0 | DT64: =IF(DS64="■", $R64+$S64) -> FALSE | DU64: =IF($BD64="TV escolar", "■",0) -> 0 | DV64: =IF(DU64="■", $R64+$S64) -> FALSE | DW64: =IF($BD64="Outra(s)", "■",0) -> 0 | DX64: =IF(DW64="■", $R64+$S64) -> FALSE
B65: ='1. Plano anual atividades'!C67 -> 0 | D65: ='1. Plano anual atividades'!D67 -> 0 | E65: ='1. Plano anual atividades'!I67 -> 0 | F65: ='1. Plano anual atividades'!J67 -> 0 | G65: ='1. Plano anual atividades'!K67 -> 0 | H65: ='1. Plano anual atividades'!L67 -> 0 | I65: ='1. Plano anual atividades'!M67 -> 0 | J65: ='1. Plano anual atividades'!N67 -> 0 | K65: ='1. Plano anual atividades'!O67 -> 0 | L65: ='1. Plano anual atividades'!P67 -> 0 | ... N65: ='1. Plano anual atividades'!R67 -> 0 | Q65: =O65*P65 -> 0 | T65: =P65*R65 -> 0 | U65: =P65*S65 -> 0 | X65: =P65*V65 -> 0 | Y65: =P65*W65 -> 0 | AB65: ='1. Plano anual atividades'!E67 -> 0 | BE65: =IF($BB65="7 dias com os media", "■",0) -> 0 | BF65: =IF(BE65="■", $R65+$S65) -> FALSE | BG65: =IF($BB65="aLer mais e melhor", "■",0) -> 0 | BH65: =IF(BG65="■", $R65+$S65) -> FALSE | BI65: =IF($BB65="Campeonato de Escrita e Ciência Criativa", "■",0) -> 0 | BJ65: =IF(BI65="■", $R65+$S65) -> FALSE | BK65: =IF($BB65="Cientificamente provável", "■",0) -> 0 | BL65: =IF(BK65="■", $R65+$S65) -> FALSE | BM65: =IF($BB65="Clássicos em rede", "■",0) -> 0 | BN65: =IF(BM65="■", $R65+$S65) -> FALSE | BO65: =IF($BB65="Conto Contigo", "■",0) -> 0 | BP65: =IF(BO65="■", $R65+$S65) -> FALSE | BQ65: =IF($BB65="Dia da internet Mais Segura", "■",0) -> 0 | BR65: =IF(BQ65="■", $R65+$S65) -> FALSE | BS65: =IF($BB65="Dia Mundial da Língua Portuguesa", "■",0) -> 0 | BT65: =IF(BS65="■", $R65+$S65) -> FALSE | BU65: =IF($BB65="Isto também é comigo", "■",0) -> 0 | BV65: =IF(BU65="■", $R65+$S65) -> FALSE | BW65: =IF($BB65="Jornalistas em rede", "■",0) -> 0 | BX65: =IF(BW65="■", $R65+$S65) -> FALSE | BY65: =IF($BB65="Juntos a criar", "■",0) -> 0 | BZ65: =IF(BY65="■", $R65+$S65) -> FALSE | CA65: =IF($BB65="Ler eescrever mais com a BE", "■",0) -> 0 | CB65: =IF(CA65="■", $R65+$S65) -> FALSE | CC65: =IF($BB65="Ler fora da escola", "■",0) -> 0 | CD65: =IF(CC65="■", $R65+$S65) -> FALSE | CE65: =IF($BB65="Lidera", "■",0) -> 0 | CF65: =IF(CE65="■", $R65+$S65) -> FALSE | CG65: =IF($BB65="Media@ção", "■",0) -> 0 | CH65: =IF(CG65="■", $R65+$S65) -> FALSE | CI65: =IF($BB65="Mês Internacional da Biblioteca Escolar", "■",0) -> 0 | CJ65: =IF(CI65="■", $R65+$S65) -> FALSE | CK65: =IF($BB65="Miúdos a votos", "■",0) -> 0 | CL65: =IF(CK65="■", $R65+$S65) -> FALSE | CM65: =IF($BB65="Newton gostava de ler", "■",0) -> 0 | CN65: =IF(CM65="■", $R65+$S65) -> FALSE | CO65: =IF($BB65="Proliteracias", "■",0) -> 0 | CP65: =IF(CO65="■", $R65+$S65) -> FALSE | CQ65: =IF($BB65="PÚBLICO na Escola", "■",0) -> 0 | CR65: =IF(CQ65="■", $R65+$S65) -> FALSE | CS65: =IF($BB65="READ ON Portugal", "■",0) -> 0 | CT65: =IF(CS65="■", $R65+$S65) -> FALSE | CU65: =IF($BB65="Semana da leitura", "■",0) -> 0 | CV65: =IF(CU65="■", $R65+$S65) -> FALSE | CW65: =IF($BB65="Supercharged by IA", "■",0) -> 0 | CX65: =IF(CW65="■", $R65+$S65) -> FALSE | CY65: =IF($BB65="Todos Juntos Podemos Ler", "■",0) -> 0 | CZ65: =IF(CY65="■", $R65+$S65) -> FALSE | DA65: =IF($BB65="Voluntários de leitura", "■",0) -> 0 | DB65: =IF(DA65="■", $R65+$S65) -> FALSE | DC65: =IF($BB65="Outra(s)", "■",0) -> 0 | DD65: =IF(DC65="■", $R65+$S65) -> FALSE | DF65: =IF($BC65="Plano Nacional das Artes", "■",0) -> 0 | DG65: =IF(DF65="■", $R65+$S65) -> FALSE | DH65: =IF($BC65="Plano Nacional de Cinema", "■",0) -> 0 | DI65: =IF(DH65="■", $R65+$S65) -> FALSE | DJ65: =IF($BC65="Plano Nacional de Formação Financeira", "■",0) -> 0 | DK65: =IF(DJ65="■", $R65+$S65) -> FALSE | DL65: =IF($BC65="Outra(s)", "■",0) -> 0 | DM65: =IF(DL65="■", $R65+$S65) -> FALSE | DO65: =IF($BD65="Histórias com Ciência na Biblioteca Escolar", "■",0) -> 0 | DP65: =IF(DO65="■", $R65+$S65) -> FALSE | DQ65: =IF($BD65="Jornal escolar", "■",0) -> 0 | DR65: =IF(DQ65="■", $R65+$S65) -> FALSE | DS65: =IF($BD65="Rádio escolar", "■",0) -> 0 | DT65: =IF(DS65="■", $R65+$S65) -> FALSE | DU65: =IF($BD65="TV escolar", "■",0) -> 0 | DV65: =IF(DU65="■", $R65+$S65) -> FALSE | DW65: =IF($BD65="Outra(s)", "■",0) -> 0 | DX65: =IF(DW65="■", $R65+$S65) -> FALSE
B66: ='1. Plano anual atividades'!C68 -> 0 | D66: ='1. Plano anual atividades'!D68 -> 0 | E66: ='1. Plano anual atividades'!I68 -> 0 | F66: ='1. Plano anual atividades'!J68 -> 0 | G66: ='1. Plano anual atividades'!K68 -> 0 | H66: ='1. Plano anual atividades'!L68 -> 0 | I66: ='1. Plano anual atividades'!M68 -> 0 | J66: ='1. Plano anual atividades'!N68 -> 0 | K66: ='1. Plano anual atividades'!O68 -> 0 | L66: ='1. Plano anual atividades'!P68 -> 0 | ... N66: ='1. Plano anual atividades'!R68 -> 0 | Q66: =O66*P66 -> 0 | T66: =P66*R66 -> 0 | U66: =P66*S66 -> 0 | X66: =P66*V66 -> 0 | Y66: =P66*W66 -> 0 | AB66: ='1. Plano anual atividades'!E68 -> 0 | BE66: =IF($BB66="7 dias com os media", "■",0) -> 0 | BF66: =IF(BE66="■", $R66+$S66) -> FALSE | BG66: =IF($BB66="aLer mais e melhor", "■",0) -> 0 | BH66: =IF(BG66="■", $R66+$S66) -> FALSE | BI66: =IF($BB66="Campeonato de Escrita e Ciência Criativa", "■",0) -> 0 | BJ66: =IF(BI66="■", $R66+$S66) -> FALSE | BK66: =IF($BB66="Cientificamente provável", "■",0) -> 0 | BL66: =IF(BK66="■", $R66+$S66) -> FALSE | BM66: =IF($BB66="Clássicos em rede", "■",0) -> 0 | BN66: =IF(BM66="■", $R66+$S66) -> FALSE | BO66: =IF($BB66="Conto Contigo", "■",0) -> 0 | BP66: =IF(BO66="■", $R66+$S66) -> FALSE | BQ66: =IF($BB66="Dia da internet Mais Segura", "■",0) -> 0 | BR66: =IF(BQ66="■", $R66+$S66) -> FALSE | BS66: =IF($BB66="Dia Mundial da Língua Portuguesa", "■",0) -> 0 | BT66: =IF(BS66="■", $R66+$S66) -> FALSE | BU66: =IF($BB66="Isto também é comigo", "■",0) -> 0 | BV66: =IF(BU66="■", $R66+$S66) -> FALSE | BW66: =IF($BB66="Jornalistas em rede", "■",0) -> 0 | BX66: =IF(BW66="■", $R66+$S66) -> FALSE | BY66: =IF($BB66="Juntos a criar", "■",0) -> 0 | BZ66: =IF(BY66="■", $R66+$S66) -> FALSE | CA66: =IF($BB66="Ler eescrever mais com a BE", "■",0) -> 0 | CB66: =IF(CA66="■", $R66+$S66) -> FALSE | CC66: =IF($BB66="Ler fora da escola", "■",0) -> 0 | CD66: =IF(CC66="■", $R66+$S66) -> FALSE | CE66: =IF($BB66="Lidera", "■",0) -> 0 | CF66: =IF(CE66="■", $R66+$S66) -> FALSE | CG66: =IF($BB66="Media@ção", "■",0) -> 0 | CH66: =IF(CG66="■", $R66+$S66) -> FALSE | CI66: =IF($BB66="Mês Internacional da Biblioteca Escolar", "■",0) -> 0 | CJ66: =IF(CI66="■", $R66+$S66) -> FALSE | CK66: =IF($BB66="Miúdos a votos", "■",0) -> 0 | CL66: =IF(CK66="■", $R66+$S66) -> FALSE | CM66: =IF($BB66="Newton gostava de ler", "■",0) -> 0 | CN66: =IF(CM66="■", $R66+$S66) -> FALSE | CO66: =IF($BB66="Proliteracias", "■",0) -> 0 | CP66: =IF(CO66="■", $R66+$S66) -> FALSE | CQ66: =IF($BB66="PÚBLICO na Escola", "■",0) -> 0 | CR66: =IF(CQ66="■", $R66+$S66) -> FALSE | CS66: =IF($BB66="READ ON Portugal", "■",0) -> 0 | CT66: =IF(CS66="■", $R66+$S66) -> FALSE | CU66: =IF($BB66="Semana da leitura", "■",0) -> 0 | CV66: =IF(CU66="■", $R66+$S66) -> FALSE | CW66: =IF($BB66="Supercharged by IA", "■",0) -> 0 | CX66: =IF(CW66="■", $R66+$S66) -> FALSE | CY66: =IF($BB66="Todos Juntos Podemos Ler", "■",0) -> 0 | CZ66: =IF(CY66="■", $R66+$S66) -> FALSE | DA66: =IF($BB66="Voluntários de leitura", "■",0) -> 0 | DB66: =IF(DA66="■", $R66+$S66) -> FALSE | DC66: =IF($BB66="Outra(s)", "■",0) -> 0 | DD66: =IF(DC66="■", $R66+$S66) -> FALSE | DF66: =IF($BC66="Plano Nacional das Artes", "■",0) -> 0 | DG66: =IF(DF66="■", $R66+$S66) -> FALSE | DH66: =IF($BC66="Plano Nacional de Cinema", "■",0) -> 0 | DI66: =IF(DH66="■", $R66+$S66) -> FALSE | DJ66: =IF($BC66="Plano Nacional de Formação Financeira", "■",0) -> 0 | DK66: =IF(DJ66="■", $R66+$S66) -> FALSE | DL66: =IF($BC66="Outra(s)", "■",0) -> 0 | DM66: =IF(DL66="■", $R66+$S66) -> FALSE | DO66: =IF($BD66="Histórias com Ciência na Biblioteca Escolar", "■",0) -> 0 | DP66: =IF(DO66="■", $R66+$S66) -> FALSE | DQ66: =IF($BD66="Jornal escolar", "■",0) -> 0 | DR66: =IF(DQ66="■", $R66+$S66) -> FALSE | DS66: =IF($BD66="Rádio escolar", "■",0) -> 0 | DT66: =IF(DS66="■", $R66+$S66) -> FALSE | DU66: =IF($BD66="TV escolar", "■",0) -> 0 | DV66: =IF(DU66="■", $R66+$S66) -> FALSE | DW66: =IF($BD66="Outra(s)", "■",0) -> 0 | DX66: =IF(DW66="■", $R66+$S66) -> FALSE
B67: ='1. Plano anual atividades'!C69 -> 0 | D67: ='1. Plano anual atividades'!D69 -> 0 | E67: ='1. Plano anual atividades'!I69 -> 0 | F67: ='1. Plano anual atividades'!J69 -> 0 | G67: ='1. Plano anual atividades'!K69 -> 0 | H67: ='1. Plano anual atividades'!L69 -> 0 | I67: ='1. Plano anual atividades'!M69 -> 0 | J67: ='1. Plano anual atividades'!N69 -> 0 | K67: ='1. Plano anual atividades'!O69 -> 0 | L67: ='1. Plano anual atividades'!P69 -> 0 | ... N67: ='1. Plano anual atividades'!R69 -> 0 | Q67: =O67*P67 -> 0 | T67: =P67*R67 -> 0 | U67: =P67*S67 -> 0 | X67: =P67*V67 -> 0 | Y67: =P67*W67 -> 0 | AB67: ='1. Plano anual atividades'!E69 -> 0 | BE67: =IF($BB67="7 dias com os media", "■",0) -> 0 | BF67: =IF(BE67="■", $R67+$S67) -> FALSE | BG67: =IF($BB67="aLer mais e melhor", "■",0) -> 0 | BH67: =IF(BG67="■", $R67+$S67) -> FALSE | BI67: =IF($BB67="Campeonato de Escrita e Ciência Criativa", "■",0) -> 0 | BJ67: =IF(BI67="■", $R67+$S67) -> FALSE | BK67: =IF($BB67="Cientificamente provável", "■",0) -> 0 | BL67: =IF(BK67="■", $R67+$S67) -> FALSE | BM67: =IF($BB67="Clássicos em rede", "■",0) -> 0 | BN67: =IF(BM67="■", $R67+$S67) -> FALSE | BO67: =IF($BB67="Conto Contigo", "■",0) -> 0 | BP67: =IF(BO67="■", $R67+$S67) -> FALSE | BQ67: =IF($BB67="Dia da internet Mais Segura", "■",0) -> 0 | BR67: =IF(BQ67="■", $R67+$S67) -> FALSE | BS67: =IF($BB67="Dia Mundial da Língua Portuguesa", "■",0) -> 0 | BT67: =IF(BS67="■", $R67+$S67) -> FALSE | BU67: =IF($BB67="Isto também é comigo", "■",0) -> 0 | BV67: =IF(BU67="■", $R67+$S67) -> FALSE | BW67: =IF($BB67="Jornalistas em rede", "■",0) -> 0 | BX67: =IF(BW67="■", $R67+$S67) -> FALSE | BY67: =IF($BB67="Juntos a criar", "■",0) -> 0 | BZ67: =IF(BY67="■", $R67+$S67) -> FALSE | CA67: =IF($BB67="Ler eescrever mais com a BE", "■",0) -> 0 | CB67: =IF(CA67="■", $R67+$S67) -> FALSE | CC67: =IF($BB67="Ler fora da escola", "■",0) -> 0 | CD67: =IF(CC67="■", $R67+$S67) -> FALSE | CE67: =IF($BB67="Lidera", "■",0) -> 0 | CF67: =IF(CE67="■", $R67+$S67) -> FALSE | CG67: =IF($BB67="Media@ção", "■",0) -> 0 | CH67: =IF(CG67="■", $R67+$S67) -> FALSE | CI67: =IF($BB67="Mês Internacional da Biblioteca Escolar", "■",0) -> 0 | CJ67: =IF(CI67="■", $R67+$S67) -> FALSE | CK67: =IF($BB67="Miúdos a votos", "■",0) -> 0 | CL67: =IF(CK67="■", $R67+$S67) -> FALSE | CM67: =IF($BB67="Newton gostava de ler", "■",0) -> 0 | CN67: =IF(CM67="■", $R67+$S67) -> FALSE | CO67: =IF($BB67="Proliteracias", "■",0) -> 0 | CP67: =IF(CO67="■", $R67+$S67) -> FALSE | CQ67: =IF($BB67="PÚBLICO na Escola", "■",0) -> 0 | CR67: =IF(CQ67="■", $R67+$S67) -> FALSE | CS67: =IF($BB67="READ ON Portugal", "■",0) -> 0 | CT67: =IF(CS67="■", $R67+$S67) -> FALSE | CU67: =IF($BB67="Semana da leitura", "■",0) -> 0 | CV67: =IF(CU67="■", $R67+$S67) -> FALSE | CW67: =IF($BB67="Supercharged by IA", "■",0) -> 0 | CX67: =IF(CW67="■", $R67+$S67) -> FALSE | CY67: =IF($BB67="Todos Juntos Podemos Ler", "■",0) -> 0 | CZ67: =IF(CY67="■", $R67+$S67) -> FALSE | DA67: =IF($BB67="Voluntários de leitura", "■",0) -> 0 | DB67: =IF(DA67="■", $R67+$S67) -> FALSE | DC67: =IF($BB67="Outra(s)", "■",0) -> 0 | DD67: =IF(DC67="■", $R67+$S67) -> FALSE | DF67: =IF($BC67="Plano Nacional das Artes", "■",0) -> 0 | DG67: =IF(DF67="■", $R67+$S67) -> FALSE | DH67: =IF($BC67="Plano Nacional de Cinema", "■",0) -> 0 | DI67: =IF(DH67="■", $R67+$S67) -> FALSE | DJ67: =IF($BC67="Plano Nacional de Formação Financeira", "■",0) -> 0 | DK67: =IF(DJ67="■", $R67+$S67) -> FALSE | DL67: =IF($BC67="Outra(s)", "■",0) -> 0 | DM67: =IF(DL67="■", $R67+$S67) -> FALSE | DO67: =IF($BD67="Histórias com Ciência na Biblioteca Escolar", "■",0) -> 0 | DP67: =IF(DO67="■", $R67+$S67) -> FALSE | DQ67: =IF($BD67="Jornal escolar", "■",0) -> 0 | DR67: =IF(DQ67="■", $R67+$S67) -> FALSE | DS67: =IF($BD67="Rádio escolar", "■",0) -> 0 | DT67: =IF(DS67="■", $R67+$S67) -> FALSE | DU67: =IF($BD67="TV escolar", "■",0) -> 0 | DV67: =IF(DU67="■", $R67+$S67) -> FALSE | DW67: =IF($BD67="Outra(s)", "■",0) -> 0 | DX67: =IF(DW67="■", $R67+$S67) -> FALSE
B68: ='1. Plano anual atividades'!C70 -> 0 | D68: ='1. Plano anual atividades'!D70 -> 0 | E68: ='1. Plano anual atividades'!I70 -> 0 | F68: ='1. Plano anual atividades'!J70 -> 0 | G68: ='1. Plano anual atividades'!K70 -> 0 | H68: ='1. Plano anual atividades'!L70 -> 0 | I68: ='1. Plano anual atividades'!M70 -> 0 | J68: ='1. Plano anual atividades'!N70 -> 0 | K68: ='1. Plano anual atividades'!O70 -> 0 | L68: ='1. Plano anual atividades'!P70 -> 0 | ... N68: ='1. Plano anual atividades'!R70 -> 0 | Q68: =O68*P68 -> 0 | T68: =P68*R68 -> 0 | U68: =P68*S68 -> 0 | X68: =P68*V68 -> 0 | Y68: =P68*W68 -> 0 | AB68: ='1. Plano anual atividades'!E70 -> 0 | BE68: =IF($BB68="7 dias com os media", "■",0) -> 0 | BF68: =IF(BE68="■", $R68+$S68) -> FALSE | BG68: =IF($BB68="aLer mais e melhor", "■",0) -> 0 | BH68: =IF(BG68="■", $R68+$S68) -> FALSE | BI68: =IF($BB68="Campeonato de Escrita e Ciência Criativa", "■",0) -> 0 | BJ68: =IF(BI68="■", $R68+$S68) -> FALSE | BK68: =IF($BB68="Cientificamente provável", "■",0) -> 0 | BL68: =IF(BK68="■", $R68+$S68) -> FALSE | BM68: =IF($BB68="Clássicos em rede", "■",0) -> 0 | BN68: =IF(BM68="■", $R68+$S68) -> FALSE | BO68: =IF($BB68="Conto Contigo", "■",0) -> 0 | BP68: =IF(BO68="■", $R68+$S68) -> FALSE | BQ68: =IF($BB68="Dia da internet Mais Segura", "■",0) -> 0 | BR68: =IF(BQ68="■", $R68+$S68) -> FALSE | BS68: =IF($BB68="Dia Mundial da Língua Portuguesa", "■",0) -> 0 | BT68: =IF(BS68="■", $R68+$S68) -> FALSE | BU68: =IF($BB68="Isto também é comigo", "■",0) -> 0 | BV68: =IF(BU68="■", $R68+$S68) -> FALSE | BW68: =IF($BB68="Jornalistas em rede", "■",0) -> 0 | BX68: =IF(BW68="■", $R68+$S68) -> FALSE | BY68: =IF($BB68="Juntos a criar", "■",0) -> 0 | BZ68: =IF(BY68="■", $R68+$S68) -> FALSE | CA68: =IF($BB68="Ler eescrever mais com a BE", "■",0) -> 0 | CB68: =IF(CA68="■", $R68+$S68) -> FALSE | CC68: =IF($BB68="Ler fora da escola", "■",0) -> 0 | CD68: =IF(CC68="■", $R68+$S68) -> FALSE | CE68: =IF($BB68="Lidera", "■",0) -> 0 | CF68: =IF(CE68="■", $R68+$S68) -> FALSE | CG68: =IF($BB68="Media@ção", "■",0) -> 0 | CH68: =IF(CG68="■", $R68+$S68) -> FALSE | CI68: =IF($BB68="Mês Internacional da Biblioteca Escolar", "■",0) -> 0 | CJ68: =IF(CI68="■", $R68+$S68) -> FALSE | CK68: =IF($BB68="Miúdos a votos", "■",0) -> 0 | CL68: =IF(CK68="■", $R68+$S68) -> FALSE | CM68: =IF($BB68="Newton gostava de ler", "■",0) -> 0 | CN68: =IF(CM68="■", $R68+$S68) -> FALSE | CO68: =IF($BB68="Proliteracias", "■",0) -> 0 | CP68: =IF(CO68="■", $R68+$S68) -> FALSE | CQ68: =IF($BB68="PÚBLICO na Escola", "■",0) -> 0 | CR68: =IF(CQ68="■", $R68+$S68) -> FALSE | CS68: =IF($BB68="READ ON Portugal", "■",0) -> 0 | CT68: =IF(CS68="■", $R68+$S68) -> FALSE | CU68: =IF($BB68="Semana da leitura", "■",0) -> 0 | CV68: =IF(CU68="■", $R68+$S68) -> FALSE | CW68: =IF($BB68="Supercharged by IA", "■",0) -> 0 | CX68: =IF(CW68="■", $R68+$S68) -> FALSE | CY68: =IF($BB68="Todos Juntos Podemos Ler", "■",0) -> 0 | CZ68: =IF(CY68="■", $R68+$S68) -> FALSE | DA68: =IF($BB68="Voluntários de leitura", "■",0) -> 0 | DB68: =IF(DA68="■", $R68+$S68) -> FALSE | DC68: =IF($BB68="Outra(s)", "■",0) -> 0 | DD68: =IF(DC68="■", $R68+$S68) -> FALSE | DF68: =IF($BC68="Plano Nacional das Artes", "■",0) -> 0 | DG68: =IF(DF68="■", $R68+$S68) -> FALSE | DH68: =IF($BC68="Plano Nacional de Cinema", "■",0) -> 0 | DI68: =IF(DH68="■", $R68+$S68) -> FALSE | DJ68: =IF($BC68="Plano Nacional de Formação Financeira", "■",0) -> 0 | DK68: =IF(DJ68="■", $R68+$S68) -> FALSE | DL68: =IF($BC68="Outra(s)", "■",0) -> 0 | DM68: =IF(DL68="■", $R68+$S68) -> FALSE | DO68: =IF($BD68="Histórias com Ciência na Biblioteca Escolar", "■",0) -> 0 | DP68: =IF(DO68="■", $R68+$S68) -> FALSE | DQ68: =IF($BD68="Jornal escolar", "■",0) -> 0 | DR68: =IF(DQ68="■", $R68+$S68) -> FALSE | DS68: =IF($BD68="Rádio escolar", "■",0) -> 0 | DT68: =IF(DS68="■", $R68+$S68) -> FALSE | DU68: =IF($BD68="TV escolar", "■",0) -> 0 | DV68: =IF(DU68="■", $R68+$S68) -> FALSE | DW68: =IF($BD68="Outra(s)", "■",0) -> 0 | DX68: =IF(DW68="■", $R68+$S68) -> FALSE
B69: ='1. Plano anual atividades'!C71 -> 0 | D69: ='1. Plano anual atividades'!D71 -> 0 | E69: ='1. Plano anual atividades'!I71 -> 0 | F69: ='1. Plano anual atividades'!J71 -> 0 | G69: ='1. Plano anual atividades'!K71 -> 0 | H69: ='1. Plano anual atividades'!L71 -> 0 | I69: ='1. Plano anual atividades'!M71 -> 0 | J69: ='1. Plano anual atividades'!N71 -> 0 | K69: ='1. Plano anual atividades'!O71 -> 0 | L69: ='1. Plano anual atividades'!P71 -> 0 | ... N69: ='1. Plano anual atividades'!R71 -> 0 | Q69: =O69*P69 -> 0 | T69: =P69*R69 -> 0 | U69: =P69*S69 -> 0 | X69: =P69*V69 -> 0 | Y69: =P69*W69 -> 0 | AB69: ='1. Plano anual atividades'!E71 -> 0 | BE69: =IF($BB69="7 dias com os media", "■",0) -> 0 | BF69: =IF(BE69="■", $R69+$S69) -> FALSE | BG69: =IF($BB69="aLer mais e melhor", "■",0) -> 0 | BH69: =IF(BG69="■", $R69+$S69) -> FALSE | BI69: =IF($BB69="Campeonato de Escrita e Ciência Criativa", "■",0) -> 0 | BJ69: =IF(BI69="■", $R69+$S69) -> FALSE | BK69: =IF($BB69="Cientificamente provável", "■",0) -> 0 | BL69: =IF(BK69="■", $R69+$S69) -> FALSE | BM69: =IF($BB69="Clássicos em rede", "■",0) -> 0 | BN69: =IF(BM69="■", $R69+$S69) -> FALSE | BO69: =IF($BB69="Conto Contigo", "■",0) -> 0 | BP69: =IF(BO69="■", $R69+$S69) -> FALSE | BQ69: =IF($BB69="Dia da internet Mais Segura", "■",0) -> 0 | BR69: =IF(BQ69="■", $R69+$S69) -> FALSE | BS69: =IF($BB69="Dia Mundial da Língua Portuguesa", "■",0) -> 0 | BT69: =IF(BS69="■", $R69+$S69) -> FALSE | BU69: =IF($BB69="Isto também é comigo", "■",0) -> 0 | BV69: =IF(BU69="■", $R69+$S69) -> FALSE | BW69: =IF($BB69="Jornalistas em rede", "■",0) -> 0 | BX69: =IF(BW69="■", $R69+$S69) -> FALSE | BY69: =IF($BB69="Juntos a criar", "■",0) -> 0 | BZ69: =IF(BY69="■", $R69+$S69) -> FALSE | CA69: =IF($BB69="Ler eescrever mais com a BE", "■",0) -> 0 | CB69: =IF(CA69="■", $R69+$S69) -> FALSE | CC69: =IF($BB69="Ler fora da escola", "■",0) -> 0 | CD69: =IF(CC69="■", $R69+$S69) -> FALSE | CE69: =IF($BB69="Lidera", "■",0) -> 0 | CF69: =IF(CE69="■", $R69+$S69) -> FALSE | CG69: =IF($BB69="Media@ção", "■",0) -> 0 | CH69: =IF(CG69="■", $R69+$S69) -> FALSE | CI69: =IF($BB69="Mês Internacional da Biblioteca Escolar", "■",0) -> 0 | CJ69: =IF(CI69="■", $R69+$S69) -> FALSE | CK69: =IF($BB69="Miúdos a votos", "■",0) -> 0 | CL69: =IF(CK69="■", $R69+$S69) -> FALSE | CM69: =IF($BB69="Newton gostava de ler", "■",0) -> 0 | CN69: =IF(CM69="■", $R69+$S69) -> FALSE | CO69: =IF($BB69="Proliteracias", "■",0) -> 0 | CP69: =IF(CO69="■", $R69+$S69) -> FALSE | CQ69: =IF($BB69="PÚBLICO na Escola", "■",0) -> 0 | CR69: =IF(CQ69="■", $R69+$S69) -> FALSE | CS69: =IF($BB69="READ ON Portugal", "■",0) -> 0 | CT69: =IF(CS69="■", $R69+$S69) -> FALSE | CU69: =IF($BB69="Semana da leitura", "■",0) -> 0 | CV69: =IF(CU69="■", $R69+$S69) -> FALSE | CW69: =IF($BB69="Supercharged by IA", "■",0) -> 0 | CX69: =IF(CW69="■", $R69+$S69) -> FALSE | CY69: =IF($BB69="Todos Juntos Podemos Ler", "■",0) -> 0 | CZ69: =IF(CY69="■", $R69+$S69) -> FALSE | DA69: =IF($BB69="Voluntários de leitura", "■",0) -> 0 | DB69: =IF(DA69="■", $R69+$S69) -> FALSE | DC69: =IF($BB69="Outra(s)", "■",0) -> 0 | DD69: =IF(DC69="■", $R69+$S69) -> FALSE | DF69: =IF($BC69="Plano Nacional das Artes", "■",0) -> 0 | DG69: =IF(DF69="■", $R69+$S69) -> FALSE | DH69: =IF($BC69="Plano Nacional de Cinema", "■",0) -> 0 | DI69: =IF(DH69="■", $R69+$S69) -> FALSE | DJ69: =IF($BC69="Plano Nacional de Formação Financeira", "■",0) -> 0 | DK69: =IF(DJ69="■", $R69+$S69) -> FALSE | DL69: =IF($BC69="Outra(s)", "■",0) -> 0 | DM69: =IF(DL69="■", $R69+$S69) -> FALSE | DO69: =IF($BD69="Histórias com Ciência na Biblioteca Escolar", "■",0) -> 0 | DP69: =IF(DO69="■", $R69+$S69) -> FALSE | DQ69: =IF($BD69="Jornal escolar", "■",0) -> 0 | DR69: =IF(DQ69="■", $R69+$S69) -> FALSE | DS69: =IF($BD69="Rádio escolar", "■",0) -> 0 | DT69: =IF(DS69="■", $R69+$S69) -> FALSE | DU69: =IF($BD69="TV escolar", "■",0) -> 0 | DV69: =IF(DU69="■", $R69+$S69) -> FALSE | DW69: =IF($BD69="Outra(s)", "■",0) -> 0 | DX69: =IF(DW69="■", $R69+$S69) -> FALSE
B70: ='1. Plano anual atividades'!C72 -> 0 | D70: ='1. Plano anual atividades'!D72 -> 0 | E70: ='1. Plano anual atividades'!I72 -> 0 | F70: ='1. Plano anual atividades'!J72 -> 0 | G70: ='1. Plano anual atividades'!K72 -> 0 | H70: ='1. Plano anual atividades'!L72 -> 0 | I70: ='1. Plano anual atividades'!M72 -> 0 | J70: ='1. Plano anual atividades'!N72 -> 0 | K70: ='1. Plano anual atividades'!O72 -> 0 | L70: ='1. Plano anual atividades'!P72 -> 0 | ... N70: ='1. Plano anual atividades'!R72 -> 0 | Q70: =O70*P70 -> 0 | T70: =P70*R70 -> 0 | U70: =P70*S70 -> 0 | X70: =P70*V70 -> 0 | Y70: =P70*W70 -> 0 | AB70: ='1. Plano anual atividades'!E72 -> 0 | BE70: =IF($BB70="7 dias com os media", "■",0) -> 0 | BF70: =IF(BE70="■", $R70+$S70) -> FALSE | BG70: =IF($BB70="aLer mais e melhor", "■",0) -> 0 | BH70: =IF(BG70="■", $R70+$S70) -> FALSE | BI70: =IF($BB70="Campeonato de Escrita e Ciência Criativa", "■",0) -> 0 | BJ70: =IF(BI70="■", $R70+$S70) -> FALSE | BK70: =IF($BB70="Cientificamente provável", "■",0) -> 0 | BL70: =IF(BK70="■", $R70+$S70) -> FALSE | BM70: =IF($BB70="Clássicos em rede", "■",0) -> 0 | BN70: =IF(BM70="■", $R70+$S70) -> FALSE | BO70: =IF($BB70="Conto Contigo", "■",0) -> 0 | BP70: =IF(BO70="■", $R70+$S70) -> FALSE | BQ70: =IF($BB70="Dia da internet Mais Segura", "■",0) -> 0 | BR70: =IF(BQ70="■", $R70+$S70) -> FALSE | BS70: =IF($BB70="Dia Mundial da Língua Portuguesa", "■",0) -> 0 | BT70: =IF(BS70="■", $R70+$S70) -> FALSE | BU70: =IF($BB70="Isto também é comigo", "■",0) -> 0 | BV70: =IF(BU70="■", $R70+$S70) -> FALSE | BW70: =IF($BB70="Jornalistas em rede", "■",0) -> 0 | BX70: =IF(BW70="■", $R70+$S70) -> FALSE | BY70: =IF($BB70="Juntos a criar", "■",0) -> 0 | BZ70: =IF(BY70="■", $R70+$S70) -> FALSE | CA70: =IF($BB70="Ler eescrever mais com a BE", "■",0) -> 0 | CB70: =IF(CA70="■", $R70+$S70) -> FALSE | CC70: =IF($BB70="Ler fora da escola", "■",0) -> 0 | CD70: =IF(CC70="■", $R70+$S70) -> FALSE | CE70: =IF($BB70="Lidera", "■",0) -> 0 | CF70: =IF(CE70="■", $R70+$S70) -> FALSE | CG70: =IF($BB70="Media@ção", "■",0) -> 0 | CH70: =IF(CG70="■", $R70+$S70) -> FALSE | CI70: =IF($BB70="Mês Internacional da Biblioteca Escolar", "■",0) -> 0 | CJ70: =IF(CI70="■", $R70+$S70) -> FALSE | CK70: =IF($BB70="Miúdos a votos", "■",0) -> 0 | CL70: =IF(CK70="■", $R70+$S70) -> FALSE | CM70: =IF($BB70="Newton gostava de ler", "■",0) -> 0 | CN70: =IF(CM70="■", $R70+$S70) -> FALSE | CO70: =IF($BB70="Proliteracias", "■",0) -> 0 | CP70: =IF(CO70="■", $R70+$S70) -> FALSE | CQ70: =IF($BB70="PÚBLICO na Escola", "■",0) -> 0 | CR70: =IF(CQ70="■", $R70+$S70) -> FALSE | CS70: =IF($BB70="READ ON Portugal", "■",0) -> 0 | CT70: =IF(CS70="■", $R70+$S70) -> FALSE | CU70: =IF($BB70="Semana da leitura", "■",0) -> 0 | CV70: =IF(CU70="■", $R70+$S70) -> FALSE | CW70: =IF($BB70="Supercharged by IA", "■",0) -> 0 | CX70: =IF(CW70="■", $R70+$S70) -> FALSE | CY70: =IF($BB70="Todos Juntos Podemos Ler", "■",0) -> 0 | CZ70: =IF(CY70="■", $R70+$S70) -> FALSE | DA70: =IF($BB70="Voluntários de leitura", "■",0) -> 0 | DB70: =IF(DA70="■", $R70+$S70) -> FALSE | DC70: =IF($BB70="Outra(s)", "■",0) -> 0 | DD70: =IF(DC70="■", $R70+$S70) -> FALSE | DF70: =IF($BC70="Plano Nacional das Artes", "■",0) -> 0 | DG70: =IF(DF70="■", $R70+$S70) -> FALSE | DH70: =IF($BC70="Plano Nacional de Cinema", "■",0) -> 0 | DI70: =IF(DH70="■", $R70+$S70) -> FALSE | DJ70: =IF($BC70="Plano Nacional de Formação Financeira", "■",0) -> 0 | DK70: =IF(DJ70="■", $R70+$S70) -> FALSE | DL70: =IF($BC70="Outra(s)", "■",0) -> 0 | DM70: =IF(DL70="■", $R70+$S70) -> FALSE | DO70: =IF($BD70="Histórias com Ciência na Biblioteca Escolar", "■",0) -> 0 | DP70: =IF(DO70="■", $R70+$S70) -> FALSE | DQ70: =IF($BD70="Jornal escolar", "■",0) -> 0 | DR70: =IF(DQ70="■", $R70+$S70) -> FALSE | DS70: =IF($BD70="Rádio escolar", "■",0) -> 0 | DT70: =IF(DS70="■", $R70+$S70) -> FALSE | DU70: =IF($BD70="TV escolar", "■",0) -> 0 | DV70: =IF(DU70="■", $R70+$S70) -> FALSE | DW70: =IF($BD70="Outra(s)", "■",0) -> 0 | DX70: =IF(DW70="■", $R70+$S70) -> FALSE
B71: ='1. Plano anual atividades'!C73 -> 0 | D71: ='1. Plano anual atividades'!D73 -> 0 | E71: ='1. Plano anual atividades'!I73 -> 0 | F71: ='1. Plano anual atividades'!J73 -> 0 | G71: ='1. Plano anual atividades'!K73 -> 0 | H71: ='1. Plano anual atividades'!L73 -> 0 | I71: ='1. Plano anual atividades'!M73 -> 0 | J71: ='1. Plano anual atividades'!N73 -> 0 | K71: ='1. Plano anual atividades'!O73 -> 0 | L71: ='1. Plano anual atividades'!P73 -> 0 | ... N71: ='1. Plano anual atividades'!R73 -> 0 | Q71: =O71*P71 -> 0 | T71: =P71*R71 -> 0 | U71: =P71*S71 -> 0 | X71: =P71*V71 -> 0 | Y71: =P71*W71 -> 0 | AB71: ='1. Plano anual atividades'!E73 -> 0 | BE71: =IF($BB71="7 dias com os media", "■",0) -> 0 | BF71: =IF(BE71="■", $R71+$S71) -> FALSE | BG71: =IF($BB71="aLer mais e melhor", "■",0) -> 0 | BH71: =IF(BG71="■", $R71+$S71) -> FALSE | BI71: =IF($BB71="Campeonato de Escrita e Ciência Criativa", "■",0) -> 0 | BJ71: =IF(BI71="■", $R71+$S71) -> FALSE | BK71: =IF($BB71="Cientificamente provável", "■",0) -> 0 | BL71: =IF(BK71="■", $R71+$S71) -> FALSE | BM71: =IF($BB71="Clássicos em rede", "■",0) -> 0 | BN71: =IF(BM71="■", $R71+$S71) -> FALSE | BO71: =IF($BB71="Conto Contigo", "■",0) -> 0 | BP71: =IF(BO71="■", $R71+$S71) -> FALSE | BQ71: =IF($BB71="Dia da internet Mais Segura", "■",0) -> 0 | BR71: =IF(BQ71="■", $R71+$S71) -> FALSE | BS71: =IF($BB71="Dia Mundial da Língua Portuguesa", "■",0) -> 0 | BT71: =IF(BS71="■", $R71+$S71) -> FALSE | BU71: =IF($BB71="Isto também é comigo", "■",0) -> 0 | BV71: =IF(BU71="■", $R71+$S71) -> FALSE | BW71: =IF($BB71="Jornalistas em rede", "■",0) -> 0 | BX71: =IF(BW71="■", $R71+$S71) -> FALSE | BY71: =IF($BB71="Juntos a criar", "■",0) -> 0 | BZ71: =IF(BY71="■", $R71+$S71) -> FALSE | CA71: =IF($BB71="Ler eescrever mais com a BE", "■",0) -> 0 | CB71: =IF(CA71="■", $R71+$S71) -> FALSE | CC71: =IF($BB71="Ler fora da escola", "■",0) -> 0 | CD71: =IF(CC71="■", $R71+$S71) -> FALSE | CE71: =IF($BB71="Lidera", "■",0) -> 0 | CF71: =IF(CE71="■", $R71+$S71) -> FALSE | CG71: =IF($BB71="Media@ção", "■",0) -> 0 | CH71: =IF(CG71="■", $R71+$S71) -> FALSE | CI71: =IF($BB71="Mês Internacional da Biblioteca Escolar", "■",0) -> 0 | CJ71: =IF(CI71="■", $R71+$S71) -> FALSE | CK71: =IF($BB71="Miúdos a votos", "■",0) -> 0 | CL71: =IF(CK71="■", $R71+$S71) -> FALSE | CM71: =IF($BB71="Newton gostava de ler", "■",0) -> 0 | CN71: =IF(CM71="■", $R71+$S71) -> FALSE | CO71: =IF($BB71="Proliteracias", "■",0) -> 0 | CP71: =IF(CO71="■", $R71+$S71) -> FALSE | CQ71: =IF($BB71="PÚBLICO na Escola", "■",0) -> 0 | CR71: =IF(CQ71="■", $R71+$S71) -> FALSE | CS71: =IF($BB71="READ ON Portugal", "■",0) -> 0 | CT71: =IF(CS71="■", $R71+$S71) -> FALSE | CU71: =IF($BB71="Semana da leitura", "■",0) -> 0 | CV71: =IF(CU71="■", $R71+$S71) -> FALSE | CW71: =IF($BB71="Supercharged by IA", "■",0) -> 0 | CX71: =IF(CW71="■", $R71+$S71) -> FALSE | CY71: =IF($BB71="Todos Juntos Podemos Ler", "■",0) -> 0 | CZ71: =IF(CY71="■", $R71+$S71) -> FALSE | DA71: =IF($BB71="Voluntários de leitura", "■",0) -> 0 | DB71: =IF(DA71="■", $R71+$S71) -> FALSE | DC71: =IF($BB71="Outra(s)", "■",0) -> 0 | DD71: =IF(DC71="■", $R71+$S71) -> FALSE | DF71: =IF($BC71="Plano Nacional das Artes", "■",0) -> 0 | DG71: =IF(DF71="■", $R71+$S71) -> FALSE | DH71: =IF($BC71="Plano Nacional de Cinema", "■",0) -> 0 | DI71: =IF(DH71="■", $R71+$S71) -> FALSE | DJ71: =IF($BC71="Plano Nacional de Formação Financeira", "■",0) -> 0 | DK71: =IF(DJ71="■", $R71+$S71) -> FALSE | DL71: =IF($BC71="Outra(s)", "■",0) -> 0 | DM71: =IF(DL71="■", $R71+$S71) -> FALSE | DO71: =IF($BD71="Histórias com Ciência na Biblioteca Escolar", "■",0) -> 0 | DP71: =IF(DO71="■", $R71+$S71) -> FALSE | DQ71: =IF($BD71="Jornal escolar", "■",0) -> 0 | DR71: =IF(DQ71="■", $R71+$S71) -> FALSE | DS71: =IF($BD71="Rádio escolar", "■",0) -> 0 | DT71: =IF(DS71="■", $R71+$S71) -> FALSE | DU71: =IF($BD71="TV escolar", "■",0) -> 0 | DV71: =IF(DU71="■", $R71+$S71) -> FALSE | DW71: =IF($BD71="Outra(s)", "■",0) -> 0 | DX71: =IF(DW71="■", $R71+$S71) -> FALSE
B72: ='1. Plano anual atividades'!C74 -> 0 | D72: ='1. Plano anual atividades'!D74 -> 0 | E72: ='1. Plano anual atividades'!I74 -> 0 | F72: ='1. Plano anual atividades'!J74 -> 0 | G72: ='1. Plano anual atividades'!K74 -> 0 | H72: ='1. Plano anual atividades'!L74 -> 0 | I72: ='1. Plano anual atividades'!M74 -> 0 | J72: ='1. Plano anual atividades'!N74 -> 0 | K72: ='1. Plano anual atividades'!O74 -> 0 | L72: ='1. Plano anual atividades'!P74 -> 0 | ... N72: ='1. Plano anual atividades'!R74 -> 0 | Q72: =O72*P72 -> 0 | T72: =P72*R72 -> 0 | U72: =P72*S72 -> 0 | X72: =P72*V72 -> 0 | Y72: =P72*W72 -> 0 | AB72: ='1. Plano anual atividades'!E74 -> 0 | BE72: =IF($BB72="7 dias com os media", "■",0) -> 0 | BF72: =IF(BE72="■", $R72+$S72) -> FALSE | BG72: =IF($BB72="aLer mais e melhor", "■",0) -> 0 | BH72: =IF(BG72="■", $R72+$S72) -> FALSE | BI72: =IF($BB72="Campeonato de Escrita e Ciência Criativa", "■",0) -> 0 | BJ72: =IF(BI72="■", $R72+$S72) -> FALSE | BK72: =IF($BB72="Cientificamente provável", "■",0) -> 0 | BL72: =IF(BK72="■", $R72+$S72) -> FALSE | BM72: =IF($BB72="Clássicos em rede", "■",0) -> 0 | BN72: =IF(BM72="■", $R72+$S72) -> FALSE | BO72: =IF($BB72="Conto Contigo", "■",0) -> 0 | BP72: =IF(BO72="■", $R72+$S72) -> FALSE | BQ72: =IF($BB72="Dia da internet Mais Segura", "■",0) -> 0 | BR72: =IF(BQ72="■", $R72+$S72) -> FALSE | BS72: =IF($BB72="Dia Mundial da Língua Portuguesa", "■",0) -> 0 | BT72: =IF(BS72="■", $R72+$S72) -> FALSE | BU72: =IF($BB72="Isto também é comigo", "■",0) -> 0 | BV72: =IF(BU72="■", $R72+$S72) -> FALSE | BW72: =IF($BB72="Jornalistas em rede", "■",0) -> 0 | BX72: =IF(BW72="■", $R72+$S72) -> FALSE | BY72: =IF($BB72="Juntos a criar", "■",0) -> 0 | BZ72: =IF(BY72="■", $R72+$S72) -> FALSE | CA72: =IF($BB72="Ler eescrever mais com a BE", "■",0) -> 0 | CB72: =IF(CA72="■", $R72+$S72) -> FALSE | CC72: =IF($BB72="Ler fora da escola", "■",0) -> 0 | CD72: =IF(CC72="■", $R72+$S72) -> FALSE | CE72: =IF($BB72="Lidera", "■",0) -> 0 | CF72: =IF(CE72="■", $R72+$S72) -> FALSE | CG72: =IF($BB72="Media@ção", "■",0) -> 0 | CH72: =IF(CG72="■", $R72+$S72) -> FALSE | CI72: =IF($BB72="Mês Internacional da Biblioteca Escolar", "■",0) -> 0 | CJ72: =IF(CI72="■", $R72+$S72) -> FALSE | CK72: =IF($BB72="Miúdos a votos", "■",0) -> 0 | CL72: =IF(CK72="■", $R72+$S72) -> FALSE | CM72: =IF($BB72="Newton gostava de ler", "■",0) -> 0 | CN72: =IF(CM72="■", $R72+$S72) -> FALSE | CO72: =IF($BB72="Proliteracias", "■",0) -> 0 | CP72: =IF(CO72="■", $R72+$S72) -> FALSE | CQ72: =IF($BB72="PÚBLICO na Escola", "■",0) -> 0 | CR72: =IF(CQ72="■", $R72+$S72) -> FALSE | CS72: =IF($BB72="READ ON Portugal", "■",0) -> 0 | CT72: =IF(CS72="■", $R72+$S72) -> FALSE | CU72: =IF($BB72="Semana da leitura", "■",0) -> 0 | CV72: =IF(CU72="■", $R72+$S72) -> FALSE | CW72: =IF($BB72="Supercharged by IA", "■",0) -> 0 | CX72: =IF(CW72="■", $R72+$S72) -> FALSE | CY72: =IF($BB72="Todos Juntos Podemos Ler", "■",0) -> 0 | CZ72: =IF(CY72="■", $R72+$S72) -> FALSE | DA72: =IF($BB72="Voluntários de leitura", "■",0) -> 0 | DB72: =IF(DA72="■", $R72+$S72) -> FALSE | DC72: =IF($BB72="Outra(s)", "■",0) -> 0 | DD72: =IF(DC72="■", $R72+$S72) -> FALSE | DF72: =IF($BC72="Plano Nacional das Artes", "■",0) -> 0 | DG72: =IF(DF72="■", $R72+$S72) -> FALSE | DH72: =IF($BC72="Plano Nacional de Cinema", "■",0) -> 0 | DI72: =IF(DH72="■", $R72+$S72) -> FALSE | DJ72: =IF($BC72="Plano Nacional de Formação Financeira", "■",0) -> 0 | DK72: =IF(DJ72="■", $R72+$S72) -> FALSE | DL72: =IF($BC72="Outra(s)", "■",0) -> 0 | DM72: =IF(DL72="■", $R72+$S72) -> FALSE | DO72: =IF($BD72="Histórias com Ciência na Biblioteca Escolar", "■",0) -> 0 | DP72: =IF(DO72="■", $R72+$S72) -> FALSE | DQ72: =IF($BD72="Jornal escolar", "■",0) -> 0 | DR72: =IF(DQ72="■", $R72+$S72) -> FALSE | DS72: =IF($BD72="Rádio escolar", "■",0) -> 0 | DT72: =IF(DS72="■", $R72+$S72) -> FALSE | DU72: =IF($BD72="TV escolar", "■",0) -> 0 | DV72: =IF(DU72="■", $R72+$S72) -> FALSE | DW72: =IF($BD72="Outra(s)", "■",0) -> 0 | DX72: =IF(DW72="■", $R72+$S72) -> FALSE
B73: ='1. Plano anual atividades'!C75 -> 0 | D73: ='1. Plano anual atividades'!D75 -> 0 | E73: ='1. Plano anual atividades'!I75 -> 0 | F73: ='1. Plano anual atividades'!J75 -> 0 | G73: ='1. Plano anual atividades'!K75 -> 0 | H73: ='1. Plano anual atividades'!L75 -> 0 | I73: ='1. Plano anual atividades'!M75 -> 0 | J73: ='1. Plano anual atividades'!N75 -> 0 | K73: ='1. Plano anual atividades'!O75 -> 0 | L73: ='1. Plano anual atividades'!P75 -> 0 | ... N73: ='1. Plano anual atividades'!R75 -> 0 | Q73: =O73*P73 -> 0 | T73: =P73*R73 -> 0 | U73: =P73*S73 -> 0 | X73: =P73*V73 -> 0 | Y73: =P73*W73 -> 0 | AB73: ='1. Plano anual atividades'!E75 -> 0 | BE73: =IF($BB73="7 dias com os media", "■",0) -> 0 | BF73: =IF(BE73="■", $R73+$S73) -> FALSE | BG73: =IF($BB73="aLer mais e melhor", "■",0) -> 0 | BH73: =IF(BG73="■", $R73+$S73) -> FALSE | BI73: =IF($BB73="Campeonato de Escrita e Ciência Criativa", "■",0) -> 0 | BJ73: =IF(BI73="■", $R73+$S73) -> FALSE | BK73: =IF($BB73="Cientificamente provável", "■",0) -> 0 | BL73: =IF(BK73="■", $R73+$S73) -> FALSE | BM73: =IF($BB73="Clássicos em rede", "■",0) -> 0 | BN73: =IF(BM73="■", $R73+$S73) -> FALSE | BO73: =IF($BB73="Conto Contigo", "■",0) -> 0 | BP73: =IF(BO73="■", $R73+$S73) -> FALSE | BQ73: =IF($BB73="Dia da internet Mais Segura", "■",0) -> 0 | BR73: =IF(BQ73="■", $R73+$S73) -> FALSE | BS73: =IF($BB73="Dia Mundial da Língua Portuguesa", "■",0) -> 0 | BT73: =IF(BS73="■", $R73+$S73) -> FALSE | BU73: =IF($BB73="Isto também é comigo", "■",0) -> 0 | BV73: =IF(BU73="■", $R73+$S73) -> FALSE | BW73: =IF($BB73="Jornalistas em rede", "■",0) -> 0 | BX73: =IF(BW73="■", $R73+$S73) -> FALSE | BY73: =IF($BB73="Juntos a criar", "■",0) -> 0 | BZ73: =IF(BY73="■", $R73+$S73) -> FALSE | CA73: =IF($BB73="Ler eescrever mais com a BE", "■",0) -> 0 | CB73: =IF(CA73="■", $R73+$S73) -> FALSE | CC73: =IF($BB73="Ler fora da escola", "■",0) -> 0 | CD73: =IF(CC73="■", $R73+$S73) -> FALSE | CE73: =IF($BB73="Lidera", "■",0) -> 0 | CF73: =IF(CE73="■", $R73+$S73) -> FALSE | CG73: =IF($BB73="Media@ção", "■",0) -> 0 | CH73: =IF(CG73="■", $R73+$S73) -> FALSE | CI73: =IF($BB73="Mês Internacional da Biblioteca Escolar", "■",0) -> 0 | CJ73: =IF(CI73="■", $R73+$S73) -> FALSE | CK73: =IF($BB73="Miúdos a votos", "■",0) -> 0 | CL73: =IF(CK73="■", $R73+$S73) -> FALSE | CM73: =IF($BB73="Newton gostava de ler", "■",0) -> 0 | CN73: =IF(CM73="■", $R73+$S73) -> FALSE | CO73: =IF($BB73="Proliteracias", "■",0) -> 0 | CP73: =IF(CO73="■", $R73+$S73) -> FALSE | CQ73: =IF($BB73="PÚBLICO na Escola", "■",0) -> 0 | CR73: =IF(CQ73="■", $R73+$S73) -> FALSE | CS73: =IF($BB73="READ ON Portugal", "■",0) -> 0 | CT73: =IF(CS73="■", $R73+$S73) -> FALSE | CU73: =IF($BB73="Semana da leitura", "■",0) -> 0 | CV73: =IF(CU73="■", $R73+$S73) -> FALSE | CW73: =IF($BB73="Supercharged by IA", "■",0) -> 0 | CX73: =IF(CW73="■", $R73+$S73) -> FALSE | CY73: =IF($BB73="Todos Juntos Podemos Ler", "■",0) -> 0 | CZ73: =IF(CY73="■", $R73+$S73) -> FALSE | DA73: =IF($BB73="Voluntários de leitura", "■",0) -> 0 | DB73: =IF(DA73="■", $R73+$S73) -> FALSE | DC73: =IF($BB73="Outra(s)", "■",0) -> 0 | DD73: =IF(DC73="■", $R73+$S73) -> FALSE | DF73: =IF($BC73="Plano Nacional das Artes", "■",0) -> 0 | DG73: =IF(DF73="■", $R73+$S73) -> FALSE | DH73: =IF($BC73="Plano Nacional de Cinema", "■",0) -> 0 | DI73: =IF(DH73="■", $R73+$S73) -> FALSE | DJ73: =IF($BC73="Plano Nacional de Formação Financeira", "■",0) -> 0 | DK73: =IF(DJ73="■", $R73+$S73) -> FALSE | DL73: =IF($BC73="Outra(s)", "■",0) -> 0 | DM73: =IF(DL73="■", $R73+$S73) -> FALSE | DO73: =IF($BD73="Histórias com Ciência na Biblioteca Escolar", "■",0) -> 0 | DP73: =IF(DO73="■", $R73+$S73) -> FALSE | DQ73: =IF($BD73="Jornal escolar", "■",0) -> 0 | DR73: =IF(DQ73="■", $R73+$S73) -> FALSE | DS73: =IF($BD73="Rádio escolar", "■",0) -> 0 | DT73: =IF(DS73="■", $R73+$S73) -> FALSE | DU73: =IF($BD73="TV escolar", "■",0) -> 0 | DV73: =IF(DU73="■", $R73+$S73) -> FALSE | DW73: =IF($BD73="Outra(s)", "■",0) -> 0 | DX73: =IF(DW73="■", $R73+$S73) -> FALSE
... B81: ='1. Plano anual atividades'!C83 -> 0 | D81: ='1. Plano anual atividades'!D83 -> 0 | E81: ='1. Plano anual atividades'!I83 -> 0 | F81: ='1. Plano anual atividades'!J83 -> 0 | G81: ='1. Plano anual atividades'!K83 -> 0 | H81: ='1. Plano anual atividades'!L83 -> 0 | I81: ='1. Plano anual atividades'!M83 -> 0 | J81: ='1. Plano anual atividades'!N83 -> 0 | K81: ='1. Plano anual atividades'!O83 -> 0 | L81: ='1. Plano anual atividades'!P83 -> 0 | ... N81: ='1. Plano anual atividades'!R83 -> 0 | Q81: =O81*P81 -> 0 | T81: =P81*R81 -> 0 | U81: =P81*S81 -> 0 | X81: =P81*V81 -> 0 | Y81: =P81*W81 -> 0 | AB81: ='1. Plano anual atividades'!E83 -> 0 | BE81: =IF($BB81="7 dias com os media", "■",0) -> 0 | BF81: =IF(BE81="■", $R81+$S81) -> FALSE | BG81: =IF($BB81="aLer mais e melhor", "■",0) -> 0 | BH81: =IF(BG81="■", $R81+$S81) -> FALSE | BI81: =IF($BB81="Campeonato de Escrita e Ciência Criativa", "■",0) -> 0 | BJ81: =IF(BI81="■", $R81+$S81) -> FALSE | BK81: =IF($BB81="Cientificamente provável", "■",0) -> 0 | BL81: =IF(BK81="■", $R81+$S81) -> FALSE | BM81: =IF($BB81="Clássicos em rede", "■",0) -> 0 | BN81: =IF(BM81="■", $R81+$S81) -> FALSE | BO81: =IF($BB81="Conto Contigo", "■",0) -> 0 | BP81: =IF(BO81="■", $R81+$S81) -> FALSE | BQ81: =IF($BB81="Dia da internet Mais Segura", "■",0) -> 0 | BR81: =IF(BQ81="■", $R81+$S81) -> FALSE | BS81: =IF($BB81="Dia Mundial da Língua Portuguesa", "■",0) -> 0 | BT81: =IF(BS81="■", $R81+$S81) -> FALSE | BU81: =IF($BB81="Isto também é comigo", "■",0) -> 0 | BV81: =IF(BU81="■", $R81+$S81) -> FALSE | BW81: =IF($BB81="Jornalistas em rede", "■",0) -> 0 | BX81: =IF(BW81="■", $R81+$S81) -> FALSE | BY81: =IF($BB81="Juntos a criar", "■",0) -> 0 | BZ81: =IF(BY81="■", $R81+$S81) -> FALSE | CA81: =IF($BB81="Ler eescrever mais com a BE", "■",0) -> 0 | CB81: =IF(CA81="■", $R81+$S81) -> FALSE | CC81: =IF($BB81="Ler fora da escola", "■",0) -> 0 | CD81: =IF(CC81="■", $R81+$S81) -> FALSE | CE81: =IF($BB81="Lidera", "■",0) -> 0 | CF81: =IF(CE81="■", $R81+$S81) -> FALSE | CG81: =IF($BB81="Media@ção", "■",0) -> 0 | CH81: =IF(CG81="■", $R81+$S81) -> FALSE | CI81: =IF($BB81="Mês Internacional da Biblioteca Escolar", "■",0) -> 0 | CJ81: =IF(CI81="■", $R81+$S81) -> FALSE | CK81: =IF($BB81="Miúdos a votos", "■",0) -> 0 | CL81: =IF(CK81="■", $R81+$S81) -> FALSE | CM81: =IF($BB81="Newton gostava de ler", "■",0) -> 0 | CN81: =IF(CM81="■", $R81+$S81) -> FALSE | CO81: =IF($BB81="Proliteracias", "■",0) -> 0 | CP81: =IF(CO81="■", $R81+$S81) -> FALSE | CQ81: =IF($BB81="PÚBLICO na Escola", "■",0) -> 0 | CR81: =IF(CQ81="■", $R81+$S81) -> FALSE | CS81: =IF($BB81="READ ON Portugal", "■",0) -> 0 | CT81: =IF(CS81="■", $R81+$S81) -> FALSE | CU81: =IF($BB81="Semana da leitura", "■",0) -> 0 | CV81: =IF(CU81="■", $R81+$S81) -> FALSE | CW81: =IF($BB81="Supercharged by IA", "■",0) -> 0 | CX81: =IF(CW81="■", $R81+$S81) -> FALSE | CY81: =IF($BB81="Todos Juntos Podemos Ler", "■",0) -> 0 | CZ81: =IF(CY81="■", $R81+$S81) -> FALSE | DA81: =IF($BB81="Voluntários de leitura", "■",0) -> 0 | DB81: =IF(DA81="■", $R81+$S81) -> FALSE | DC81: =IF($BB81="Outra(s)", "■",0) -> 0 | DD81: =IF(DC81="■", $R81+$S81) -> FALSE | DF81: =IF($BC81="Plano Nacional das Artes", "■",0) -> 0 | DG81: =IF(DF81="■", $R81+$S81) -> FALSE | DH81: =IF($BC81="Plano Nacional de Cinema", "■",0) -> 0 | DI81: =IF(DH81="■", $R81+$S81) -> FALSE | DJ81: =IF($BC81="Plano Nacional de Formação Financeira", "■",0) -> 0 | DK81: =IF(DJ81="■", $R81+$S81) -> FALSE | DL81: =IF($BC81="Outra(s)", "■",0) -> 0 | DM81: =IF(DL81="■", $R81+$S81) -> FALSE | DO81: =IF($BD81="Histórias com Ciência na Biblioteca Escolar", "■",0) -> 0 | DP81: =IF(DO81="■", $R81+$S81) -> FALSE | DQ81: =IF($BD81="Jornal escolar", "■",0) -> 0 | DR81: =IF(DQ81="■", $R81+$S81) -> FALSE | DS81: =IF($BD81="Rádio escolar", "■",0) -> 0 | DT81: =IF(DS81="■", $R81+$S81) -> FALSE | DU81: =IF($BD81="TV escolar", "■",0) -> 0 | DV81: =IF(DU81="■", $R81+$S81) -> FALSE | DW81: =IF($BD81="Outra(s)", "■",0) -> 0 | DX81: =IF(DW81="■", $R81+$S81) -> FALSE
B83: ='1. Plano anual atividades'!C85 -> 0 | C83: =COUNTA(C62:C81) -> 0 | D83: =COUNTIF(D62:D81, "■") -> 0 | E83: =COUNTIF(E62:E81, "■") -> 0 | F83: =COUNTIF(F62:F81, "■") -> 0 | G83: =COUNTIF(G62:G81, "■") -> 0 | H83: =COUNTIF(H62:H81, "■") -> 0 | I83: =COUNTIF(I62:I81, "■") -> 0 | J83: =COUNTIF(J62:J81, "■") -> 0 | K83: =COUNTIF(K62:K81, "■") -> 0 | ... N83: =COUNTIF(N62:N81, "■") -> 0 | O83: =SUM(O62:O81) -> 0 | P83: =SUM(P62:P81) -> 0 | Q83: =SUM(Q62:Q81) -> 0 | R83: =SUM(R62:R81) -> 0 | S83: =SUM(S62:S81) -> 0 | T83: =SUM(T62:T81) -> 0 | U83: =SUM(U62:U81) -> 0 | V83: =SUM(V62:V81) -> 0 | ... AA83: =SUM(AA62:AA81) -> 0 | AB83: =COUNTIF(AB62:AB81, "■") -> 0 | AC83: =COUNTIF(AC62:AC81, "■") -> 0 | AD83: =COUNTIF(AD62:AD81, "■") -> 0 | AE83: =COUNTIF(AE62:AE81, "■") -> 0 | AF83: =COUNTIF(AF62:AF81, "■") -> 0 | AG83: =COUNTIF(AG62:AG81, "■") -> 0 | AH83: =COUNTIF(AH62:AH81, "■") -> 0 | AI83: =COUNTIF(AI62:AI81, "■") -> 0 | ... AL83: =COUNTIF(AL62:AL81, "■") -> 0 | AM83: =SUM(AM62:AM81) -> 0 | AN83: =SUM(AN62:AN81) -> 0 | AO83: =SUM(AO62:AO81) -> 0 | AP83: =SUM(AP62:AP81) -> 0 | AQ83: =SUM(AQ62:AQ81) -> 0 | AR83: =SUM(AR62:AR81) -> 0 | AS83: =SUM(AS62:AS81) -> 0 | AT83: =SUM(AT62:AT81) -> 0 | ... AV83: =SUM(AV62:AV81) -> 0 | BF83: =SUM(BF62:BF81) -> 0 | BH83: =SUM(BH62:BH81) -> 0 | BJ83: =SUM(BJ62:BJ81) -> 0 | BL83: =SUM(BL62:BL81) -> 0 | BN83: =SUM(BN62:BN81) -> 0 | BP83: =SUM(BP62:BP81) -> 0 | BR83: =SUM(BR62:BR81) -> 0 | BT83: =SUM(BT62:BT81) -> 0 | BV83: =SUM(BV62:BV81) -> 0 | BX83: =SUM(BX62:BX81) -> 0 | BZ83: =SUM(BZ62:BZ81) -> 0 | CB83: =SUM(CB62:CB81) -> 0 | CD83: =SUM(CD62:CD81) -> 0 | CF83: =SUM(CF62:CF81) -> 0 | CH83: =SUM(CH62:CH81) -> 0 | CJ83: =SUM(CJ62:CJ81) -> 0 | CL83: =SUM(CL62:CL81) -> 0 | CN83: =SUM(CN62:CN81) -> 0 | CP83: =SUM(CP62:CP81) -> 0 | CR83: =SUM(CR62:CR81) -> 0 | CT83: =SUM(CT62:CT81) -> 0 | CV83: =SUM(CV62:CV81) -> 0 | CX83: =SUM(CX62:CX81) -> 0 | CZ83: =SUM(CZ62:CZ81) -> 0 | DB83: =SUM(DB62:DB81) -> 0 | DD83: =SUM(DD62:DD81) -> 0 | DG83: =SUM(DG62:DG81) -> 0 | DI83: =SUM(DI62:DI81) -> 0 | DK83: =SUM(DK62:DK81) -> 0 | DM83: =SUM(DM62:DM81) -> 0 | DP83: =SUM(DP62:DP81) -> 0 | DR83: =SUM(DR62:DR81) -> 0 | DT83: =SUM(DT62:DT81) -> 0 | DV83: =SUM(DV62:DV81) -> 0 | DX83: =SUM(DX62:DX81) -> 0
B86: Domínio D - Gestão da biblioteca escolar
E87: Projeto Educativo | O87: N.º total | Q87: N.º de participações | R87: N.º de alunos envolvidos | T87: N.º participações | U87: N.º participações | V87: N.º de docentes envolvidos | X87: N.º participações | Y87: N.º participações | AC87: Área de literacia | AF87: Área curricular e extracurricular | AM87: Alunos envolvidos | AR87: Docentes envolvidos | AW87: Nível de impacto | BA87: Projetos | BB87: Propostas RBE | BC87: Propostas de outras instituiões nacionais ou internacionais | BD87: Propostas locais ou regionais
B88: Atividades planificadas | C88: Executada | D88: PM | E88: 1 | F88: 2 | G88: 3 | H88: 4 | I88: 5 | J88: 6 | K88: 7 | L88: 8 | M88: 9 | N88: 10 | O88: Turmas | P88: Aulas/ sessões | Q88: Turmas | R88: Individual | S88: Em turma | T88: Individual | U88: Em turma | V88: Individual | W88: Com turma | X88: Individual | Y88: Com turma | Z88: N.º de Pais e EE envolvidos | AA88: N.º de outros envolvidos | AB88: AcBE | AC88: L | AD88: I | AE88: M | AF88: L | AG88: CSH | AH88: MCE | AI88: ET | AJ88: ACT | AK88: ALF | AL88: Outras | AM88: Pré-Escolar | AN88: 1.º CEB | AO88: 2.º CEB | AP88: 3.º CEB | AQ88: Ensino Secundário | AR88: Pré-Escolar | AS88: 1.º CEB | AT88: 2.º CEB | AU88: 3.º CEB | AV88: Ensino Secundário | AW88: CC | AX88: AV | AY88: AS | AZ88: SCP | BE88: 7D | BF88: N.º alunos | BG88: aler+ | BH88: N.º alunos | BI88: ECC | BJ88: N.º alunos | BK88: CP | BL88: N.º alunos | BM88: CR | BN88: N.º alunos | BO88: CC | BP88: N.º alunos | BQ88: DIS | BR88: N.º alunos | BS88: DMLP | BT88: N.º alunos | BU88: ITEC | BV88: N.º alunos | BW88: JR | BX88: N.º alunos | BY88: JC | BZ88: N.º alunos | CA88: LECBE | CB88: N.º alunos | CC88: LFE | CD88: N.º alunos | CE88: L | CF88: N.º alunos | CG88: M | CH88: N.º alunos | CI88: MIBE | CJ88: N.º alunos | CK88: MV | CL88: N.º alunos | CM88: NGL | CN88: N.º alunos | CO88: P | CP88: N.º alunos | CQ88: PE | CR88: N.º alunos | CS88: RO | CT88: N.º alunos | CU88: SL | CV88: N.º alunos | CW88: SAI | CX88: N.º alunos | CY88: TJPL | CZ88: N.º alunos | DA88: VL | DB88: N.º alunos | DC88: O | DD88: N.º alunos | DF88: PNA | DG88: N.º alunos | DH88: PNC | DI88: N.º alunos | DJ88: PNFF | DK88: N.º alunos | DL88: O | DM88: N.º alunos | DO88: HCBE | DP88: N.º alunos | DQ88: JE | DR88: N.º alunos | DS88: RE | DT88: N.º alunos | DU88: TVE | DV88: N.º alunos | DW88: O | DX88: N.º alunos
B89: ='1. Plano anual atividades'!C91 -> 0 | D89: ='1. Plano anual atividades'!D91 -> 0 | E89: ='1. Plano anual atividades'!I91 -> 0 | F89: ='1. Plano anual atividades'!J91 -> 0 | G89: ='1. Plano anual atividades'!K91 -> 0 | H89: ='1. Plano anual atividades'!L91 -> 0 | I89: ='1. Plano anual atividades'!M91 -> 0 | J89: ='1. Plano anual atividades'!N91 -> 0 | K89: ='1. Plano anual atividades'!O91 -> 0 | L89: ='1. Plano anual atividades'!P91 -> 0 | ... N89: ='1. Plano anual atividades'!R91 -> 0 | Q89: =O89*P89 -> 0 | T89: =P89*R89 -> 0 | U89: =P89*S89 -> 0 | X89: =P89*V89 -> 0 | Y89: =P89*W89 -> 0 | AB89: ='1. Plano anual atividades'!E91 -> 0 | BE89: =IF($BB89="7 dias com os media", "■",0) -> 0 | BF89: =IF(BE89="■", $R89+$S89) -> FALSE | BG89: =IF($BB89="aLer mais e melhor", "■",0) -> 0 | BH89: =IF(BG89="■", $R89+$S89) -> FALSE | BI89: =IF($BB89="Campeonato de Escrita e Ciência Criativa", "■",0) -> 0 | BJ89: =IF(BI89="■", $R89+$S89) -> FALSE | BK89: =IF($BB89="Cientificamente provável", "■",0) -> 0 | BL89: =IF(BK89="■", $R89+$S89) -> FALSE | BM89: =IF($BB89="Clássicos em rede", "■",0) -> 0 | BN89: =IF(BM89="■", $R89+$S89) -> FALSE | BO89: =IF($BB89="Conto Contigo", "■",0) -> 0 | BP89: =IF(BO89="■", $R89+$S89) -> FALSE | BQ89: =IF($BB89="Dia da internet Mais Segura", "■",0) -> 0 | BR89: =IF(BQ89="■", $R89+$S89) -> FALSE | BS89: =IF($BB89="Dia Mundial da Língua Portuguesa", "■",0) -> 0 | BT89: =IF(BS89="■", $R89+$S89) -> FALSE | BU89: =IF($BB89="Isto também é comigo", "■",0) -> 0 | BV89: =IF(BU89="■", $R89+$S89) -> FALSE | BW89: =IF($BB89="Jornalistas em rede", "■",0) -> 0 | BX89: =IF(BW89="■", $R89+$S89) -> FALSE | BY89: =IF($BB89="Juntos a criar", "■",0) -> 0 | BZ89: =IF(BY89="■", $R89+$S89) -> FALSE | CA89: =IF($BB89="Ler eescrever mais com a BE", "■",0) -> 0 | CB89: =IF(CA89="■", $R89+$S89) -> FALSE | CC89: =IF($BB89="Ler fora da escola", "■",0) -> 0 | CD89: =IF(CC89="■", $R89+$S89) -> FALSE | CE89: =IF($BB89="Lidera", "■",0) -> 0 | CF89: =IF(CE89="■", $R89+$S89) -> FALSE | CG89: =IF($BB89="Media@ção", "■",0) -> 0 | CH89: =IF(CG89="■", $R89+$S89) -> FALSE | CI89: =IF($BB89="Mês Internacional da Biblioteca Escolar", "■",0) -> 0 | CJ89: =IF(CI89="■", $R89+$S89) -> FALSE | CK89: =IF($BB89="Miúdos a votos", "■",0) -> 0 | CL89: =IF(CK89="■", $R89+$S89) -> FALSE | CM89: =IF($BB89="Newton gostava de ler", "■",0) -> 0 | CN89: =IF(CM89="■", $R89+$S89) -> FALSE | CO89: =IF($BB89="Proliteracias", "■",0) -> 0 | CP89: =IF(CO89="■", $R89+$S89) -> FALSE | CQ89: =IF($BB89="PÚBLICO na Escola", "■",0) -> 0 | CR89: =IF(CQ89="■", $R89+$S89) -> FALSE | CS89: =IF($BB89="READ ON Portugal", "■",0) -> 0 | CT89: =IF(CS89="■", $R89+$S89) -> FALSE | CU89: =IF($BB89="Semana da leitura", "■",0) -> 0 | CV89: =IF(CU89="■", $R89+$S89) -> FALSE | CW89: =IF($BB89="Supercharged by IA", "■",0) -> 0 | CX89: =IF(CW89="■", $R89+$S89) -> FALSE | CY89: =IF($BB89="Todos Juntos Podemos Ler", "■",0) -> 0 | CZ89: =IF(CY89="■", $R89+$S89) -> FALSE | DA89: =IF($BB89="Voluntários de leitura", "■",0) -> 0 | DB89: =IF(DA89="■", $R89+$S89) -> FALSE | DC89: =IF($BB89="Outra(s)", "■",0) -> 0 | DD89: =IF(DC89="■", $R89+$S89) -> FALSE | DF89: =IF($BC89="Plano Nacional das Artes", "■",0) -> 0 | DG89: =IF(DF89="■", $R89+$S89) -> FALSE | DH89: =IF($BC89="Plano Nacional de Cinema", "■",0) -> 0 | DI89: =IF(DH89="■", $R89+$S89) -> FALSE | DJ89: =IF($BC89="Plano Nacional de Formação Financeira", "■",0) -> 0 | DK89: =IF(DJ89="■", $R89+$S89) -> FALSE | DL89: =IF($BC89="Outra(s)", "■",0) -> 0 | DM89: =IF(DL89="■", $R89+$S89) -> FALSE | DO89: =IF($BD89="Histórias com Ciência na Biblioteca Escolar", "■",0) -> 0 | DP89: =IF(DO89="■", $R89+$S89) -> FALSE | DQ89: =IF($BD89="Jornal escolar", "■",0) -> 0 | DR89: =IF(DQ89="■", $R89+$S89) -> FALSE | DS89: =IF($BD89="Rádio escolar", "■",0) -> 0 | DT89: =IF(DS89="■", $R89+$S89) -> FALSE | DU89: =IF($BD89="TV escolar", "■",0) -> 0 | DV89: =IF(DU89="■", $R89+$S89) -> FALSE | DW89: =IF($BD89="Outra(s)", "■",0) -> 0 | DX89: =IF(DW89="■", $R89+$S89) -> FALSE
B90: ='1. Plano anual atividades'!C92 -> 0 | D90: ='1. Plano anual atividades'!D92 -> 0 | E90: ='1. Plano anual atividades'!I92 -> 0 | F90: ='1. Plano anual atividades'!J92 -> 0 | G90: ='1. Plano anual atividades'!K92 -> 0 | H90: ='1. Plano anual atividades'!L92 -> 0 | I90: ='1. Plano anual atividades'!M92 -> 0 | J90: ='1. Plano anual atividades'!N92 -> 0 | K90: ='1. Plano anual atividades'!O92 -> 0 | L90: ='1. Plano anual atividades'!P92 -> 0 | ... N90: ='1. Plano anual atividades'!R92 -> 0 | Q90: =O90*P90 -> 0 | T90: =P90*R90 -> 0 | U90: =P90*S90 -> 0 | X90: =P90*V90 -> 0 | Y90: =P90*W90 -> 0 | AB90: ='1. Plano anual atividades'!E92 -> 0 | BE90: =IF($BB90="7 dias com os media", "■",0) -> 0 | BF90: =IF(BE90="■", $R90+$S90) -> FALSE | BG90: =IF($BB90="aLer mais e melhor", "■",0) -> 0 | BH90: =IF(BG90="■", $R90+$S90) -> FALSE | BI90: =IF($BB90="Campeonato de Escrita e Ciência Criativa", "■",0) -> 0 | BJ90: =IF(BI90="■", $R90+$S90) -> FALSE | BK90: =IF($BB90="Cientificamente provável", "■",0) -> 0 | BL90: =IF(BK90="■", $R90+$S90) -> FALSE | BM90: =IF($BB90="Clássicos em rede", "■",0) -> 0 | BN90: =IF(BM90="■", $R90+$S90) -> FALSE | BO90: =IF($BB90="Conto Contigo", "■",0) -> 0 | BP90: =IF(BO90="■", $R90+$S90) -> FALSE | BQ90: =IF($BB90="Dia da internet Mais Segura", "■",0) -> 0 | BR90: =IF(BQ90="■", $R90+$S90) -> FALSE | BS90: =IF($BB90="Dia Mundial da Língua Portuguesa", "■",0) -> 0 | BT90: =IF(BS90="■", $R90+$S90) -> FALSE | BU90: =IF($BB90="Isto também é comigo", "■",0) -> 0 | BV90: =IF(BU90="■", $R90+$S90) -> FALSE | BW90: =IF($BB90="Jornalistas em rede", "■",0) -> 0 | BX90: =IF(BW90="■", $R90+$S90) -> FALSE | BY90: =IF($BB90="Juntos a criar", "■",0) -> 0 | BZ90: =IF(BY90="■", $R90+$S90) -> FALSE | CA90: =IF($BB90="Ler eescrever mais com a BE", "■",0) -> 0 | CB90: =IF(CA90="■", $R90+$S90) -> FALSE | CC90: =IF($BB90="Ler fora da escola", "■",0) -> 0 | CD90: =IF(CC90="■", $R90+$S90) -> FALSE | CE90: =IF($BB90="Lidera", "■",0) -> 0 | CF90: =IF(CE90="■", $R90+$S90) -> FALSE | CG90: =IF($BB90="Media@ção", "■",0) -> 0 | CH90: =IF(CG90="■", $R90+$S90) -> FALSE | CI90: =IF($BB90="Mês Internacional da Biblioteca Escolar", "■",0) -> 0 | CJ90: =IF(CI90="■", $R90+$S90) -> FALSE | CK90: =IF($BB90="Miúdos a votos", "■",0) -> 0 | CL90: =IF(CK90="■", $R90+$S90) -> FALSE | CM90: =IF($BB90="Newton gostava de ler", "■",0) -> 0 | CN90: =IF(CM90="■", $R90+$S90) -> FALSE | CO90: =IF($BB90="Proliteracias", "■",0) -> 0 | CP90: =IF(CO90="■", $R90+$S90) -> FALSE | CQ90: =IF($BB90="PÚBLICO na Escola", "■",0) -> 0 | CR90: =IF(CQ90="■", $R90+$S90) -> FALSE | CS90: =IF($BB90="READ ON Portugal", "■",0) -> 0 | CT90: =IF(CS90="■", $R90+$S90) -> FALSE | CU90: =IF($BB90="Semana da leitura", "■",0) -> 0 | CV90: =IF(CU90="■", $R90+$S90) -> FALSE | CW90: =IF($BB90="Supercharged by IA", "■",0) -> 0 | CX90: =IF(CW90="■", $R90+$S90) -> FALSE | CY90: =IF($BB90="Todos Juntos Podemos Ler", "■",0) -> 0 | CZ90: =IF(CY90="■", $R90+$S90) -> FALSE | DA90: =IF($BB90="Voluntários de leitura", "■",0) -> 0 | DB90: =IF(DA90="■", $R90+$S90) -> FALSE | DC90: =IF($BB90="Outra(s)", "■",0) -> 0 | DD90: =IF(DC90="■", $R90+$S90) -> FALSE | DF90: =IF($BC90="Plano Nacional das Artes", "■",0) -> 0 | DG90: =IF(DF90="■", $R90+$S90) -> FALSE | DH90: =IF($BC90="Plano Nacional de Cinema", "■",0) -> 0 | DI90: =IF(DH90="■", $R90+$S90) -> FALSE | DJ90: =IF($BC90="Plano Nacional de Formação Financeira", "■",0) -> 0 | DK90: =IF(DJ90="■", $R90+$S90) -> FALSE | DL90: =IF($BC90="Outra(s)", "■",0) -> 0 | DM90: =IF(DL90="■", $R90+$S90) -> FALSE | DO90: =IF($BD90="Histórias com Ciência na Biblioteca Escolar", "■",0) -> 0 | DP90: =IF(DO90="■", $R90+$S90) -> FALSE | DQ90: =IF($BD90="Jornal escolar", "■",0) -> 0 | DR90: =IF(DQ90="■", $R90+$S90) -> FALSE | DS90: =IF($BD90="Rádio escolar", "■",0) -> 0 | DT90: =IF(DS90="■", $R90+$S90) -> FALSE | DU90: =IF($BD90="TV escolar", "■",0) -> 0 | DV90: =IF(DU90="■", $R90+$S90) -> FALSE | DW90: =IF($BD90="Outra(s)", "■",0) -> 0 | DX90: =IF(DW90="■", $R90+$S90) -> FALSE
B91: ='1. Plano anual atividades'!C93 -> 0 | D91: ='1. Plano anual atividades'!D93 -> 0 | E91: ='1. Plano anual atividades'!I93 -> 0 | F91: ='1. Plano anual atividades'!J93 -> 0 | G91: ='1. Plano anual atividades'!K93 -> 0 | H91: ='1. Plano anual atividades'!L93 -> 0 | I91: ='1. Plano anual atividades'!M93 -> 0 | J91: ='1. Plano anual atividades'!N93 -> 0 | K91: ='1. Plano anual atividades'!O93 -> 0 | L91: ='1. Plano anual atividades'!P93 -> 0 | ... N91: ='1. Plano anual atividades'!R93 -> 0 | Q91: =O91*P91 -> 0 | T91: =P91*R91 -> 0 | U91: =P91*S91 -> 0 | X91: =P91*V91 -> 0 | Y91: =P91*W91 -> 0 | AB91: ='1. Plano anual atividades'!E93 -> 0 | BE91: =IF($BB91="7 dias com os media", "■",0) -> 0 | BF91: =IF(BE91="■", $R91+$S91) -> FALSE | BG91: =IF($BB91="aLer mais e melhor", "■",0) -> 0 | BH91: =IF(BG91="■", $R91+$S91) -> FALSE | BI91: =IF($BB91="Campeonato de Escrita e Ciência Criativa", "■",0) -> 0 | BJ91: =IF(BI91="■", $R91+$S91) -> FALSE | BK91: =IF($BB91="Cientificamente provável", "■",0) -> 0 | BL91: =IF(BK91="■", $R91+$S91) -> FALSE | BM91: =IF($BB91="Clássicos em rede", "■",0) -> 0 | BN91: =IF(BM91="■", $R91+$S91) -> FALSE | BO91: =IF($BB91="Conto Contigo", "■",0) -> 0 | BP91: =IF(BO91="■", $R91+$S91) -> FALSE | BQ91: =IF($BB91="Dia da internet Mais Segura", "■",0) -> 0 | BR91: =IF(BQ91="■", $R91+$S91) -> FALSE | BS91: =IF($BB91="Dia Mundial da Língua Portuguesa", "■",0) -> 0 | BT91: =IF(BS91="■", $R91+$S91) -> FALSE | BU91: =IF($BB91="Isto também é comigo", "■",0) -> 0 | BV91: =IF(BU91="■", $R91+$S91) -> FALSE | BW91: =IF($BB91="Jornalistas em rede", "■",0) -> 0 | BX91: =IF(BW91="■", $R91+$S91) -> FALSE | BY91: =IF($BB91="Juntos a criar", "■",0) -> 0 | BZ91: =IF(BY91="■", $R91+$S91) -> FALSE | CA91: =IF($BB91="Ler eescrever mais com a BE", "■",0) -> 0 | CB91: =IF(CA91="■", $R91+$S91) -> FALSE | CC91: =IF($BB91="Ler fora da escola", "■",0) -> 0 | CD91: =IF(CC91="■", $R91+$S91) -> FALSE | CE91: =IF($BB91="Lidera", "■",0) -> 0 | CF91: =IF(CE91="■", $R91+$S91) -> FALSE | CG91: =IF($BB91="Media@ção", "■",0) -> 0 | CH91: =IF(CG91="■", $R91+$S91) -> FALSE | CI91: =IF($BB91="Mês Internacional da Biblioteca Escolar", "■",0) -> 0 | CJ91: =IF(CI91="■", $R91+$S91) -> FALSE | CK91: =IF($BB91="Miúdos a votos", "■",0) -> 0 | CL91: =IF(CK91="■", $R91+$S91) -> FALSE | CM91: =IF($BB91="Newton gostava de ler", "■",0) -> 0 | CN91: =IF(CM91="■", $R91+$S91) -> FALSE | CO91: =IF($BB91="Proliteracias", "■",0) -> 0 | CP91: =IF(CO91="■", $R91+$S91) -> FALSE | CQ91: =IF($BB91="PÚBLICO na Escola", "■",0) -> 0 | CR91: =IF(CQ91="■", $R91+$S91) -> FALSE | CS91: =IF($BB91="READ ON Portugal", "■",0) -> 0 | CT91: =IF(CS91="■", $R91+$S91) -> FALSE | CU91: =IF($BB91="Semana da leitura", "■",0) -> 0 | CV91: =IF(CU91="■", $R91+$S91) -> FALSE | CW91: =IF($BB91="Supercharged by IA", "■",0) -> 0 | CX91: =IF(CW91="■", $R91+$S91) -> FALSE | CY91: =IF($BB91="Todos Juntos Podemos Ler", "■",0) -> 0 | CZ91: =IF(CY91="■", $R91+$S91) -> FALSE | DA91: =IF($BB91="Voluntários de leitura", "■",0) -> 0 | DB91: =IF(DA91="■", $R91+$S91) -> FALSE | DC91: =IF($BB91="Outra(s)", "■",0) -> 0 | DD91: =IF(DC91="■", $R91+$S91) -> FALSE | DF91: =IF($BC91="Plano Nacional das Artes", "■",0) -> 0 | DG91: =IF(DF91="■", $R91+$S91) -> FALSE | DH91: =IF($BC91="Plano Nacional de Cinema", "■",0) -> 0 | DI91: =IF(DH91="■", $R91+$S91) -> FALSE | DJ91: =IF($BC91="Plano Nacional de Formação Financeira", "■",0) -> 0 | DK91: =IF(DJ91="■", $R91+$S91) -> FALSE | DL91: =IF($BC91="Outra(s)", "■",0) -> 0 | DM91: =IF(DL91="■", $R91+$S91) -> FALSE | DO91: =IF($BD91="Histórias com Ciência na Biblioteca Escolar", "■",0) -> 0 | DP91: =IF(DO91="■", $R91+$S91) -> FALSE | DQ91: =IF($BD91="Jornal escolar", "■",0) -> 0 | DR91: =IF(DQ91="■", $R91+$S91) -> FALSE | DS91: =IF($BD91="Rádio escolar", "■",0) -> 0 | DT91: =IF(DS91="■", $R91+$S91) -> FALSE | DU91: =IF($BD91="TV escolar", "■",0) -> 0 | DV91: =IF(DU91="■", $R91+$S91) -> FALSE | DW91: =IF($BD91="Outra(s)", "■",0) -> 0 | DX91: =IF(DW91="■", $R91+$S91) -> FALSE
B92: ='1. Plano anual atividades'!C94 -> 0 | D92: ='1. Plano anual atividades'!D94 -> 0 | E92: ='1. Plano anual atividades'!I94 -> 0 | F92: ='1. Plano anual atividades'!J94 -> 0 | G92: ='1. Plano anual atividades'!K94 -> 0 | H92: ='1. Plano anual atividades'!L94 -> 0 | I92: ='1. Plano anual atividades'!M94 -> 0 | J92: ='1. Plano anual atividades'!N94 -> 0 | K92: ='1. Plano anual atividades'!O94 -> 0 | L92: ='1. Plano anual atividades'!P94 -> 0 | ... N92: ='1. Plano anual atividades'!R94 -> 0 | Q92: =O92*P92 -> 0 | T92: =P92*R92 -> 0 | U92: =P92*S92 -> 0 | X92: =P92*V92 -> 0 | Y92: =P92*W92 -> 0 | AB92: ='1. Plano anual atividades'!E94 -> 0 | BE92: =IF($BB92="7 dias com os media", "■",0) -> 0 | BF92: =IF(BE92="■", $R92+$S92) -> FALSE | BG92: =IF($BB92="aLer mais e melhor", "■",0) -> 0 | BH92: =IF(BG92="■", $R92+$S92) -> FALSE | BI92: =IF($BB92="Campeonato de Escrita e Ciência Criativa", "■",0) -> 0 | BJ92: =IF(BI92="■", $R92+$S92) -> FALSE | BK92: =IF($BB92="Cientificamente provável", "■",0) -> 0 | BL92: =IF(BK92="■", $R92+$S92) -> FALSE | BM92: =IF($BB92="Clássicos em rede", "■",0) -> 0 | BN92: =IF(BM92="■", $R92+$S92) -> FALSE | BO92: =IF($BB92="Conto Contigo", "■",0) -> 0 | BP92: =IF(BO92="■", $R92+$S92) -> FALSE | BQ92: =IF($BB92="Dia da internet Mais Segura", "■",0) -> 0 | BR92: =IF(BQ92="■", $R92+$S92) -> FALSE | BS92: =IF($BB92="Dia Mundial da Língua Portuguesa", "■",0) -> 0 | BT92: =IF(BS92="■", $R92+$S92) -> FALSE | BU92: =IF($BB92="Isto também é comigo", "■",0) -> 0 | BV92: =IF(BU92="■", $R92+$S92) -> FALSE | BW92: =IF($BB92="Jornalistas em rede", "■",0) -> 0 | BX92: =IF(BW92="■", $R92+$S92) -> FALSE | BY92: =IF($BB92="Juntos a criar", "■",0) -> 0 | BZ92: =IF(BY92="■", $R92+$S92) -> FALSE | CA92: =IF($BB92="Ler eescrever mais com a BE", "■",0) -> 0 | CB92: =IF(CA92="■", $R92+$S92) -> FALSE | CC92: =IF($BB92="Ler fora da escola", "■",0) -> 0 | CD92: =IF(CC92="■", $R92+$S92) -> FALSE | CE92: =IF($BB92="Lidera", "■",0) -> 0 | CF92: =IF(CE92="■", $R92+$S92) -> FALSE | CG92: =IF($BB92="Media@ção", "■",0) -> 0 | CH92: =IF(CG92="■", $R92+$S92) -> FALSE | CI92: =IF($BB92="Mês Internacional da Biblioteca Escolar", "■",0) -> 0 | CJ92: =IF(CI92="■", $R92+$S92) -> FALSE | CK92: =IF($BB92="Miúdos a votos", "■",0) -> 0 | CL92: =IF(CK92="■", $R92+$S92) -> FALSE | CM92: =IF($BB92="Newton gostava de ler", "■",0) -> 0 | CN92: =IF(CM92="■", $R92+$S92) -> FALSE | CO92: =IF($BB92="Proliteracias", "■",0) -> 0 | CP92: =IF(CO92="■", $R92+$S92) -> FALSE | CQ92: =IF($BB92="PÚBLICO na Escola", "■",0) -> 0 | CR92: =IF(CQ92="■", $R92+$S92) -> FALSE | CS92: =IF($BB92="READ ON Portugal", "■",0) -> 0 | CT92: =IF(CS92="■", $R92+$S92) -> FALSE | CU92: =IF($BB92="Semana da leitura", "■",0) -> 0 | CV92: =IF(CU92="■", $R92+$S92) -> FALSE | CW92: =IF($BB92="Supercharged by IA", "■",0) -> 0 | CX92: =IF(CW92="■", $R92+$S92) -> FALSE | CY92: =IF($BB92="Todos Juntos Podemos Ler", "■",0) -> 0 | CZ92: =IF(CY92="■", $R92+$S92) -> FALSE | DA92: =IF($BB92="Voluntários de leitura", "■",0) -> 0 | DB92: =IF(DA92="■", $R92+$S92) -> FALSE | DC92: =IF($BB92="Outra(s)", "■",0) -> 0 | DD92: =IF(DC92="■", $R92+$S92) -> FALSE | DF92: =IF($BC92="Plano Nacional das Artes", "■",0) -> 0 | DG92: =IF(DF92="■", $R92+$S92) -> FALSE | DH92: =IF($BC92="Plano Nacional de Cinema", "■",0) -> 0 | DI92: =IF(DH92="■", $R92+$S92) -> FALSE | DJ92: =IF($BC92="Plano Nacional de Formação Financeira", "■",0) -> 0 | DK92: =IF(DJ92="■", $R92+$S92) -> FALSE | DL92: =IF($BC92="Outra(s)", "■",0) -> 0 | DM92: =IF(DL92="■", $R92+$S92) -> FALSE | DO92: =IF($BD92="Histórias com Ciência na Biblioteca Escolar", "■",0) -> 0 | DP92: =IF(DO92="■", $R92+$S92) -> FALSE | DQ92: =IF($BD92="Jornal escolar", "■",0) -> 0 | DR92: =IF(DQ92="■", $R92+$S92) -> FALSE | DS92: =IF($BD92="Rádio escolar", "■",0) -> 0 | DT92: =IF(DS92="■", $R92+$S92) -> FALSE | DU92: =IF($BD92="TV escolar", "■",0) -> 0 | DV92: =IF(DU92="■", $R92+$S92) -> FALSE | DW92: =IF($BD92="Outra(s)", "■",0) -> 0 | DX92: =IF(DW92="■", $R92+$S92) -> FALSE
B93: ='1. Plano anual atividades'!C95 -> 0 | D93: ='1. Plano anual atividades'!D95 -> 0 | E93: ='1. Plano anual atividades'!I95 -> 0 | F93: ='1. Plano anual atividades'!J95 -> 0 | G93: ='1. Plano anual atividades'!K95 -> 0 | H93: ='1. Plano anual atividades'!L95 -> 0 | I93: ='1. Plano anual atividades'!M95 -> 0 | J93: ='1. Plano anual atividades'!N95 -> 0 | K93: ='1. Plano anual atividades'!O95 -> 0 | L93: ='1. Plano anual atividades'!P95 -> 0 | ... N93: ='1. Plano anual atividades'!R95 -> 0 | Q93: =O93*P93 -> 0 | T93: =P93*R93 -> 0 | U93: =P93*S93 -> 0 | X93: =P93*V93 -> 0 | Y93: =P93*W93 -> 0 | AB93: ='1. Plano anual atividades'!E95 -> 0 | BE93: =IF($BB93="7 dias com os media", "■",0) -> 0 | BF93: =IF(BE93="■", $R93+$S93) -> FALSE | BG93: =IF($BB93="aLer mais e melhor", "■",0) -> 0 | BH93: =IF(BG93="■", $R93+$S93) -> FALSE | BI93: =IF($BB93="Campeonato de Escrita e Ciência Criativa", "■",0) -> 0 | BJ93: =IF(BI93="■", $R93+$S93) -> FALSE | BK93: =IF($BB93="Cientificamente provável", "■",0) -> 0 | BL93: =IF(BK93="■", $R93+$S93) -> FALSE | BM93: =IF($BB93="Clássicos em rede", "■",0) -> 0 | BN93: =IF(BM93="■", $R93+$S93) -> FALSE | BO93: =IF($BB93="Conto Contigo", "■",0) -> 0 | BP93: =IF(BO93="■", $R93+$S93) -> FALSE | BQ93: =IF($BB93="Dia da internet Mais Segura", "■",0) -> 0 | BR93: =IF(BQ93="■", $R93+$S93) -> FALSE | BS93: =IF($BB93="Dia Mundial da Língua Portuguesa", "■",0) -> 0 | BT93: =IF(BS93="■", $R93+$S93) -> FALSE | BU93: =IF($BB93="Isto também é comigo", "■",0) -> 0 | BV93: =IF(BU93="■", $R93+$S93) -> FALSE | BW93: =IF($BB93="Jornalistas em rede", "■",0) -> 0 | BX93: =IF(BW93="■", $R93+$S93) -> FALSE | BY93: =IF($BB93="Juntos a criar", "■",0) -> 0 | BZ93: =IF(BY93="■", $R93+$S93) -> FALSE | CA93: =IF($BB93="Ler eescrever mais com a BE", "■",0) -> 0 | CB93: =IF(CA93="■", $R93+$S93) -> FALSE | CC93: =IF($BB93="Ler fora da escola", "■",0) -> 0 | CD93: =IF(CC93="■", $R93+$S93) -> FALSE | CE93: =IF($BB93="Lidera", "■",0) -> 0 | CF93: =IF(CE93="■", $R93+$S93) -> FALSE | CG93: =IF($BB93="Media@ção", "■",0) -> 0 | CH93: =IF(CG93="■", $R93+$S93) -> FALSE | CI93: =IF($BB93="Mês Internacional da Biblioteca Escolar", "■",0) -> 0 | CJ93: =IF(CI93="■", $R93+$S93) -> FALSE | CK93: =IF($BB93="Miúdos a votos", "■",0) -> 0 | CL93: =IF(CK93="■", $R93+$S93) -> FALSE | CM93: =IF($BB93="Newton gostava de ler", "■",0) -> 0 | CN93: =IF(CM93="■", $R93+$S93) -> FALSE | CO93: =IF($BB93="Proliteracias", "■",0) -> 0 | CP93: =IF(CO93="■", $R93+$S93) -> FALSE | CQ93: =IF($BB93="PÚBLICO na Escola", "■",0) -> 0 | CR93: =IF(CQ93="■", $R93+$S93) -> FALSE | CS93: =IF($BB93="READ ON Portugal", "■",0) -> 0 | CT93: =IF(CS93="■", $R93+$S93) -> FALSE | CU93: =IF($BB93="Semana da leitura", "■",0) -> 0 | CV93: =IF(CU93="■", $R93+$S93) -> FALSE | CW93: =IF($BB93="Supercharged by IA", "■",0) -> 0 | CX93: =IF(CW93="■", $R93+$S93) -> FALSE | CY93: =IF($BB93="Todos Juntos Podemos Ler", "■",0) -> 0 | CZ93: =IF(CY93="■", $R93+$S93) -> FALSE | DA93: =IF($BB93="Voluntários de leitura", "■",0) -> 0 | DB93: =IF(DA93="■", $R93+$S93) -> FALSE | DC93: =IF($BB93="Outra(s)", "■",0) -> 0 | DD93: =IF(DC93="■", $R93+$S93) -> FALSE | DF93: =IF($BC93="Plano Nacional das Artes", "■",0) -> 0 | DG93: =IF(DF93="■", $R93+$S93) -> FALSE | DH93: =IF($BC93="Plano Nacional de Cinema", "■",0) -> 0 | DI93: =IF(DH93="■", $R93+$S93) -> FALSE | DJ93: =IF($BC93="Plano Nacional de Formação Financeira", "■",0) -> 0 | DK93: =IF(DJ93="■", $R93+$S93) -> FALSE | DL93: =IF($BC93="Outra(s)", "■",0) -> 0 | DM93: =IF(DL93="■", $R93+$S93) -> FALSE | DO93: =IF($BD93="Histórias com Ciência na Biblioteca Escolar", "■",0) -> 0 | DP93: =IF(DO93="■", $R93+$S93) -> FALSE | DQ93: =IF($BD93="Jornal escolar", "■",0) -> 0 | DR93: =IF(DQ93="■", $R93+$S93) -> FALSE | DS93: =IF($BD93="Rádio escolar", "■",0) -> 0 | DT93: =IF(DS93="■", $R93+$S93) -> FALSE | DU93: =IF($BD93="TV escolar", "■",0) -> 0 | DV93: =IF(DU93="■", $R93+$S93) -> FALSE | DW93: =IF($BD93="Outra(s)", "■",0) -> 0 | DX93: =IF(DW93="■", $R93+$S93) -> FALSE
